BEGIN:VCALENDAR
PRODID:-//eluceo/ical//2.0/EN
VERSION:2.0
CALSCALE:GREGORIAN
BEGIN:VEVENT
UID:286beffe21943a3a1fa23695a927fe25
DTSTAMP:20260422T113408Z
SUMMARY:[Männer Landesliga] EK Höfingen  - CVJM SG Mössingen/Belsen 
URL:https://www.eichenkreuzliga.de/handball/game/id/10428
DTSTART:20200111T190000
DTEND:20200111T200000
LOCATION:Strohgäuhalle\, 71229 Höfingen
END:VEVENT
BEGIN:VEVENT
UID:00f322b47c2b406a62435fe1d0b9ffd4
DTSTAMP:20260422T113408Z
SUMMARY:[Männer Landesliga] CVJM HB Dußlingen-Gomaringen  - CVJM  Walddor
 fhäslach 
URL:https://www.eichenkreuzliga.de/handball/game/id/10429
DTSTART:20200118T193000
DTEND:20200118T203000
LOCATION:Hönisch Sporthalle\, 72144 Dusslingen
END:VEVENT
BEGIN:VEVENT
UID:cc13d189038897efae1cb0e5ccce3a8b
DTSTAMP:20260422T113408Z
SUMMARY:[Männer Landesliga] EK Köngen  - CVJM Möglingen 
URL:https://www.eichenkreuzliga.de/handball/game/id/10430
DTSTART:20200118T190000
DTEND:20200118T200000
LOCATION:Burgschulhalle\, 73257 Köngen
END:VEVENT
BEGIN:VEVENT
UID:80ea6f7e7d6a6e30128e0c1f94b5284b
DTSTAMP:20260422T113408Z
SUMMARY:[Männer Landesliga] CVJM SG Mössingen/Belsen  - CVJM HB Dußlinge
 n-Gomaringen 
URL:https://www.eichenkreuzliga.de/handball/game/id/10431
DTSTART:20200125T200000
DTEND:20200125T210000
LOCATION:Jahnhalle 2\, 72116 Mössingen
END:VEVENT
BEGIN:VEVENT
UID:0f29117bf7b16e47e64b62fb8174fb21
DTSTAMP:20260422T113408Z
SUMMARY:[Männer Landesliga] EK Köngen  - CVJM SG Mössingen/Belsen 
URL:https://www.eichenkreuzliga.de/handball/game/id/10433
DTSTART:20200202T180000
DTEND:20200202T190000
LOCATION:Burgschulhalle\, 73257 Köngen
END:VEVENT
BEGIN:VEVENT
UID:96dfe9428572d91fdef9582a2113c44e
DTSTAMP:20260422T113408Z
SUMMARY:[Männer Landesliga] EK Höfingen  - CVJM Möglingen 
URL:https://www.eichenkreuzliga.de/handball/game/id/10434
DTSTART:20200201T180000
DTEND:20200201T190000
LOCATION:Strohgäuhalle\, 71229 Höfingen
END:VEVENT
BEGIN:VEVENT
UID:644a88c10c1f0e0a0e0136155592f3cb
DTSTAMP:20260422T113408Z
SUMMARY:[Männer Landesliga] CVJM  Walddorfhäslach  - EK Köngen 
URL:https://www.eichenkreuzliga.de/handball/game/id/10435
DTSTART:20200208T180000
DTEND:20200208T190000
LOCATION:Ballspielhalle\, 72141 Walddorfhäslach
END:VEVENT
BEGIN:VEVENT
UID:18c3bb1c31a901b1e75a82ba83b6f906
DTSTAMP:20260422T113408Z
SUMMARY:[Männer Landesliga] CVJM SG Mössingen/Belsen  - CVJM  Walddorfhä
 slach 
URL:https://www.eichenkreuzliga.de/handball/game/id/10440
DTSTART:20200215T201500
DTEND:20200215T211500
LOCATION:Jahnhalle 2\, 72116 Mössingen
END:VEVENT
BEGIN:VEVENT
UID:583b5fe676b860e41e8ca6663261eb1a
DTSTAMP:20260422T113408Z
SUMMARY:[Männer Landesliga] CVJM Möglingen  - CVJM HB Dußlingen-Gomaring
 en 
URL:https://www.eichenkreuzliga.de/handball/game/id/10441
DTSTART:20200215T180000
DTEND:20200215T190000
LOCATION:Stadionhalle\, 71696 Möglingen
END:VEVENT
BEGIN:VEVENT
UID:770828a7206fb6f327aa04cfbda14958
DTSTAMP:20260422T113408Z
SUMMARY:[Männer Landesliga] CVJM HB Dußlingen-Gomaringen  - EK Köngen 
URL:https://www.eichenkreuzliga.de/handball/game/id/10443
DTSTART:20200308T174500
DTEND:20200308T184500
LOCATION:Hönisch Sporthalle\, 72144 Dusslingen
END:VEVENT
BEGIN:VEVENT
UID:b7194933375f8612a1e86c2c06584780
DTSTAMP:20260422T113408Z
SUMMARY:[Männer Landesliga] EK Köngen  - EK Höfingen 
URL:https://www.eichenkreuzliga.de/handball/game/id/10444
DTSTART:20200215T193000
DTEND:20200215T203000
LOCATION:Burgschulhalle\, 73257 Köngen
END:VEVENT
BEGIN:VEVENT
UID:9d4e366c6c4c7190b1ef1c13d57db497
DTSTAMP:20260422T113408Z
SUMMARY:[Männer Landesliga] CVJM Möglingen  - CVJM SG Mössingen/Belsen 
URL:https://www.eichenkreuzliga.de/handball/game/id/10445
DTSTART:20200307T180000
DTEND:20200307T190000
LOCATION:Stadionhalle\, 71696 Möglingen
END:VEVENT
BEGIN:VEVENT
UID:c2877bf3ad10959ef248c7866ff2e75c
DTSTAMP:20260422T113408Z
SUMMARY:[Männer Landesliga] CVJM  Walddorfhäslach  - CVJM Möglingen 
URL:https://www.eichenkreuzliga.de/handball/game/id/10446
DTSTART:20200314T181500
DTEND:20200314T191500
LOCATION:Ballspielhalle\, 72141 Walddorfhäslach
END:VEVENT
BEGIN:VEVENT
UID:6ead05970a4d5bc43aaae2b9ab559b5e
DTSTAMP:20260422T113408Z
SUMMARY:[Männer Landesliga] EK Höfingen  - CVJM HB Dußlingen-Gomaringen 
URL:https://www.eichenkreuzliga.de/handball/game/id/10448
DTSTART:20200229T180000
DTEND:20200229T190000
LOCATION:Strohgäuhalle\, 71229 Höfingen
END:VEVENT
BEGIN:VEVENT
UID:8e5f7245109424819058b77a88faa715
DTSTAMP:20260422T113408Z
SUMMARY:[Männer Landesliga] EK Höfingen  - EK Köngen 
URL:https://www.eichenkreuzliga.de/handball/game/id/10503
DTSTART:20191019T190000
DTEND:20191019T200000
LOCATION:Strohgäuhalle\, 71229 Höfingen
END:VEVENT
BEGIN:VEVENT
UID:27e49d00108aadc937e0f3ed60f6a223
DTSTAMP:20260422T113408Z
SUMMARY:[Männer Landesliga] CVJM Möglingen  - EK Köngen 
URL:https://www.eichenkreuzliga.de/handball/game/id/10506
DTSTART:20191012T180000
DTEND:20191012T190000
LOCATION:Stadionhalle\, 71696 Möglingen
END:VEVENT
BEGIN:VEVENT
UID:9e902b93f792bebe8257bc632ec028f6
DTSTAMP:20260422T113408Z
SUMMARY:[Männer Landesliga] CVJM SG Mössingen/Belsen  - CVJM Möglingen 
URL:https://www.eichenkreuzliga.de/handball/game/id/10507
DTSTART:20191019T190000
DTEND:20191019T200000
LOCATION:Jahnhalle 2\, 72116 Mössingen
END:VEVENT
BEGIN:VEVENT
UID:49d224e4d650f9e03dea6bdb63d174c3
DTSTAMP:20260422T113408Z
SUMMARY:[Männer Landesliga] CVJM SG Mössingen/Belsen  - EK Höfingen 
URL:https://www.eichenkreuzliga.de/handball/game/id/10508
DTSTART:20191109T193000
DTEND:20191109T203000
LOCATION:Jahnhalle 2\, 72116 Mössingen
END:VEVENT
BEGIN:VEVENT
UID:10270a7e2b3a2b6155b1c1f1ed64466d
DTSTAMP:20260422T113408Z
SUMMARY:[Männer Landesliga] CVJM SG Mössingen/Belsen  - EK Köngen 
URL:https://www.eichenkreuzliga.de/handball/game/id/10509
DTSTART:20191123T190000
DTEND:20191123T200000
LOCATION:Jahnhalle 2\, 72116 Mössingen
END:VEVENT
BEGIN:VEVENT
UID:a4fc8750bd7a7e53e956db21769d312e
DTSTAMP:20260422T113408Z
SUMMARY:[Männer Landesliga] CVJM HB Dußlingen-Gomaringen  - CVJM Mögling
 en 
URL:https://www.eichenkreuzliga.de/handball/game/id/10510
DTSTART:20191207T180000
DTEND:20191207T190000
LOCATION:Hönisch Sporthalle\, 72144 Dusslingen
END:VEVENT
BEGIN:VEVENT
UID:1fa5b98d2e96517a414e31b53ae19bf5
DTSTAMP:20260422T113408Z
SUMMARY:[Männer Landesliga] CVJM HB Dußlingen-Gomaringen  - CVJM SG Möss
 ingen/Belsen 
URL:https://www.eichenkreuzliga.de/handball/game/id/10511
DTSTART:20191012T200000
DTEND:20191012T210000
LOCATION:Hönisch Sporthalle\, 72144 Dusslingen
END:VEVENT
BEGIN:VEVENT
UID:75c79e5b29a9bfb9e77a66e24dbf800f
DTSTAMP:20260422T113408Z
SUMMARY:[Männer Landesliga] CVJM Möglingen  - CVJM  Walddorfhäslach 
URL:https://www.eichenkreuzliga.de/handball/game/id/10513
DTSTART:20191116T180000
DTEND:20191116T190000
LOCATION:Stadionhalle\, 71696 Möglingen
END:VEVENT
BEGIN:VEVENT
UID:2b95cdbc093d7b7274aef1f3f260810c
DTSTAMP:20260422T113408Z
SUMMARY:[Männer Landesliga] CVJM Möglingen  - EK Höfingen 
URL:https://www.eichenkreuzliga.de/handball/game/id/10514
DTSTART:20191123T180000
DTEND:20191123T190000
LOCATION:Stadionhalle\, 71696 Möglingen
END:VEVENT
BEGIN:VEVENT
UID:a926e82454ade891d466550b75cd92c6
DTSTAMP:20260422T113408Z
SUMMARY:[Männer Landesliga] CVJM HB Dußlingen-Gomaringen  - EK Höfingen 
URL:https://www.eichenkreuzliga.de/handball/game/id/10515
DTSTART:20191116T194500
DTEND:20191116T204500
LOCATION:Hönisch Sporthalle\, 72144 Dusslingen
END:VEVENT
BEGIN:VEVENT
UID:3176c877b168ea57d256975efeb53367
DTSTAMP:20260422T113408Z
SUMMARY:[Männer Landesliga] EK Köngen  - CVJM  Walddorfhäslach 
URL:https://www.eichenkreuzliga.de/handball/game/id/10518
DTSTART:20191026T190000
DTEND:20191026T200000
LOCATION:Burgschulhalle\, 73257 Köngen
END:VEVENT
BEGIN:VEVENT
UID:cb37a167f07311f67d1765b9e25f4c93
DTSTAMP:20260422T113408Z
SUMMARY:[Männer Landesliga] EK Köngen  - CVJM HB Dußlingen-Gomaringen 
URL:https://www.eichenkreuzliga.de/handball/game/id/10519
DTSTART:20191130T194500
DTEND:20191130T204500
LOCATION:Burgschulhalle\, 73257 Köngen
END:VEVENT
BEGIN:VEVENT
UID:30bd0f42cdf9cf388e397e2fd7372020
DTSTAMP:20260422T113408Z
SUMMARY:[Männer Landesliga] CVJM  Walddorfhäslach  - CVJM HB Dußlingen-G
 omaringen 
URL:https://www.eichenkreuzliga.de/handball/game/id/10520
DTSTART:20191020T173000
DTEND:20191020T183000
LOCATION:Ballspielhalle\, 72141 Walddorfhäslach
END:VEVENT
BEGIN:VEVENT
UID:6d859e6ef76fa7fd65a65d12d2d84bd7
DTSTAMP:20260422T113408Z
SUMMARY:[Männer Landesliga] EK Höfingen  - CVJM  Walddorfhäslach 
URL:https://www.eichenkreuzliga.de/handball/game/id/10523
DTSTART:20191130T180000
DTEND:20191130T190000
LOCATION:Strohgäuhalle\, 71229 Höfingen
END:VEVENT
BEGIN:VEVENT
UID:b9097cf7f41b8988595df883a282c543
DTSTAMP:20260422T113408Z
SUMMARY:[Männer Landesliga] CVJM  Walddorfhäslach  - EK Höfingen 
URL:https://www.eichenkreuzliga.de/handball/game/id/10524
DTSTART:20200126T173000
DTEND:20200126T183000
LOCATION:Ballspielhalle\, 72141 Walddorfhäslach
END:VEVENT
BEGIN:VEVENT
UID:db225fbeca7b5b173fa993cb39a973dc
DTSTAMP:20260422T113408Z
SUMMARY:[Männer Landesliga] CVJM  Walddorfhäslach  - CVJM SG Mössingen/B
 elsen 
URL:https://www.eichenkreuzliga.de/handball/game/id/11038
DTSTART:20191214T190000
DTEND:20191214T200000
LOCATION:Ballspielhalle\, 72141 Walddorfhäslach
END:VEVENT
END:VCALENDAR
