BEGIN:VCALENDAR
PRODID:-//eluceo/ical//2.0/EN
VERSION:2.0
CALSCALE:GREGORIAN
BEGIN:VEVENT
UID:b43ce949c258d4d8dfc1d918dd0bc52b
DTSTAMP:20260422T071019Z
SUMMARY:[Männer LK 2] CVJM Hülben  - CVJM Flacht 
URL:https://www.eichenkreuzliga.de/handball/game/id/10534
DTSTART:20191019T174500
DTEND:20191019T184500
LOCATION:Falkensteinhalle\, 72582 Grabenstetten
END:VEVENT
BEGIN:VEVENT
UID:55183dedce717919ebb82e17f0250bad
DTSTAMP:20260422T071019Z
SUMMARY:[Männer LK 2] CVJM Hülben  - CVJM Kirchentellinsfurt 
URL:https://www.eichenkreuzliga.de/handball/game/id/10535
DTSTART:20191214T163000
DTEND:20191214T173000
LOCATION:Falkensteinhalle\, 72582 Grabenstetten
END:VEVENT
BEGIN:VEVENT
UID:b805f135684effe0a2f71dd42b7ca776
DTSTAMP:20260422T071019Z
SUMMARY:[Männer LK 2] CVJM Hülben  - CVJM SG Mössingen/Belsen 1b
URL:https://www.eichenkreuzliga.de/handball/game/id/10536
DTSTART:20191116T170000
DTEND:20191116T180000
LOCATION:Falkensteinhalle\, 72582 Grabenstetten
END:VEVENT
BEGIN:VEVENT
UID:a5e276857f96832212a576ccc8da97b6
DTSTAMP:20260422T071019Z
SUMMARY:[Männer LK 2] EK Köngen 1b - CVJM Hülben 
URL:https://www.eichenkreuzliga.de/handball/game/id/10540
DTSTART:20191013T170000
DTEND:20191013T180000
LOCATION:Burgschulhalle\, 73257 Köngen
END:VEVENT
BEGIN:VEVENT
UID:7cdc31abcd138c743f6154d8be456dbc
DTSTAMP:20260422T071019Z
SUMMARY:[Männer LK 2] CVJM Kirchentellinsfurt  - CVJM SG Mössingen/Belsen
  1b
URL:https://www.eichenkreuzliga.de/handball/game/id/10541
DTSTART:20191012T170000
DTEND:20191012T180000
LOCATION:Sporthalle\, 72138 Kirchentellinsfurt
END:VEVENT
BEGIN:VEVENT
UID:f5a45ceac2a72578cd1b70d12f1ed523
DTSTAMP:20260422T071019Z
SUMMARY:[Männer LK 2] CVJM Flacht  - CVJM Hagelloch - Kusterdingen 1
URL:https://www.eichenkreuzliga.de/handball/game/id/10542
DTSTART:20191012T180000
DTEND:20191012T190000
LOCATION:Sporthalle Flacht\, 71287 Weissach
END:VEVENT
BEGIN:VEVENT
UID:32bde49f13d2132f600a7395719fed71
DTSTAMP:20260422T071019Z
SUMMARY:[Männer LK 2] CVJM SG Mössingen/Belsen 1b - EK Köngen 1b
URL:https://www.eichenkreuzliga.de/handball/game/id/10544
DTSTART:20191019T171500
DTEND:20191019T181500
LOCATION:Jahnhalle 2\, 72116 Mössingen
END:VEVENT
BEGIN:VEVENT
UID:e74d9c075ac0dd2251a329f8a5affa40
DTSTAMP:20260422T071019Z
SUMMARY:[Männer LK 2] CVJM SG Mössingen/Belsen 1b - CVJM Flacht 
URL:https://www.eichenkreuzliga.de/handball/game/id/10546
DTSTART:20191109T174500
DTEND:20191109T184500
LOCATION:Jahnhalle 2\, 72116 Mössingen
END:VEVENT
BEGIN:VEVENT
UID:8c14146e540e4af5cecb262c80d88a9c
DTSTAMP:20260422T071019Z
SUMMARY:[Männer LK 2] EK Bernhausen  - CVJM Hagelloch - Kusterdingen 1
URL:https://www.eichenkreuzliga.de/handball/game/id/10552
DTSTART:20191116T194500
DTEND:20191116T204500
LOCATION:Elisabeth-Selbert-Gymnasium Halle\, 70794 Bernhausen
END:VEVENT
BEGIN:VEVENT
UID:ff0ee85720fefb6696ec43187db768e0
DTSTAMP:20260422T071019Z
SUMMARY:[Männer LK 2] CVJM SG Mössingen/Belsen 1b - CVJM Hagelloch - Kust
 erdingen 1
URL:https://www.eichenkreuzliga.de/handball/game/id/10554
DTSTART:20191123T173000
DTEND:20191123T183000
LOCATION:Jahnhalle 2\, 72116 Mössingen
END:VEVENT
BEGIN:VEVENT
UID:0aadfddc366fb7943cfe5fbbc1757432
DTSTAMP:20260422T071019Z
SUMMARY:[Männer LK 2] CVJM Hagelloch - Kusterdingen 1 - EK Köngen 1b
URL:https://www.eichenkreuzliga.de/handball/game/id/10556
DTSTART:20191130T190000
DTEND:20191130T200000
LOCATION:Sporthalle Waldhäuser-Ost\, 72076 Tübingen
END:VEVENT
BEGIN:VEVENT
UID:14f7cf12da8dfa75c9db09b2131ae98e
DTSTAMP:20260422T071019Z
SUMMARY:[Männer LK 2] EK Bernhausen  - CVJM Hülben 
URL:https://www.eichenkreuzliga.de/handball/game/id/10563
DTSTART:20191109T160000
DTEND:20191109T170000
LOCATION:Elisabeth-Selbert-Gymnasium Halle\, 70794 Bernhausen
END:VEVENT
BEGIN:VEVENT
UID:6396dbc70090bc617fc1428ad21b7f7b
DTSTAMP:20260422T071019Z
SUMMARY:[Männer LK 2] CVJM Hagelloch - Kusterdingen 1 - CVJM Kirchentellin
 sfurt 
URL:https://www.eichenkreuzliga.de/handball/game/id/10564
DTSTART:20191109T190000
DTEND:20191109T200000
LOCATION:Sporthalle Waldhäuser-Ost\, 72076 Tübingen
END:VEVENT
BEGIN:VEVENT
UID:01034f5e04d8d9e90e585056da333a7c
DTSTAMP:20260422T071019Z
SUMMARY:[Männer LK 2] EK Köngen 1b - CVJM Kirchentellinsfurt 
URL:https://www.eichenkreuzliga.de/handball/game/id/10565
DTSTART:20191208T174500
DTEND:20191208T184500
LOCATION:Burgschulhalle\, 73257 Köngen
END:VEVENT
BEGIN:VEVENT
UID:ed94d37c6b876891d3d2b253e2ee7088
DTSTAMP:20260422T071019Z
SUMMARY:[Männer LK 2] CVJM Hülben  - CVJM Hagelloch - Kusterdingen 1
URL:https://www.eichenkreuzliga.de/handball/game/id/10566
DTSTART:20191103T170000
DTEND:20191103T180000
LOCATION:Falkensteinhalle\, 72582 Grabenstetten
END:VEVENT
BEGIN:VEVENT
UID:d501e602246a26f86325a610c9164858
DTSTAMP:20260422T071019Z
SUMMARY:[Männer LK 2] CVJM Kirchentellinsfurt  - CVJM Flacht 
URL:https://www.eichenkreuzliga.de/handball/game/id/10568
DTSTART:20191201T184500
DTEND:20191201T194500
LOCATION:Sporthalle\, 72138 Kirchentellinsfurt
END:VEVENT
BEGIN:VEVENT
UID:d60d52b74b8065757d0825d7adc5c405
DTSTAMP:20260422T071019Z
SUMMARY:[Männer LK 2] CVJM Flacht  - EK Köngen 1b
URL:https://www.eichenkreuzliga.de/handball/game/id/10569
DTSTART:20191214T180000
DTEND:20191214T190000
LOCATION:Sporthalle Flacht\, 71287 Weissach
END:VEVENT
BEGIN:VEVENT
UID:2aaf14da4c4727b3e245076384e54f13
DTSTAMP:20260422T071019Z
SUMMARY:[Männer LK 2] CVJM Hagelloch - Kusterdingen 1 - CVJM Flacht 
URL:https://www.eichenkreuzliga.de/handball/game/id/10570
DTSTART:20200119T183000
DTEND:20200119T193000
LOCATION:Sporthalle Waldhäuser-Ost\, 72076 Tübingen
END:VEVENT
BEGIN:VEVENT
UID:57be589d7cab4bebc966fb75e31116c6
DTSTAMP:20260422T071019Z
SUMMARY:[Männer LK 2] CVJM Hagelloch - Kusterdingen 1 - CVJM Hülben 
URL:https://www.eichenkreuzliga.de/handball/game/id/10571
DTSTART:20200208T180000
DTEND:20200208T190000
LOCATION:Kreissporthalle Tübingen\, 72072 Tübingen
END:VEVENT
BEGIN:VEVENT
UID:15c0d8dcd6f9bba5b30832063cbeed75
DTSTAMP:20260422T071019Z
SUMMARY:[Männer LK 2] CVJM Kirchentellinsfurt  - CVJM Hagelloch - Kusterdi
 ngen 1
URL:https://www.eichenkreuzliga.de/handball/game/id/10575
DTSTART:20200111T200000
DTEND:20200111T210000
LOCATION:Sporthalle\, 72138 Kirchentellinsfurt
END:VEVENT
BEGIN:VEVENT
UID:5b3b1e559758e593eda665f95bc21ca9
DTSTAMP:20260422T071019Z
SUMMARY:[Männer LK 2] CVJM Kirchentellinsfurt  - CVJM Hülben 
URL:https://www.eichenkreuzliga.de/handball/game/id/10576
DTSTART:20200307T191500
DTEND:20200307T201500
LOCATION:Sporthalle\, 72138 Kirchentellinsfurt
END:VEVENT
BEGIN:VEVENT
UID:91d0db8bee6871724905e602f5645477
DTSTAMP:20260422T071019Z
SUMMARY:[Männer LK 2] CVJM Flacht  - CVJM Hülben 
URL:https://www.eichenkreuzliga.de/handball/game/id/10579
DTSTART:20200111T180000
DTEND:20200111T190000
LOCATION:Sporthalle Flacht\, 71287 Weissach
END:VEVENT
BEGIN:VEVENT
UID:ac11a9ef96344bb7d8d7360482a781b9
DTSTAMP:20260422T071019Z
SUMMARY:[Männer LK 2] CVJM Flacht  - CVJM Kirchentellinsfurt 
URL:https://www.eichenkreuzliga.de/handball/game/id/10580
DTSTART:20200125T180000
DTEND:20200125T190000
LOCATION:Sporthalle Flacht\, 71287 Weissach
END:VEVENT
BEGIN:VEVENT
UID:d7277be58d4243a5fa3ed3844b189ab2
DTSTAMP:20260422T071019Z
SUMMARY:[Männer LK 2] CVJM Hagelloch - Kusterdingen 1 - EK Bernhausen 
URL:https://www.eichenkreuzliga.de/handball/game/id/10581
DTSTART:20200307T170000
DTEND:20200307T180000
LOCATION:Sporthalle Waldhäuser-Ost\, 72076 Tübingen
END:VEVENT
BEGIN:VEVENT
UID:fa14451502682b4c28bff18f9c0eabc9
DTSTAMP:20260422T071019Z
SUMMARY:[Männer LK 2] EK Köngen 1b - CVJM Flacht 
URL:https://www.eichenkreuzliga.de/handball/game/id/10585
DTSTART:20200202T163000
DTEND:20200202T173000
LOCATION:Burgschulhalle\, 73257 Köngen
END:VEVENT
BEGIN:VEVENT
UID:6ba3f248ff9088204473499b0960b380
DTSTAMP:20260422T071019Z
SUMMARY:[Männer LK 2] CVJM Hülben  - EK Bernhausen 
URL:https://www.eichenkreuzliga.de/handball/game/id/10587
DTSTART:20200322T173000
DTEND:20200322T183000
LOCATION:Falkensteinhalle\, 72582 Grabenstetten
END:VEVENT
BEGIN:VEVENT
UID:e0fe8e65a466d98e0d21b25e98eb75fc
DTSTAMP:20260422T071019Z
SUMMARY:[Männer LK 2] CVJM SG Mössingen/Belsen 1b - CVJM Kirchentellinsfu
 rt 
URL:https://www.eichenkreuzliga.de/handball/game/id/10589
DTSTART:20200321T183000
DTEND:20200321T193000
LOCATION:Jahnhalle 2\, 72116 Mössingen
END:VEVENT
BEGIN:VEVENT
UID:951dd26569de0243e93799354db6a76e
DTSTAMP:20260422T071019Z
SUMMARY:[Männer LK 2] EK Bernhausen  - CVJM Flacht 
URL:https://www.eichenkreuzliga.de/handball/game/id/10590
DTSTART:20200208T154500
DTEND:20200208T164500
LOCATION:Elisabeth-Selbert-Gymnasium Halle\, 70794 Bernhausen
END:VEVENT
BEGIN:VEVENT
UID:91d1729b3aa0a959639ad4d97d373e29
DTSTAMP:20260422T071019Z
SUMMARY:[Männer LK 2] EK Köngen 1b - CVJM Hagelloch - Kusterdingen 1
URL:https://www.eichenkreuzliga.de/handball/game/id/10591
DTSTART:20200215T180000
DTEND:20200215T190000
LOCATION:Burgschulhalle\, 73257 Köngen
END:VEVENT
BEGIN:VEVENT
UID:c94d98dda54c0e387f36a63af2672464
DTSTAMP:20260422T071019Z
SUMMARY:[Männer LK 2] CVJM SG Mössingen/Belsen 1b - EK Bernhausen 
URL:https://www.eichenkreuzliga.de/handball/game/id/10592
DTSTART:20200201T191500
DTEND:20200201T201500
LOCATION:Jahnhalle 2\, 72116 Mössingen
END:VEVENT
BEGIN:VEVENT
UID:1ba97fc7dec50cc1e784eea4e7871b10
DTSTAMP:20260422T071019Z
SUMMARY:[Männer LK 2] EK Bernhausen  - EK Köngen 1b
URL:https://www.eichenkreuzliga.de/handball/game/id/10593
DTSTART:20200111T170000
DTEND:20200111T180000
LOCATION:Elisabeth-Selbert-Gymnasium Halle\, 70794 Bernhausen
END:VEVENT
BEGIN:VEVENT
UID:d152a4e7454b0793343928e25a4605d1
DTSTAMP:20260422T071019Z
SUMMARY:[Männer LK 2] CVJM Kirchentellinsfurt  - EK Köngen 1b
URL:https://www.eichenkreuzliga.de/handball/game/id/10594
DTSTART:20200328T193000
DTEND:20200328T203000
LOCATION:Sporthalle\, 72138 Kirchentellinsfurt
END:VEVENT
BEGIN:VEVENT
UID:4b496c74b8c26ae43d366440b6176cdc
DTSTAMP:20260422T071019Z
SUMMARY:[Männer LK 2] EK Köngen 1b - EK Bernhausen 
URL:https://www.eichenkreuzliga.de/handball/game/id/10599
DTSTART:20191026T170000
DTEND:20191026T180000
LOCATION:Burgschulhalle\, 73257 Köngen
END:VEVENT
BEGIN:VEVENT
UID:877e6294de1fb180fc1c9822b0da9cd2
DTSTAMP:20260422T071019Z
SUMMARY:[Männer LK 2] CVJM Hülben  - EK Köngen 1b
URL:https://www.eichenkreuzliga.de/handball/game/id/10600
DTSTART:20200125T180000
DTEND:20200125T190000
LOCATION:Falkensteinhalle\, 72582 Grabenstetten
END:VEVENT
BEGIN:VEVENT
UID:7188688f9b515cf0e8a61bc73fc44adc
DTSTAMP:20260422T071019Z
SUMMARY:[Männer LK 2] CVJM SG Mössingen/Belsen 1b - CVJM Hülben 
URL:https://www.eichenkreuzliga.de/handball/game/id/10601
DTSTART:20200119T160000
DTEND:20200119T170000
LOCATION:Jahnhalle 2\, 72116 Mössingen
END:VEVENT
BEGIN:VEVENT
UID:9757f8088a104c2f4192b09816a0966d
DTSTAMP:20260422T071019Z
SUMMARY:[Männer LK 2] EK Köngen 1b - CVJM SG Mössingen/Belsen 1b
URL:https://www.eichenkreuzliga.de/handball/game/id/10602
DTSTART:20200307T183000
DTEND:20200307T193000
LOCATION:Burgschulhalle\, 73257 Köngen
END:VEVENT
BEGIN:VEVENT
UID:4ba1e56ec19d2cad024fa268967d1df8
DTSTAMP:20260422T071019Z
SUMMARY:[Männer LK 2] CVJM Flacht  - CVJM SG Mössingen/Belsen 1b
URL:https://www.eichenkreuzliga.de/handball/game/id/10603
DTSTART:20200328T170000
DTEND:20200328T180000
LOCATION:Sporthalle Flacht\, 71287 Weissach
END:VEVENT
BEGIN:VEVENT
UID:9b905748bf6c76b96a9d722a4ff205e2
DTSTAMP:20260422T071019Z
SUMMARY:[Männer LK 2] CVJM Hagelloch - Kusterdingen 1 - CVJM SG Mössingen
 /Belsen 1b
URL:https://www.eichenkreuzliga.de/handball/game/id/10604
DTSTART:20200315T180000
DTEND:20200315T190000
LOCATION:Kreissporthalle Tübingen\, 72072 Tübingen
END:VEVENT
BEGIN:VEVENT
UID:5022ce42fbfa88e8ef92c4028b6732ba
DTSTAMP:20260422T071019Z
SUMMARY:[Männer LK 2] CVJM Kirchentellinsfurt  - EK Bernhausen 
URL:https://www.eichenkreuzliga.de/handball/game/id/10605
DTSTART:20191020T170000
DTEND:20191020T180000
LOCATION:Sporthalle\, 72138 Kirchentellinsfurt
END:VEVENT
BEGIN:VEVENT
UID:ec19611c09e20d11a37ba9c8d61f6ad0
DTSTAMP:20260422T071019Z
SUMMARY:[Männer LK 2] EK Bernhausen  - CVJM Kirchentellinsfurt 
URL:https://www.eichenkreuzliga.de/handball/game/id/10606
DTSTART:20200314T174500
DTEND:20200314T184500
LOCATION:Elisabeth-Selbert-Gymnasium Halle\, 70794 Bernhausen
END:VEVENT
BEGIN:VEVENT
UID:77f9dc946e5e44723c5e2d0d15836d6f
DTSTAMP:20260422T071019Z
SUMMARY:[Männer LK 2] EK Bernhausen  - CVJM SG Mössingen/Belsen 1b
URL:https://www.eichenkreuzliga.de/handball/game/id/11039
DTSTART:20191201T180000
DTEND:20191201T190000
LOCATION:Elisabeth-Selbert-Gymnasium Halle\, 70794 Bernhausen
END:VEVENT
BEGIN:VEVENT
UID:5317aac2a60ab71f344491f98b38b7b2
DTSTAMP:20260422T071019Z
SUMMARY:[Männer LK 2] CVJM Flacht  - EK Bernhausen 
URL:https://www.eichenkreuzliga.de/handball/game/id/11144
DTSTART:20200229T180000
DTEND:20200229T190000
LOCATION:Sporthalle Flacht\, 71287 Weissach
END:VEVENT
END:VCALENDAR
