BEGIN:VCALENDAR
PRODID:-//eluceo/ical//2.0/EN
VERSION:2.0
CALSCALE:GREGORIAN
BEGIN:VEVENT
UID:f7fdfe88ff07a0a14ded8cdf73111ca5
DTSTAMP:20260422T031650Z
SUMMARY:[Männer LK 3] CVJM Enzweihingen  - CVJM  Walddorfhäslach 2
URL:https://www.eichenkreuzliga.de/handball/game/id/10923
DTSTART:20191019T164500
DTEND:20191019T174500
LOCATION:Schulsporthalle\, 71665 Enzweihingen
END:VEVENT
BEGIN:VEVENT
UID:09118f0a0191a248fcfd6f57a72e4eed
DTSTAMP:20260422T031650Z
SUMMARY:[Männer LK 3] CVJM Kirchentellinsfurt 1b - EJW Münchingen 
URL:https://www.eichenkreuzliga.de/handball/game/id/10924
DTSTART:20191020T150000
DTEND:20191020T160000
LOCATION:Sporthalle\, 72138 Kirchentellinsfurt
END:VEVENT
BEGIN:VEVENT
UID:548305e32e8e14f62846fb56f7d62d45
DTSTAMP:20260422T031650Z
SUMMARY:[Männer LK 3] CVJM Hagelloch 2 - EK Wolfschlugen 
URL:https://www.eichenkreuzliga.de/handball/game/id/10925
DTSTART:20200315T160000
DTEND:20200315T170000
LOCATION:Kreissporthalle Tübingen\, 72072 Tübingen
END:VEVENT
BEGIN:VEVENT
UID:59eaa316b54b282257e0e1223bc52df9
DTSTAMP:20260422T031650Z
SUMMARY:[Männer LK 3] CVJM  Walddorfhäslach 2 - CVJM Hagelloch 2
URL:https://www.eichenkreuzliga.de/handball/game/id/10928
DTSTART:20191116T180000
DTEND:20191116T190000
LOCATION:Ballspielhalle\, 72141 Walddorfhäslach
END:VEVENT
BEGIN:VEVENT
UID:8aa81f25a493c921c2f7c37a4456dc75
DTSTAMP:20260422T031650Z
SUMMARY:[Männer LK 3] CVJM Hagelloch 2 - CVJM Plochingen 
URL:https://www.eichenkreuzliga.de/handball/game/id/10933
DTSTART:20191130T173000
DTEND:20191130T183000
LOCATION:Sporthalle Waldhäuser-Ost\, 72076 Tübingen
END:VEVENT
BEGIN:VEVENT
UID:84e977a4589f51539d45c9bf0abdddb6
DTSTAMP:20260422T031650Z
SUMMARY:[Männer LK 3] CVJM Wildberg  - CVJM Enzweihingen 
URL:https://www.eichenkreuzliga.de/handball/game/id/10934
DTSTART:20191117T170000
DTEND:20191117T180000
LOCATION:Sporthalle Wildberg\, 72218 Wildberg
END:VEVENT
BEGIN:VEVENT
UID:1c6da49fe3a6880b2de4112aa0ed0c5f
DTSTAMP:20260422T031650Z
SUMMARY:[Männer LK 3] CVJM Kirchentellinsfurt 1b - CVJM Wildberg 
URL:https://www.eichenkreuzliga.de/handball/game/id/10938
DTSTART:20200111T183000
DTEND:20200111T193000
LOCATION:Sporthalle\, 72138 Kirchentellinsfurt
END:VEVENT
BEGIN:VEVENT
UID:1db86dcf7679e9935cd6ae61245ecf50
DTSTAMP:20260422T031650Z
SUMMARY:[Männer LK 3] EK Wolfschlugen  - EK Bernhausen 
URL:https://www.eichenkreuzliga.de/handball/game/id/10940
DTSTART:20191123T180000
DTEND:20191123T190000
LOCATION:Sporthalle Herdhau\, 72649 Wolfschlugen
END:VEVENT
BEGIN:VEVENT
UID:1288a0018d1f3a586806040cd1f4f350
DTSTAMP:20260422T031650Z
SUMMARY:[Männer LK 3] EK Köngen 1c - CVJM Enzweihingen 
URL:https://www.eichenkreuzliga.de/handball/game/id/10941
DTSTART:20200118T170000
DTEND:20200118T180000
LOCATION:Burgschulhalle\, 73257 Köngen
END:VEVENT
BEGIN:VEVENT
UID:a6cba4e7f535cc9308a3459189ea5cbd
DTSTAMP:20260422T031650Z
SUMMARY:[Männer LK 3] CVJM Hagelloch 2 - CVJM Wildberg 
URL:https://www.eichenkreuzliga.de/handball/game/id/10944
DTSTART:20200125T164500
DTEND:20200125T174500
LOCATION:Kreissporthalle Tübingen\, 72072 Tübingen
END:VEVENT
BEGIN:VEVENT
UID:164eac13428808193a3afc7a2c741edc
DTSTAMP:20260422T031650Z
SUMMARY:[Männer LK 3] EJW Münchingen  - CVJM  Walddorfhäslach 2
URL:https://www.eichenkreuzliga.de/handball/game/id/10946
DTSTART:20200202T173000
DTEND:20200202T183000
LOCATION:Sporthalle Münchingen\, 70825 Korntal-Münchingen
END:VEVENT
BEGIN:VEVENT
UID:69f69ccf374b12b8e0059f648492f9fe
DTSTAMP:20260422T031650Z
SUMMARY:[Männer LK 3] EK Bernhausen  - CVJM Hagelloch 2
URL:https://www.eichenkreuzliga.de/handball/game/id/10947
DTSTART:20200202T173000
DTEND:20200202T183000
LOCATION:Elisabeth-Selbert-Gymnasium Halle\, 70794 Bernhausen
END:VEVENT
BEGIN:VEVENT
UID:bd05e017479caf126faa67ebad0e67be
DTSTAMP:20260422T031650Z
SUMMARY:[Männer LK 3] EK Wolfschlugen  - CVJM Enzweihingen 
URL:https://www.eichenkreuzliga.de/handball/game/id/10948
DTSTART:20200202T163000
DTEND:20200202T173000
LOCATION:Sporthalle Herdhau\, 72649 Wolfschlugen
END:VEVENT
BEGIN:VEVENT
UID:44f42b812feae61f7fc4f34d2bc99133
DTSTAMP:20260422T031650Z
SUMMARY:[Männer LK 3] CVJM Hagelloch 2 - CVJM Enzweihingen 
URL:https://www.eichenkreuzliga.de/handball/game/id/10950
DTSTART:20200208T163000
DTEND:20200208T173000
LOCATION:Kreissporthalle Tübingen\, 72072 Tübingen
END:VEVENT
BEGIN:VEVENT
UID:f3abf8f2213f8097638737f01450a86b
DTSTAMP:20260422T031650Z
SUMMARY:[Männer LK 3] CVJM  Walddorfhäslach 2 - EK Bernhausen 
URL:https://www.eichenkreuzliga.de/handball/game/id/10951
DTSTART:20200209T173000
DTEND:20200209T183000
LOCATION:Ballspielhalle\, 72141 Walddorfhäslach
END:VEVENT
BEGIN:VEVENT
UID:7e6961c0c125e79028b57f8cb206d81b
DTSTAMP:20260422T031650Z
SUMMARY:[Männer LK 3] CVJM Kirchentellinsfurt 1b - EK Köngen 1c
URL:https://www.eichenkreuzliga.de/handball/game/id/10952
DTSTART:20200208T180000
DTEND:20200208T190000
LOCATION:Sporthalle\, 72138 Kirchentellinsfurt
END:VEVENT
BEGIN:VEVENT
UID:9a01d086af478030c76313dcc77870b7
DTSTAMP:20260422T031650Z
SUMMARY:[Männer LK 3] EK Wolfschlugen  - CVJM Wildberg 
URL:https://www.eichenkreuzliga.de/handball/game/id/10954
DTSTART:20191026T173000
DTEND:20191026T183000
LOCATION:Sporthalle Herdhau\, 72649 Wolfschlugen
END:VEVENT
BEGIN:VEVENT
UID:e70abdb359404781cadf63bc00ed5f7d
DTSTAMP:20260422T031650Z
SUMMARY:[Männer LK 3] CVJM Wildberg  - CVJM  Walddorfhäslach 2
URL:https://www.eichenkreuzliga.de/handball/game/id/10958
DTSTART:20200308T173000
DTEND:20200308T183000
LOCATION:Sporthalle Wildberg\, 72218 Wildberg
END:VEVENT
BEGIN:VEVENT
UID:929e3721bf15e404cca8b87d32692d18
DTSTAMP:20260422T031650Z
SUMMARY:[Männer LK 3] CVJM Kirchentellinsfurt 1b - CVJM Hagelloch 2
URL:https://www.eichenkreuzliga.de/handball/game/id/10962
DTSTART:20200222T180000
DTEND:20200222T190000
LOCATION:Sporthalle\, 72138 Kirchentellinsfurt
END:VEVENT
BEGIN:VEVENT
UID:c2c3d9f20566fb549c63491dd005a72c
DTSTAMP:20260422T031650Z
SUMMARY:[Männer LK 3] EK Köngen 1c - CVJM Hagelloch 2
URL:https://www.eichenkreuzliga.de/handball/game/id/10963
DTSTART:20200215T163000
DTEND:20200215T173000
LOCATION:Burgschulhalle\, 73257 Köngen
END:VEVENT
BEGIN:VEVENT
UID:57cde2f54ce884e1f8c7fe4932e9814a
DTSTAMP:20260422T031650Z
SUMMARY:[Männer LK 3] CVJM Wildberg  - EK Bernhausen 
URL:https://www.eichenkreuzliga.de/handball/game/id/10966
DTSTART:20200329T180000
DTEND:20200329T190000
LOCATION:Sporthalle Wildberg\, 72218 Wildberg
END:VEVENT
BEGIN:VEVENT
UID:408c069e34858c0a0a684dcc90d095be
DTSTAMP:20260422T031650Z
SUMMARY:[Männer LK 3] CVJM Kirchentellinsfurt 1b - EK Bernhausen 
URL:https://www.eichenkreuzliga.de/handball/game/id/10969
DTSTART:20191109T161500
DTEND:20191109T171500
LOCATION:Sporthalle\, 72138 Kirchentellinsfurt
END:VEVENT
BEGIN:VEVENT
UID:c925c7cb7dcb50e715ea9681c1e789cd
DTSTAMP:20260422T031650Z
SUMMARY:[Männer LK 3] CVJM Wildberg  - CVJM Plochingen 
URL:https://www.eichenkreuzliga.de/handball/game/id/10974
DTSTART:20191110T163000
DTEND:20191110T173000
LOCATION:Sporthalle Wildberg\, 72218 Wildberg
END:VEVENT
BEGIN:VEVENT
UID:eb2be8d75a65a488a76a05d2c5189fd7
DTSTAMP:20260422T031650Z
SUMMARY:[Männer LK 3] EK Bernhausen  - CVJM Plochingen 
URL:https://www.eichenkreuzliga.de/handball/game/id/10975
DTSTART:20200307T160000
DTEND:20200307T170000
LOCATION:Elisabeth-Selbert-Gymnasium Halle\, 70794 Bernhausen
END:VEVENT
BEGIN:VEVENT
UID:a8dfb2f5c413ad5fc7ab9e2292abe06c
DTSTAMP:20260422T031650Z
SUMMARY:[Männer LK 3] EK Bernhausen  - EJW Münchingen 
URL:https://www.eichenkreuzliga.de/handball/game/id/10976
DTSTART:20200119T170000
DTEND:20200119T180000
LOCATION:Elisabeth-Selbert-Gymnasium Halle\, 70794 Bernhausen
END:VEVENT
BEGIN:VEVENT
UID:9c1ff18d3cceaaa69d76cb532f885b06
DTSTAMP:20260422T031650Z
SUMMARY:[Männer LK 3] CVJM  Walddorfhäslach 2 - EK Wolfschlugen 
URL:https://www.eichenkreuzliga.de/handball/game/id/10980
DTSTART:20191214T170000
DTEND:20191214T180000
LOCATION:Ballspielhalle\, 72141 Walddorfhäslach
END:VEVENT
BEGIN:VEVENT
UID:9da8fa189180c576b7872422173a26a3
DTSTAMP:20260422T031650Z
SUMMARY:[Männer LK 3] CVJM Wildberg  - EK Köngen 1c
URL:https://www.eichenkreuzliga.de/handball/game/id/10982
DTSTART:20200322T170000
DTEND:20200322T180000
LOCATION:Sporthalle Wildberg\, 72218 Wildberg
END:VEVENT
BEGIN:VEVENT
UID:75de8fe981fb63953ef43bc1b2307bd0
DTSTAMP:20260422T031650Z
SUMMARY:[Männer LK 3] EJW Münchingen  - CVJM Plochingen 
URL:https://www.eichenkreuzliga.de/handball/game/id/10986
DTSTART:20200329T160000
DTEND:20200329T170000
LOCATION:Sporthalle Münchingen\, 70825 Korntal-Münchingen
END:VEVENT
BEGIN:VEVENT
UID:59783ec3f65a528884ec906cc674155e
DTSTAMP:20260422T031650Z
SUMMARY:[Männer LK 3] CVJM Plochingen  - EK Wolfschlugen 
URL:https://www.eichenkreuzliga.de/handball/game/id/10989
DTSTART:20200215T170000
DTEND:20200215T180000
LOCATION:Gymnasiumsporthalle\, 73207 Plochingen
END:VEVENT
BEGIN:VEVENT
UID:9841d069263a3c7f0027203361ced6d5
DTSTAMP:20260422T031650Z
SUMMARY:[Männer LK 3] EJW Münchingen  - EK Wolfschlugen 
URL:https://www.eichenkreuzliga.de/handball/game/id/10990
DTSTART:20200126T190000
DTEND:20200126T200000
LOCATION:Sporthalle Münchingen\, 70825 Korntal-Münchingen
END:VEVENT
BEGIN:VEVENT
UID:2acac924c738be2bb8e053fa91d9bb3f
DTSTAMP:20260422T031650Z
SUMMARY:[Männer LK 3] EK Wolfschlugen  - EK Köngen 1c
URL:https://www.eichenkreuzliga.de/handball/game/id/10992
DTSTART:20191207T153000
DTEND:20191207T163000
LOCATION:Sporthalle Herdhau\, 72649 Wolfschlugen
END:VEVENT
BEGIN:VEVENT
UID:fff66b3b6fc2a6690112f3d1677599e4
DTSTAMP:20260422T031650Z
SUMMARY:[Männer LK 3] EK Wolfschlugen  - CVJM Kirchentellinsfurt 1b
URL:https://www.eichenkreuzliga.de/handball/game/id/10993
DTSTART:20200329T180000
DTEND:20200329T190000
LOCATION:Sporthalle Herdhau\, 72649 Wolfschlugen
END:VEVENT
BEGIN:VEVENT
UID:a0a7bd781f8e5fe78dd073f2562ee0f3
DTSTAMP:20260422T031650Z
SUMMARY:[Männer LK 3] EK Köngen 1c - EK Bernhausen 
URL:https://www.eichenkreuzliga.de/handball/game/id/11046
DTSTART:20191026T150000
DTEND:20191026T160000
LOCATION:Burgschulhalle\, 73257 Köngen
END:VEVENT
BEGIN:VEVENT
UID:7ae4a2acffb04d2b090889f2531f0d27
DTSTAMP:20260422T031650Z
SUMMARY:[Männer LK 3] CVJM  Walddorfhäslach 2 - CVJM Kirchentellinsfurt 1
 b
URL:https://www.eichenkreuzliga.de/handball/game/id/11061
DTSTART:20200314T163000
DTEND:20200314T173000
LOCATION:Ballspielhalle\, 72141 Walddorfhäslach
END:VEVENT
BEGIN:VEVENT
UID:579b4d5d8daf3f0dae9ec7a265a9b485
DTSTAMP:20260422T031650Z
SUMMARY:[Männer LK 3] EK Bernhausen  - CVJM Enzweihingen 
URL:https://www.eichenkreuzliga.de/handball/game/id/11064
DTSTART:20191201T163000
DTEND:20191201T173000
LOCATION:Elisabeth-Selbert-Gymnasium Halle\, 70794 Bernhausen
END:VEVENT
BEGIN:VEVENT
UID:97ca17386c5a4c00340d3e6f2cfd1608
DTSTAMP:20260422T031650Z
SUMMARY:[Männer LK 3] CVJM Plochingen  - EK Köngen 1c
URL:https://www.eichenkreuzliga.de/handball/game/id/11065
DTSTART:20191013T170000
DTEND:20191013T180000
LOCATION:Gymnasiumsporthalle\, 73207 Plochingen
END:VEVENT
BEGIN:VEVENT
UID:3461f6cca0696b1333d5c4acc53a49a4
DTSTAMP:20260422T031650Z
SUMMARY:[Männer LK 3] CVJM Plochingen  - CVJM Kirchentellinsfurt 1b
URL:https://www.eichenkreuzliga.de/handball/game/id/11066
DTSTART:20191208T174500
DTEND:20191208T184500
LOCATION:Gymnasiumsporthalle\, 73207 Plochingen
END:VEVENT
BEGIN:VEVENT
UID:fde2d07ca10a3e7f1dc5a474177303b3
DTSTAMP:20260422T031650Z
SUMMARY:[Männer LK 3] CVJM Plochingen  - CVJM  Walddorfhäslach 2
URL:https://www.eichenkreuzliga.de/handball/game/id/11067
DTSTART:20200119T174500
DTEND:20200119T184500
LOCATION:Gymnasiumsporthalle\, 73207 Plochingen
END:VEVENT
BEGIN:VEVENT
UID:4ee966535721ffd49835355dd5892706
DTSTAMP:20260422T031650Z
SUMMARY:[Männer LK 3] CVJM  Walddorfhäslach 2 - EK Köngen 1c
URL:https://www.eichenkreuzliga.de/handball/game/id/11068
DTSTART:20200126T160000
DTEND:20200126T170000
LOCATION:Ballspielhalle\, 72141 Walddorfhäslach
END:VEVENT
BEGIN:VEVENT
UID:7e25bbd35945765bed9a71866ac54629
DTSTAMP:20260422T031650Z
SUMMARY:[Männer LK 3] CVJM Enzweihingen  - CVJM Plochingen 
URL:https://www.eichenkreuzliga.de/handball/game/id/11069
DTSTART:20200126T170000
DTEND:20200126T180000
LOCATION:Schulsporthalle\, 71665 Enzweihingen
END:VEVENT
BEGIN:VEVENT
UID:1ff0a7b424bec509f6c8062df05c4b68
DTSTAMP:20260422T031650Z
SUMMARY:[Männer LK 3] CVJM Enzweihingen  - CVJM Kirchentellinsfurt 1b
URL:https://www.eichenkreuzliga.de/handball/game/id/11070
DTSTART:20200307T183000
DTEND:20200307T193000
LOCATION:Schulsporthalle\, 71665 Enzweihingen
END:VEVENT
BEGIN:VEVENT
UID:57aea2c96bc1216d699cad397b41f07f
DTSTAMP:20260422T031650Z
SUMMARY:[Männer LK 3] EJW Münchingen  - CVJM Hagelloch 2
URL:https://www.eichenkreuzliga.de/handball/game/id/11075
DTSTART:20200308T163000
DTEND:20200308T173000
LOCATION:Sporthalle Münchingen\, 70825 Korntal-Münchingen
END:VEVENT
BEGIN:VEVENT
UID:c72ffaae212aca18ca7f7a1294146581
DTSTAMP:20260422T031650Z
SUMMARY:[Männer LK 3] CVJM Enzweihingen  - EJW Münchingen 
URL:https://www.eichenkreuzliga.de/handball/game/id/11076
DTSTART:20200322T170000
DTEND:20200322T180000
LOCATION:Schulsporthalle\, 71665 Enzweihingen
END:VEVENT
BEGIN:VEVENT
UID:6c1a0a1ce0e8ff38c9ff694010235064
DTSTAMP:20260422T031650Z
SUMMARY:[Männer LK 3] EK Köngen 1c - EJW Münchingen 
URL:https://www.eichenkreuzliga.de/handball/game/id/11080
DTSTART:20191117T170000
DTEND:20191117T180000
LOCATION:Burgschulhalle\, 73257 Köngen
END:VEVENT
BEGIN:VEVENT
UID:16561f65c885c0c8f37359db49f3bb41
DTSTAMP:20260422T031650Z
SUMMARY:[Männer LK 3] EJW Münchingen  - CVJM Wildberg 
URL:https://www.eichenkreuzliga.de/handball/game/id/11121
DTSTART:20191013T174500
DTEND:20191013T184500
LOCATION:Sporthalle Münchingen\, 70825 Korntal-Münchingen
END:VEVENT
END:VCALENDAR
