BEGIN:VCALENDAR
PRODID:-//eluceo/ical//2.0/EN
VERSION:2.0
CALSCALE:GREGORIAN
BEGIN:VEVENT
UID:294068c15d04ac7fb9780af69b32d00b
DTSTAMP:20260422T071029Z
SUMMARY:[männliche A-Jugend Runde] EK Bernhausen  - CVJM Möglingen 
URL:https://www.eichenkreuzliga.de/handball/game/id/10719
DTSTART:20191019T161500
DTEND:20191019T171500
LOCATION:Elisabeth-Selbert-Gymnasium Halle\, 70794 Bernhausen
END:VEVENT
BEGIN:VEVENT
UID:0dc6ef2f23303e7e986849514bd0efa3
DTSTAMP:20260422T071029Z
SUMMARY:[männliche A-Jugend Runde] EK Bernhausen  - CVJM Kirchentellinsfur
 t 
URL:https://www.eichenkreuzliga.de/handball/game/id/10720
DTSTART:20191116T163000
DTEND:20191116T173000
LOCATION:Elisabeth-Selbert-Gymnasium Halle\, 70794 Bernhausen
END:VEVENT
BEGIN:VEVENT
UID:76652ae53b6e8a5b5a48faa39f87ec42
DTSTAMP:20260422T071029Z
SUMMARY:[männliche A-Jugend Runde] EK Bernhausen  - CVJM Plochingen 
URL:https://www.eichenkreuzliga.de/handball/game/id/10721
DTSTART:20200208T141500
DTEND:20200208T151500
LOCATION:Elisabeth-Selbert-Gymnasium Halle\, 70794 Bernhausen
END:VEVENT
BEGIN:VEVENT
UID:b3a85df446d683e883e89d740a5846e6
DTSTAMP:20260422T071029Z
SUMMARY:[männliche A-Jugend Runde] EK Bernhausen  - CVJM SG Mössingen/Bel
 sen 
URL:https://www.eichenkreuzliga.de/handball/game/id/10722
DTSTART:20200314T160000
DTEND:20200314T170000
LOCATION:Elisabeth-Selbert-Gymnasium Halle\, 70794 Bernhausen
END:VEVENT
BEGIN:VEVENT
UID:31fa673db12f07653f66ca19e5e9383b
DTSTAMP:20260422T071029Z
SUMMARY:[männliche A-Jugend Runde] CVJM Möglingen  - CVJM Plochingen 
URL:https://www.eichenkreuzliga.de/handball/game/id/10723
DTSTART:20191116T143000
DTEND:20191116T153000
LOCATION:Stadionhalle\, 71696 Möglingen
END:VEVENT
BEGIN:VEVENT
UID:26b2536076cd4e2442aa5a87b14a06e4
DTSTAMP:20260422T071029Z
SUMMARY:[männliche A-Jugend Runde] CVJM Möglingen  - CVJM Enzweihingen 
URL:https://www.eichenkreuzliga.de/handball/game/id/10724
DTSTART:20191207T174500
DTEND:20191207T184500
LOCATION:Stadionhalle\, 71696 Möglingen
END:VEVENT
BEGIN:VEVENT
UID:971e07781ef50e27a0dc30dcd5b2564b
DTSTAMP:20260422T071029Z
SUMMARY:[männliche A-Jugend Runde] CVJM Möglingen  - CVJM Kirchentellinsf
 urt 
URL:https://www.eichenkreuzliga.de/handball/game/id/10725
DTSTART:20200201T143000
DTEND:20200201T153000
LOCATION:Stadionhalle\, 71696 Möglingen
END:VEVENT
BEGIN:VEVENT
UID:543cc1bb62cc81611efef64ea7d8c579
DTSTAMP:20260422T071029Z
SUMMARY:[männliche A-Jugend Runde] CVJM Möglingen  - EK Höfingen 
URL:https://www.eichenkreuzliga.de/handball/game/id/10726
DTSTART:20200215T163000
DTEND:20200215T173000
LOCATION:Stadionhalle\, 71696 Möglingen
END:VEVENT
BEGIN:VEVENT
UID:bc2286b8b58b0c4b795a73dc4c4dc340
DTSTAMP:20260422T071029Z
SUMMARY:[männliche A-Jugend Runde] EK Köngen  - EK Bernhausen 
URL:https://www.eichenkreuzliga.de/handball/game/id/10734
DTSTART:20191208T160000
DTEND:20191208T170000
LOCATION:Burgschulhalle\, 73257 Köngen
END:VEVENT
BEGIN:VEVENT
UID:e1703d108d99698895cfbce14a0885e2
DTSTAMP:20260422T071029Z
SUMMARY:[männliche A-Jugend Runde] CVJM HB Dußlingen-Gomaringen  - EK Ber
 nhausen 
URL:https://www.eichenkreuzliga.de/handball/game/id/10736
DTSTART:20200118T130000
DTEND:20200118T140000
LOCATION:Hönisch Sporthalle\, 72144 Dusslingen
END:VEVENT
BEGIN:VEVENT
UID:08304efed38d8fd476367e23e60b156c
DTSTAMP:20260422T071029Z
SUMMARY:[männliche A-Jugend Runde] CVJM Enzweihingen  - EK Bernhausen 
URL:https://www.eichenkreuzliga.de/handball/game/id/10737
DTSTART:20200126T153000
DTEND:20200126T163000
LOCATION:Schulsporthalle\, 71665 Enzweihingen
END:VEVENT
BEGIN:VEVENT
UID:376565be6eb6b4fb22841967a486e066
DTSTAMP:20260422T071029Z
SUMMARY:[männliche A-Jugend Runde] CVJM HB Dußlingen-Gomaringen  - CVJM M
 öglingen 
URL:https://www.eichenkreuzliga.de/handball/game/id/10749
DTSTART:20200314T160000
DTEND:20200314T170000
LOCATION:Hönisch Sporthalle\, 72144 Dusslingen
END:VEVENT
BEGIN:VEVENT
UID:0fa0458b2735f10e3ed7d396ef3e1cfc
DTSTAMP:20260422T071029Z
SUMMARY:[männliche A-Jugend Runde] CVJM HB Dußlingen-Gomaringen  - CVJM S
 G Mössingen/Belsen 
URL:https://www.eichenkreuzliga.de/handball/game/id/10751
DTSTART:20191116T143000
DTEND:20191116T153000
LOCATION:Hönisch Sporthalle\, 72144 Dusslingen
END:VEVENT
BEGIN:VEVENT
UID:f1d3eadb570c72250308fb1f3f3ced7c
DTSTAMP:20260422T071029Z
SUMMARY:[männliche A-Jugend Runde] EK Köngen  - CVJM Möglingen 
URL:https://www.eichenkreuzliga.de/handball/game/id/10753
DTSTART:20191130T180000
DTEND:20191130T190000
LOCATION:Burgschulhalle\, 73257 Köngen
END:VEVENT
BEGIN:VEVENT
UID:55feb154d88cd3bf74dc6c0362d59356
DTSTAMP:20260422T071029Z
SUMMARY:[männliche A-Jugend Runde] CVJM Enzweihingen  - CVJM HB Dußlingen
 -Gomaringen 
URL:https://www.eichenkreuzliga.de/handball/game/id/10755
DTSTART:20191201T170000
DTEND:20191201T180000
LOCATION:Schulsporthalle\, 71665 Enzweihingen
END:VEVENT
BEGIN:VEVENT
UID:1437f7727a60c4f32dded1d98ba00b2f
DTSTAMP:20260422T071029Z
SUMMARY:[männliche A-Jugend Runde] CVJM Kirchentellinsfurt  - CVJM HB Duß
 lingen-Gomaringen 
URL:https://www.eichenkreuzliga.de/handball/game/id/10756
DTSTART:20191109T143000
DTEND:20191109T153000
LOCATION:Sporthalle\, 72138 Kirchentellinsfurt
END:VEVENT
BEGIN:VEVENT
UID:dd17e2d87d45062506546784b95a4e60
DTSTAMP:20260422T071029Z
SUMMARY:[männliche A-Jugend Runde] EK Köngen  - CVJM HB Dußlingen-Gomari
 ngen 
URL:https://www.eichenkreuzliga.de/handball/game/id/10760
DTSTART:20200202T150000
DTEND:20200202T160000
LOCATION:Burgschulhalle\, 73257 Köngen
END:VEVENT
BEGIN:VEVENT
UID:f51f7200f633277eff98c175c0e6bd20
DTSTAMP:20260422T071029Z
SUMMARY:[männliche A-Jugend Runde] CVJM SG Mössingen/Belsen  - CVJM Kirch
 entellinsfurt 
URL:https://www.eichenkreuzliga.de/handball/game/id/10762
DTSTART:20191019T140000
DTEND:20191019T150000
LOCATION:Jahnhalle 2\, 72116 Mössingen
END:VEVENT
BEGIN:VEVENT
UID:d6f587f833fc9302c0cd25c32f74cc5c
DTSTAMP:20260422T071029Z
SUMMARY:[männliche A-Jugend Runde] CVJM Enzweihingen  - CVJM Kirchentellin
 sfurt 
URL:https://www.eichenkreuzliga.de/handball/game/id/10764
DTSTART:20200209T163000
DTEND:20200209T173000
LOCATION:Schulsporthalle\, 71665 Enzweihingen
END:VEVENT
BEGIN:VEVENT
UID:903d53463f9c19b99f7c8fbc7ce5dfae
DTSTAMP:20260422T071029Z
SUMMARY:[männliche A-Jugend Runde] CVJM Plochingen  - CVJM Enzweihingen 
URL:https://www.eichenkreuzliga.de/handball/game/id/10766
DTSTART:20200308T150000
DTEND:20200308T160000
LOCATION:Gymnasiumsporthalle\, 73207 Plochingen
END:VEVENT
BEGIN:VEVENT
UID:6e013f889bc63a3610c762dfb3247756
DTSTAMP:20260422T071029Z
SUMMARY:[männliche A-Jugend Runde] CVJM SG Mössingen/Belsen  - CVJM Enzwe
 ihingen 
URL:https://www.eichenkreuzliga.de/handball/game/id/10767
DTSTART:20200201T160000
DTEND:20200201T170000
LOCATION:Jahnhalle 2\, 72116 Mössingen
END:VEVENT
BEGIN:VEVENT
UID:0953a8807efbc9b1efb45f0cf44609b7
DTSTAMP:20260422T071029Z
SUMMARY:[männliche A-Jugend Runde] CVJM Kirchentellinsfurt  - EK Höfingen
  
URL:https://www.eichenkreuzliga.de/handball/game/id/10769
DTSTART:20200314T150000
DTEND:20200314T160000
LOCATION:Sporthalle\, 72138 Kirchentellinsfurt
END:VEVENT
BEGIN:VEVENT
UID:cfbda4335ceb4a2b9da1b808e3dc5dbe
DTSTAMP:20260422T071029Z
SUMMARY:[männliche A-Jugend Runde] CVJM Kirchentellinsfurt  - EK Köngen 
URL:https://www.eichenkreuzliga.de/handball/game/id/10770
DTSTART:20200111T153000
DTEND:20200111T163000
LOCATION:Sporthalle\, 72138 Kirchentellinsfurt
END:VEVENT
BEGIN:VEVENT
UID:7ef0fc341024930c36761ef8e4c459bc
DTSTAMP:20260422T071029Z
SUMMARY:[männliche A-Jugend Runde] CVJM Kirchentellinsfurt  - CVJM Plochin
 gen 
URL:https://www.eichenkreuzliga.de/handball/game/id/10771
DTSTART:20191201T170000
DTEND:20191201T180000
LOCATION:Sporthalle\, 72138 Kirchentellinsfurt
END:VEVENT
BEGIN:VEVENT
UID:6ad3108a77d227e86dcb8dfd4b281a1b
DTSTAMP:20260422T071029Z
SUMMARY:[männliche A-Jugend Runde] CVJM Plochingen  - CVJM SG Mössingen/B
 elsen 
URL:https://www.eichenkreuzliga.de/handball/game/id/10772
DTSTART:20191109T153000
DTEND:20191109T163000
LOCATION:Gymnasiumsporthalle\, 73207 Plochingen
END:VEVENT
BEGIN:VEVENT
UID:1844eef5d4b80e7f4fb306d0ac73c4c4
DTSTAMP:20260422T071029Z
SUMMARY:[männliche A-Jugend Runde] CVJM Plochingen  - EK Köngen 
URL:https://www.eichenkreuzliga.de/handball/game/id/10773
DTSTART:20200215T150000
DTEND:20200215T160000
LOCATION:Gymnasiumsporthalle\, 73207 Plochingen
END:VEVENT
BEGIN:VEVENT
UID:a3cb383bbad9f0730e3386a85f3bed59
DTSTAMP:20260422T071029Z
SUMMARY:[männliche A-Jugend Runde] CVJM Plochingen  - EK Höfingen 
URL:https://www.eichenkreuzliga.de/handball/game/id/10774
DTSTART:20200119T161500
DTEND:20200119T171500
LOCATION:Gymnasiumsporthalle\, 73207 Plochingen
END:VEVENT
BEGIN:VEVENT
UID:6ed8e8cb1ec90089c49ad35624fd9dd1
DTSTAMP:20260422T071029Z
SUMMARY:[männliche A-Jugend Runde] CVJM SG Mössingen/Belsen  - EK Höfing
 en 
URL:https://www.eichenkreuzliga.de/handball/game/id/10775
DTSTART:20191201T150000
DTEND:20191201T160000
LOCATION:Jahnhalle 2\, 72116 Mössingen
END:VEVENT
BEGIN:VEVENT
UID:43e6595b946f6ca0546b194e06425892
DTSTAMP:20260422T071029Z
SUMMARY:[männliche A-Jugend Runde] EK Höfingen  - CVJM Enzweihingen 
URL:https://www.eichenkreuzliga.de/handball/game/id/10779
DTSTART:20191116T150000
DTEND:20191116T160000
LOCATION:Strohgäuhalle\, 71229 Höfingen
END:VEVENT
BEGIN:VEVENT
UID:c256d09472a23ce3fd5ed5ca103896e0
DTSTAMP:20260422T071029Z
SUMMARY:[männliche A-Jugend Runde] CVJM Enzweihingen  - EK Köngen 
URL:https://www.eichenkreuzliga.de/handball/game/id/10782
DTSTART:20191019T150000
DTEND:20191019T160000
LOCATION:Schulsporthalle\, 71665 Enzweihingen
END:VEVENT
BEGIN:VEVENT
UID:c5e9f3ac3a9ec2e2d06b206648c804b1
DTSTAMP:20260422T071029Z
SUMMARY:[männliche A-Jugend Runde] EK Höfingen  - CVJM HB Dußlingen-Goma
 ringen 
URL:https://www.eichenkreuzliga.de/handball/game/id/10784
DTSTART:20191019T173000
DTEND:20191019T183000
LOCATION:Strohgäuhalle\, 71229 Höfingen
END:VEVENT
BEGIN:VEVENT
UID:8e4b1001e8ba22f5e1729e229528ea33
DTSTAMP:20260422T071029Z
SUMMARY:[männliche A-Jugend Runde] CVJM HB Dußlingen-Gomaringen  - CVJM P
 lochingen 
URL:https://www.eichenkreuzliga.de/handball/game/id/10786
DTSTART:20191207T000000
DTEND:20191207T010000
LOCATION:Hönisch Sporthalle\, 72144 Dusslingen
END:VEVENT
BEGIN:VEVENT
UID:3e967998ab1417fae811ceb984aec931
DTSTAMP:20260422T071029Z
SUMMARY:[männliche A-Jugend Runde] EK Köngen  - CVJM SG Mössingen/Belsen
  
URL:https://www.eichenkreuzliga.de/handball/game/id/10787
DTSTART:20200118T153000
DTEND:20200118T163000
LOCATION:Burgschulhalle\, 73257 Köngen
END:VEVENT
BEGIN:VEVENT
UID:83a943629959607e45508f2687472c85
DTSTAMP:20260422T071029Z
SUMMARY:[männliche A-Jugend Runde] EK Höfingen  - EK Köngen 
URL:https://www.eichenkreuzliga.de/handball/game/id/10788
DTSTART:20200307T153000
DTEND:20200307T163000
LOCATION:Strohgäuhalle\, 71229 Höfingen
END:VEVENT
BEGIN:VEVENT
UID:a00ac027a05221cc329be30a1943dbae
DTSTAMP:20260422T071029Z
SUMMARY:[männliche A-Jugend Runde] CVJM SG Mössingen/Belsen  - CVJM Mögl
 ingen 
URL:https://www.eichenkreuzliga.de/handball/game/id/11049
DTSTART:20200307T153000
DTEND:20200307T163000
LOCATION:Jahnhalle 2\, 72116 Mössingen
END:VEVENT
BEGIN:VEVENT
UID:4440f9dd0ab211e44f6cda265e10a9b5
DTSTAMP:20260422T071029Z
SUMMARY:[männliche A-Jugend Runde] EK Höfingen  - EK Bernhausen 
URL:https://www.eichenkreuzliga.de/handball/game/id/11050
DTSTART:20200111T170000
DTEND:20200111T180000
LOCATION:Strohgäuhalle\, 71229 Höfingen
END:VEVENT
END:VCALENDAR
