BEGIN:VCALENDAR
PRODID:-//eluceo/ical//2.0/EN
VERSION:2.0
CALSCALE:GREGORIAN
BEGIN:VEVENT
UID:05e786ded64d9e1dd4f2499bba0f9e9b
DTSTAMP:20260422T071030Z
SUMMARY:[männliche B-Jugend Runde] EK Bernhausen  - CVJM Hagelloch SG Hage
 lloch/Kusterdingen
URL:https://www.eichenkreuzliga.de/handball/game/id/10728
DTSTART:20200314T143000
DTEND:20200314T153000
LOCATION:Elisabeth-Selbert-Gymnasium Halle\, 70794 Bernhausen
END:VEVENT
BEGIN:VEVENT
UID:e5e291b50467069b6339cc21eb4a2565
DTSTAMP:20260422T071030Z
SUMMARY:[männliche B-Jugend Runde] EK Bernhausen  - CVJM  Walddorfhäslach
  
URL:https://www.eichenkreuzliga.de/handball/game/id/10730
DTSTART:20200229T160000
DTEND:20200229T170000
LOCATION:Elisabeth-Selbert-Gymnasium Halle\, 70794 Bernhausen
END:VEVENT
BEGIN:VEVENT
UID:a75850cef59a9f1da17d530bb44df996
DTSTAMP:20260422T071030Z
SUMMARY:[männliche B-Jugend Runde] EK Bernhausen  - CVJM HB Dußlingen-Gom
 aringen 
URL:https://www.eichenkreuzliga.de/handball/game/id/10731
DTSTART:20200328T173000
DTEND:20200328T183000
LOCATION:Elisabeth-Selbert-Gymnasium Halle\, 70794 Bernhausen
END:VEVENT
BEGIN:VEVENT
UID:34bec6746e60e0d1b4c36d317d5b9694
DTSTAMP:20260422T071030Z
SUMMARY:[männliche B-Jugend Runde] CVJM Flacht  - EK Bernhausen 
URL:https://www.eichenkreuzliga.de/handball/game/id/10738
DTSTART:20191012T160000
DTEND:20191012T170000
LOCATION:Sporthalle Flacht\, 71287 Weissach
END:VEVENT
BEGIN:VEVENT
UID:e100bb7fb562af3cb3bbdbed72d400ef
DTSTAMP:20260422T071030Z
SUMMARY:[männliche B-Jugend Runde] EK Bernhausen  - CVJM Plochingen 
URL:https://www.eichenkreuzliga.de/handball/game/id/10739
DTSTART:20200125T161500
DTEND:20200125T171500
LOCATION:Elisabeth-Selbert-Gymnasium Halle\, 70794 Bernhausen
END:VEVENT
BEGIN:VEVENT
UID:090da66579dfc47e7c2446c5bef7a5ca
DTSTAMP:20260422T071030Z
SUMMARY:[männliche B-Jugend Runde] CVJM Fellbach  - EK Bernhausen 
URL:https://www.eichenkreuzliga.de/handball/game/id/10740
DTSTART:20191020T174500
DTEND:20191020T184500
LOCATION:Zeppelinhalle\, 70734 Fellbach
END:VEVENT
BEGIN:VEVENT
UID:5d7456b07ffde82fa766a9f406f23db4
DTSTAMP:20260422T071030Z
SUMMARY:[männliche B-Jugend Runde] CVJM Kusterdingen  - EK Bernhausen 
URL:https://www.eichenkreuzliga.de/handball/game/id/10741
DTSTART:20191117T153000
DTEND:20191117T163000
LOCATION:Härtensporthalle\, 72127 Kusterdingen
END:VEVENT
BEGIN:VEVENT
UID:7aa0567bb6abf5c0b353a5bfbf0d7784
DTSTAMP:20260422T071030Z
SUMMARY:[männliche B-Jugend Runde] EJW Münchingen  - EK Bernhausen 
URL:https://www.eichenkreuzliga.de/handball/game/id/10745
DTSTART:20200202T143000
DTEND:20200202T153000
LOCATION:Sporthalle Münchingen\, 70825 Korntal-Münchingen
END:VEVENT
BEGIN:VEVENT
UID:dbde5c50f924754712eab1cead567d54
DTSTAMP:20260422T071030Z
SUMMARY:[männliche B-Jugend Runde] CVJM  Walddorfhäslach  - CVJM Hagelloc
 h SG Hagelloch/Kusterdingen
URL:https://www.eichenkreuzliga.de/handball/game/id/10853
DTSTART:20191012T153000
DTEND:20191012T163000
LOCATION:Ballspielhalle\, 72141 Walddorfhäslach
END:VEVENT
BEGIN:VEVENT
UID:a30965eeacc6f28c6190162e76af6168
DTSTAMP:20260422T071030Z
SUMMARY:[männliche B-Jugend Runde] EJW Münchingen  - CVJM Kusterdingen 
URL:https://www.eichenkreuzliga.de/handball/game/id/10858
DTSTART:20191012T160000
DTEND:20191012T170000
LOCATION:Sporthalle Münchingen\, 70825 Korntal-Münchingen
END:VEVENT
BEGIN:VEVENT
UID:07af2493d10cfaa47258947f08f498de
DTSTAMP:20260422T071030Z
SUMMARY:[männliche B-Jugend Runde] CVJM HB Dußlingen-Gomaringen  - CVJM F
 lacht 
URL:https://www.eichenkreuzliga.de/handball/game/id/10861
DTSTART:20191019T153000
DTEND:20191019T163000
LOCATION:Hönisch Sporthalle\, 72144 Dusslingen
END:VEVENT
BEGIN:VEVENT
UID:fa2b813ac0b13491fbb66e2225c7df1b
DTSTAMP:20260422T071030Z
SUMMARY:[männliche B-Jugend Runde] CVJM Hagelloch SG Hagelloch/Kusterdinge
 n - CVJM Flacht 
URL:https://www.eichenkreuzliga.de/handball/game/id/10864
DTSTART:20191109T143000
DTEND:20191109T153000
LOCATION:Sporthalle Waldhäuser-Ost\, 72076 Tübingen
END:VEVENT
BEGIN:VEVENT
UID:2b8176aec547d2e8f09f2b76caee8f33
DTSTAMP:20260422T071030Z
SUMMARY:[männliche B-Jugend Runde] CVJM Kusterdingen  - CVJM  Walddorfhäs
 lach 
URL:https://www.eichenkreuzliga.de/handball/game/id/10865
DTSTART:20191109T150000
DTEND:20191109T160000
LOCATION:Härtensporthalle\, 72127 Kusterdingen
END:VEVENT
BEGIN:VEVENT
UID:4447cda9bf7cf4fd586b37ef30833b27
DTSTAMP:20260422T071030Z
SUMMARY:[männliche B-Jugend Runde] CVJM Plochingen  - EJW Münchingen 
URL:https://www.eichenkreuzliga.de/handball/game/id/10866
DTSTART:20191109T170000
DTEND:20191109T180000
LOCATION:Gymnasiumsporthalle\, 73207 Plochingen
END:VEVENT
BEGIN:VEVENT
UID:9bcdad474d747428f41d0620e953d00d
DTSTAMP:20260422T071030Z
SUMMARY:[männliche B-Jugend Runde] CVJM Fellbach  - CVJM HB Dußlingen-Gom
 aringen 
URL:https://www.eichenkreuzliga.de/handball/game/id/10867
DTSTART:20191110T153000
DTEND:20191110T163000
LOCATION:Zeppelinhalle\, 70734 Fellbach
END:VEVENT
BEGIN:VEVENT
UID:31e800e7bdf602cb234a68a08b17f9f5
DTSTAMP:20260422T071030Z
SUMMARY:[männliche B-Jugend Runde] EJW Münchingen  - CVJM  Walddorfhäsla
 ch 
URL:https://www.eichenkreuzliga.de/handball/game/id/10869
DTSTART:20191117T160000
DTEND:20191117T170000
LOCATION:Sporthalle Münchingen\, 70825 Korntal-Münchingen
END:VEVENT
BEGIN:VEVENT
UID:ebfe559afc6399967428a3160cb11b97
DTSTAMP:20260422T071030Z
SUMMARY:[männliche B-Jugend Runde] CVJM HB Dußlingen-Gomaringen  - CVJM P
 lochingen 
URL:https://www.eichenkreuzliga.de/handball/game/id/10870
DTSTART:20191117T170000
DTEND:20191117T180000
LOCATION:Hönisch Sporthalle\, 72144 Dusslingen
END:VEVENT
BEGIN:VEVENT
UID:f8c001ecd82093ef7a9ea2f6d8061d60
DTSTAMP:20260422T071030Z
SUMMARY:[männliche B-Jugend Runde] CVJM Hagelloch SG Hagelloch/Kusterdinge
 n - CVJM Kusterdingen 
URL:https://www.eichenkreuzliga.de/handball/game/id/10871
DTSTART:20191130T143000
DTEND:20191130T153000
LOCATION:Sporthalle Waldhäuser-Ost\, 72076 Tübingen
END:VEVENT
BEGIN:VEVENT
UID:7c572866072c90e138168b460780acb9
DTSTAMP:20260422T071030Z
SUMMARY:[männliche B-Jugend Runde] CVJM  Walddorfhäslach  - CVJM Fellbach
  
URL:https://www.eichenkreuzliga.de/handball/game/id/10874
DTSTART:20200314T133000
DTEND:20200314T143000
LOCATION:Ballspielhalle\, 72141 Walddorfhäslach
END:VEVENT
BEGIN:VEVENT
UID:d11492d68a315fa70e51f25779eb73b1
DTSTAMP:20260422T071030Z
SUMMARY:[männliche B-Jugend Runde] CVJM Flacht  - CVJM  Walddorfhäslach 
URL:https://www.eichenkreuzliga.de/handball/game/id/10875
DTSTART:20191123T160000
DTEND:20191123T170000
LOCATION:Sporthalle Flacht\, 71287 Weissach
END:VEVENT
BEGIN:VEVENT
UID:d0f65f6cb66b95bc80de3c564667439a
DTSTAMP:20260422T071030Z
SUMMARY:[männliche B-Jugend Runde] CVJM HB Dußlingen-Gomaringen  - EJW M
 ünchingen 
URL:https://www.eichenkreuzliga.de/handball/game/id/10877
DTSTART:20191207T163000
DTEND:20191207T173000
LOCATION:Hönisch Sporthalle\, 72144 Dusslingen
END:VEVENT
BEGIN:VEVENT
UID:8cf9ea0e920d07f2fd5c0acc09ea4cfa
DTSTAMP:20260422T071030Z
SUMMARY:[männliche B-Jugend Runde] CVJM Plochingen  - CVJM Hagelloch SG Ha
 gelloch/Kusterdingen
URL:https://www.eichenkreuzliga.de/handball/game/id/10878
DTSTART:20191208T161500
DTEND:20191208T171500
LOCATION:Gymnasiumsporthalle\, 73207 Plochingen
END:VEVENT
BEGIN:VEVENT
UID:9b860b50a55d51dd292b3dd04ba98717
DTSTAMP:20260422T071030Z
SUMMARY:[männliche B-Jugend Runde] CVJM  Walddorfhäslach  - CVJM HB Dußl
 ingen-Gomaringen 
URL:https://www.eichenkreuzliga.de/handball/game/id/10881
DTSTART:20200126T143000
DTEND:20200126T153000
LOCATION:Ballspielhalle\, 72141 Walddorfhäslach
END:VEVENT
BEGIN:VEVENT
UID:e04786f566e26281aafaf6d88909e600
DTSTAMP:20260422T071030Z
SUMMARY:[männliche B-Jugend Runde] CVJM  Walddorfhäslach  - CVJM Ploching
 en 
URL:https://www.eichenkreuzliga.de/handball/game/id/10882
DTSTART:20200209T160000
DTEND:20200209T170000
LOCATION:Ballspielhalle\, 72141 Walddorfhäslach
END:VEVENT
BEGIN:VEVENT
UID:9f6ab77aded859107e52a9bd4c978667
DTSTAMP:20260422T071030Z
SUMMARY:[männliche B-Jugend Runde] CVJM Flacht  - EJW Münchingen 
URL:https://www.eichenkreuzliga.de/handball/game/id/10888
DTSTART:20200125T160000
DTEND:20200125T170000
LOCATION:Sporthalle Flacht\, 71287 Weissach
END:VEVENT
BEGIN:VEVENT
UID:f34c3c06e1fddeb4efe585e498499a42
DTSTAMP:20260422T071030Z
SUMMARY:[männliche B-Jugend Runde] CVJM Hagelloch SG Hagelloch/Kusterdinge
 n - EJW Münchingen 
URL:https://www.eichenkreuzliga.de/handball/game/id/10889
DTSTART:20200208T144500
DTEND:20200208T154500
LOCATION:Kreissporthalle Tübingen\, 72072 Tübingen
END:VEVENT
BEGIN:VEVENT
UID:105a677f1b7e61404548ebc24a4ded42
DTSTAMP:20260422T071030Z
SUMMARY:[männliche B-Jugend Runde] EJW Münchingen  - CVJM Fellbach 
URL:https://www.eichenkreuzliga.de/handball/game/id/10890
DTSTART:20200322T150000
DTEND:20200322T160000
LOCATION:Sporthalle Münchingen\, 70825 Korntal-Münchingen
END:VEVENT
BEGIN:VEVENT
UID:6193c8ade14270ef91cc6d7c3b6cb280
DTSTAMP:20260422T071030Z
SUMMARY:[männliche B-Jugend Runde] CVJM HB Dußlingen-Gomaringen  - CVJM K
 usterdingen 
URL:https://www.eichenkreuzliga.de/handball/game/id/10892
DTSTART:20200202T163000
DTEND:20200202T173000
LOCATION:Hönisch Sporthalle\, 72144 Dusslingen
END:VEVENT
BEGIN:VEVENT
UID:b2456c43c1df3786d1c602f5aa461869
DTSTAMP:20260422T071030Z
SUMMARY:[männliche B-Jugend Runde] CVJM HB Dußlingen-Gomaringen  - CVJM H
 agelloch SG Hagelloch/Kusterdingen
URL:https://www.eichenkreuzliga.de/handball/game/id/10894
DTSTART:20200321T181500
DTEND:20200321T191500
LOCATION:Hönisch Sporthalle\, 72144 Dusslingen
END:VEVENT
BEGIN:VEVENT
UID:2e998ffa02fb6914c7267b66426a522f
DTSTAMP:20260422T071030Z
SUMMARY:[männliche B-Jugend Runde] CVJM Hagelloch SG Hagelloch/Kusterdinge
 n - CVJM Fellbach 
URL:https://www.eichenkreuzliga.de/handball/game/id/10895
DTSTART:20200125T153000
DTEND:20200125T163000
LOCATION:Kreissporthalle Tübingen\, 72072 Tübingen
END:VEVENT
BEGIN:VEVENT
UID:7c4cf6e66027ba1fc63f071250eb7a90
DTSTAMP:20260422T071030Z
SUMMARY:[männliche B-Jugend Runde] CVJM Fellbach  - CVJM Flacht 
URL:https://www.eichenkreuzliga.de/handball/game/id/10896
DTSTART:20200208T153000
DTEND:20200208T163000
LOCATION:Zeppelinhalle\, 70734 Fellbach
END:VEVENT
BEGIN:VEVENT
UID:ff330000817b1ca17d9d8868834ead99
DTSTAMP:20260422T071030Z
SUMMARY:[männliche B-Jugend Runde] CVJM Fellbach  - CVJM Kusterdingen 
URL:https://www.eichenkreuzliga.de/handball/game/id/10897
DTSTART:20200308T143000
DTEND:20200308T153000
LOCATION:Zeppelinhalle\, 70734 Fellbach
END:VEVENT
BEGIN:VEVENT
UID:b484e7557a4b82d00256bd742d623cbc
DTSTAMP:20260422T071030Z
SUMMARY:[männliche B-Jugend Runde] CVJM Plochingen  - CVJM Fellbach 
URL:https://www.eichenkreuzliga.de/handball/game/id/10898
DTSTART:20200215T133000
DTEND:20200215T143000
LOCATION:Gymnasiumsporthalle\, 73207 Plochingen
END:VEVENT
BEGIN:VEVENT
UID:c098aba969d78cfc3e5340633ef13134
DTSTAMP:20260422T071030Z
SUMMARY:[männliche B-Jugend Runde] CVJM Flacht  - CVJM Plochingen 
URL:https://www.eichenkreuzliga.de/handball/game/id/10899
DTSTART:20200307T160000
DTEND:20200307T170000
LOCATION:Heckengäusporthalle 2\, 71287 Weissach
END:VEVENT
BEGIN:VEVENT
UID:219a1fd9910cb96f1de5d4e33491115c
DTSTAMP:20260422T071030Z
SUMMARY:[männliche B-Jugend Runde] CVJM Flacht  - CVJM Kusterdingen 
URL:https://www.eichenkreuzliga.de/handball/game/id/10900
DTSTART:20200111T160000
DTEND:20200111T170000
LOCATION:Sporthalle Flacht\, 71287 Weissach
END:VEVENT
BEGIN:VEVENT
UID:730936f58325e36db5d863bff4b66799
DTSTAMP:20260422T071030Z
SUMMARY:[männliche B-Jugend Runde] CVJM Kusterdingen  - CVJM Plochingen 
URL:https://www.eichenkreuzliga.de/handball/game/id/10901
DTSTART:20200328T150000
DTEND:20200328T160000
LOCATION:Härtensporthalle\, 72127 Kusterdingen
END:VEVENT
END:VCALENDAR
