BEGIN:VCALENDAR
PRODID:-//eluceo/ical//2.0/EN
VERSION:2.0
CALSCALE:GREGORIAN
BEGIN:VEVENT
UID:be0aa5cc3c145d979e4d08954ac9cd93
DTSTAMP:20260422T113254Z
SUMMARY:[männliche C-Jugend Runde] CVJM Untertürkheim  - CVJM Möglingen 
URL:https://www.eichenkreuzliga.de/handball/game/id/10355
DTSTART:20191019T140000
DTEND:20191019T150000
LOCATION:Lindenschul-Sporthalle Untertürkheim\, 70327 Untertürkheim
END:VEVENT
BEGIN:VEVENT
UID:a9427ecb5fa4cd17f2309e9971f430ae
DTSTAMP:20260422T113254Z
SUMMARY:[männliche C-Jugend Runde] CVJM Untertürkheim  - EK Bernhausen 
URL:https://www.eichenkreuzliga.de/handball/game/id/10357
DTSTART:20191214T163000
DTEND:20191214T173000
LOCATION:Lindenschul-Sporthalle Untertürkheim\, 70327 Untertürkheim
END:VEVENT
BEGIN:VEVENT
UID:f33900514267ec2f0db8635aaba611b4
DTSTAMP:20260422T113254Z
SUMMARY:[männliche C-Jugend Runde] CVJM Untertürkheim  - EK Höfingen 
URL:https://www.eichenkreuzliga.de/handball/game/id/10358
DTSTART:20200125T130000
DTEND:20200125T140000
LOCATION:Lindenschul-Sporthalle Untertürkheim\, 70327 Untertürkheim
END:VEVENT
BEGIN:VEVENT
UID:ac1616f0ff17c37c0b55619ec2aa32ac
DTSTAMP:20260422T113254Z
SUMMARY:[männliche C-Jugend Runde] CVJM Untertürkheim  - EJW Münchingen 
URL:https://www.eichenkreuzliga.de/handball/game/id/10359
DTSTART:20200321T140000
DTEND:20200321T150000
LOCATION:Lindenschul-Sporthalle Untertürkheim\, 70327 Untertürkheim
END:VEVENT
BEGIN:VEVENT
UID:9491292974a9aa93904a8e104d69d02c
DTSTAMP:20260422T113254Z
SUMMARY:[männliche C-Jugend Runde] CVJM SG Mössingen/Belsen  - CVJM Unter
 türkheim 
URL:https://www.eichenkreuzliga.de/handball/game/id/10360
DTSTART:20191013T150000
DTEND:20191013T160000
LOCATION:Jahnhalle 2\, 72116 Mössingen
END:VEVENT
BEGIN:VEVENT
UID:03bc95f6f9f7dd52722c8d5771e89917
DTSTAMP:20260422T113254Z
SUMMARY:[männliche C-Jugend Runde] CVJM HB Dußlingen-Gomaringen 1 - CVJM 
 Untertürkheim 
URL:https://www.eichenkreuzliga.de/handball/game/id/10361
DTSTART:20191117T153000
DTEND:20191117T163000
LOCATION:Hönisch Sporthalle\, 72144 Dusslingen
END:VEVENT
BEGIN:VEVENT
UID:264875d2481b27c1aae155fe5e48cf20
DTSTAMP:20260422T113254Z
SUMMARY:[männliche C-Jugend Runde] CVJM Untertürkheim  - CVJM Hagelloch 
URL:https://www.eichenkreuzliga.de/handball/game/id/10362
DTSTART:20200111T163000
DTEND:20200111T173000
LOCATION:Lindenschul-Sporthalle Untertürkheim\, 70327 Untertürkheim
END:VEVENT
BEGIN:VEVENT
UID:c1f0c9046556d1c064f6619d8246a747
DTSTAMP:20260422T113254Z
SUMMARY:[männliche C-Jugend Runde] CVJM Enzweihingen  - CVJM Untertürkhei
 m 
URL:https://www.eichenkreuzliga.de/handball/game/id/10363
DTSTART:20200209T150000
DTEND:20200209T160000
LOCATION:Schulsporthalle\, 71665 Enzweihingen
END:VEVENT
BEGIN:VEVENT
UID:cee4c1da37335fe9dbe8ed2ebd5f0f44
DTSTAMP:20260422T113254Z
SUMMARY:[männliche C-Jugend Runde] CVJM  Walddorfhäslach  - CVJM Untertü
 rkheim 
URL:https://www.eichenkreuzliga.de/handball/game/id/10364
DTSTART:20200314T150000
DTEND:20200314T160000
LOCATION:Ballspielhalle\, 72141 Walddorfhäslach
END:VEVENT
BEGIN:VEVENT
UID:1d9064e01164b085f2624e21ea96f9ef
DTSTAMP:20260422T113254Z
SUMMARY:[männliche C-Jugend Runde] CVJM  Walddorfhäslach  - EK Höfingen 
URL:https://www.eichenkreuzliga.de/handball/game/id/10365
DTSTART:20191013T170000
DTEND:20191013T180000
LOCATION:Ballspielhalle\, 72141 Walddorfhäslach
END:VEVENT
BEGIN:VEVENT
UID:51013564ec47cb0c37465f7e662fa177
DTSTAMP:20260422T113254Z
SUMMARY:[männliche C-Jugend Runde] CVJM Möglingen  - CVJM Enzweihingen 
URL:https://www.eichenkreuzliga.de/handball/game/id/10366
DTSTART:20191012T144500
DTEND:20191012T154500
LOCATION:Stadionhalle\, 71696 Möglingen
END:VEVENT
BEGIN:VEVENT
UID:9c66a1f002a82c436b57fc5a98b4016e
DTSTAMP:20260422T113254Z
SUMMARY:[männliche C-Jugend Runde] EJW Münchingen  - EK Bernhausen 
URL:https://www.eichenkreuzliga.de/handball/game/id/10367
DTSTART:20191013T150000
DTEND:20191013T160000
LOCATION:Sporthalle Münchingen\, 70825 Korntal-Münchingen
END:VEVENT
BEGIN:VEVENT
UID:2ec4a1427ab1bf56ebda2dddcc208f14
DTSTAMP:20260422T113254Z
SUMMARY:[männliche C-Jugend Runde] CVJM HB Dußlingen-Gomaringen 1 - EK K
 öngen 
URL:https://www.eichenkreuzliga.de/handball/game/id/10368
DTSTART:20200202T130000
DTEND:20200202T140000
LOCATION:Hönisch Sporthalle\, 72144 Dusslingen
END:VEVENT
BEGIN:VEVENT
UID:e635115800b8737f9f8f10ff136616f7
DTSTAMP:20260422T113254Z
SUMMARY:[männliche C-Jugend Runde] CVJM Enzweihingen  - CVJM Hagelloch 
URL:https://www.eichenkreuzliga.de/handball/game/id/10369
DTSTART:20191020T161500
DTEND:20191020T171500
LOCATION:Schulsporthalle\, 71665 Enzweihingen
END:VEVENT
BEGIN:VEVENT
UID:892ab1bdd0fadea32560c321d7d05f96
DTSTAMP:20260422T113254Z
SUMMARY:[männliche C-Jugend Runde] EK Bernhausen  - CVJM SG Mössingen/Bel
 sen 
URL:https://www.eichenkreuzliga.de/handball/game/id/10370
DTSTART:20191116T120000
DTEND:20191116T130000
LOCATION:Elisabeth-Selbert-Gymnasium Halle\, 70794 Bernhausen
END:VEVENT
BEGIN:VEVENT
UID:9b39c896de43c24b126fe253a0e2dcd6
DTSTAMP:20260422T113254Z
SUMMARY:[männliche C-Jugend Runde] EK Bernhausen  - CVJM  Walddorfhäslach
  
URL:https://www.eichenkreuzliga.de/handball/game/id/10371
DTSTART:20191019T144500
DTEND:20191019T154500
LOCATION:Elisabeth-Selbert-Gymnasium Halle\, 70794 Bernhausen
END:VEVENT
BEGIN:VEVENT
UID:834554e12d9a7d9b29a4d5b47f6c9c0a
DTSTAMP:20260422T113254Z
SUMMARY:[männliche C-Jugend Runde] EK Bernhausen  - EK Köngen 
URL:https://www.eichenkreuzliga.de/handball/game/id/10372
DTSTART:20200111T141500
DTEND:20200111T151500
LOCATION:Elisabeth-Selbert-Gymnasium Halle\, 70794 Bernhausen
END:VEVENT
BEGIN:VEVENT
UID:12d08abcb0bc64805bf7e90142b1ffff
DTSTAMP:20260422T113254Z
SUMMARY:[männliche C-Jugend Runde] EK Bernhausen  - CVJM Möglingen 
URL:https://www.eichenkreuzliga.de/handball/game/id/10373
DTSTART:20200208T124500
DTEND:20200208T134500
LOCATION:Elisabeth-Selbert-Gymnasium Halle\, 70794 Bernhausen
END:VEVENT
BEGIN:VEVENT
UID:201b03e5eb5829594ba64636a89ca70b
DTSTAMP:20260422T113254Z
SUMMARY:[männliche C-Jugend Runde] EK Bernhausen  - EK Höfingen 
URL:https://www.eichenkreuzliga.de/handball/game/id/10374
DTSTART:20200314T130000
DTEND:20200314T140000
LOCATION:Elisabeth-Selbert-Gymnasium Halle\, 70794 Bernhausen
END:VEVENT
BEGIN:VEVENT
UID:dc77dd098476336a25601cfebf180cac
DTSTAMP:20260422T113254Z
SUMMARY:[männliche C-Jugend Runde] CVJM Möglingen  - CVJM Hagelloch 
URL:https://www.eichenkreuzliga.de/handball/game/id/10375
DTSTART:20191116T130000
DTEND:20191116T140000
LOCATION:Stadionhalle\, 71696 Möglingen
END:VEVENT
BEGIN:VEVENT
UID:8a8b850d2d9a10f5c0f98acd831e74be
DTSTAMP:20260422T113254Z
SUMMARY:[männliche C-Jugend Runde] CVJM Möglingen  - CVJM HB Dußlingen-G
 omaringen 1
URL:https://www.eichenkreuzliga.de/handball/game/id/10376
DTSTART:20191123T150000
DTEND:20191123T160000
LOCATION:Stadionhalle\, 71696 Möglingen
END:VEVENT
BEGIN:VEVENT
UID:e6c8c062e36a7bc5aaf826ba50ec9530
DTSTAMP:20260422T113254Z
SUMMARY:[männliche C-Jugend Runde] CVJM Möglingen  - EK Höfingen 
URL:https://www.eichenkreuzliga.de/handball/game/id/10378
DTSTART:20200215T130000
DTEND:20200215T140000
LOCATION:Stadionhalle\, 71696 Möglingen
END:VEVENT
BEGIN:VEVENT
UID:ba8abd61919a3505eb1055ac32512318
DTSTAMP:20260422T113254Z
SUMMARY:[männliche C-Jugend Runde] EJW Münchingen  - CVJM Möglingen 
URL:https://www.eichenkreuzliga.de/handball/game/id/10379
DTSTART:20200126T173000
DTEND:20200126T183000
LOCATION:Sporthalle Münchingen\, 70825 Korntal-Münchingen
END:VEVENT
BEGIN:VEVENT
UID:00c2d38fb17d054df220786bf5165c6d
DTSTAMP:20260422T113254Z
SUMMARY:[männliche C-Jugend Runde] CVJM SG Mössingen/Belsen  - CVJM Mögl
 ingen 
URL:https://www.eichenkreuzliga.de/handball/game/id/10381
DTSTART:20200321T153000
DTEND:20200321T163000
LOCATION:Jahnhalle 2\, 72116 Mössingen
END:VEVENT
BEGIN:VEVENT
UID:a2a680b645c9b78f7c48ceb5e62d386c
DTSTAMP:20260422T113254Z
SUMMARY:[männliche C-Jugend Runde] EJW Münchingen  - EK Höfingen 
URL:https://www.eichenkreuzliga.de/handball/game/id/10382
DTSTART:20191117T130000
DTEND:20191117T140000
LOCATION:Sporthalle Münchingen\, 70825 Korntal-Münchingen
END:VEVENT
BEGIN:VEVENT
UID:35737a1372c2a766a6dd1c6d057e56e9
DTSTAMP:20260422T113254Z
SUMMARY:[männliche C-Jugend Runde] EJW Münchingen  - CVJM Enzweihingen 
URL:https://www.eichenkreuzliga.de/handball/game/id/10383
DTSTART:20200202T130000
DTEND:20200202T140000
LOCATION:Sporthalle Münchingen\, 70825 Korntal-Münchingen
END:VEVENT
BEGIN:VEVENT
UID:20e4955493fb38c45ae09bd126ae93c4
DTSTAMP:20260422T113254Z
SUMMARY:[männliche C-Jugend Runde] EJW Münchingen  - CVJM HB Dußlingen-G
 omaringen 1
URL:https://www.eichenkreuzliga.de/handball/game/id/10384
DTSTART:20200216T160000
DTEND:20200216T170000
LOCATION:Sporthalle Münchingen\, 70825 Korntal-Münchingen
END:VEVENT
BEGIN:VEVENT
UID:fee1bf97e0a2e615ea91f939da0b4af7
DTSTAMP:20260422T113254Z
SUMMARY:[männliche C-Jugend Runde] EK Höfingen  - EK Köngen 
URL:https://www.eichenkreuzliga.de/handball/game/id/10385
DTSTART:20191019T150000
DTEND:20191019T160000
LOCATION:Strohgäuhalle\, 71229 Höfingen
END:VEVENT
BEGIN:VEVENT
UID:d02ffc281c194c0a3a3bdcf3b54d62b6
DTSTAMP:20260422T113254Z
SUMMARY:[männliche C-Jugend Runde] EK Höfingen  - CVJM HB Dußlingen-Goma
 ringen 1
URL:https://www.eichenkreuzliga.de/handball/game/id/10386
DTSTART:20191130T160000
DTEND:20191130T170000
LOCATION:Strohgäuhalle\, 71229 Höfingen
END:VEVENT
BEGIN:VEVENT
UID:613d9a1b855e9b3a4af2b5bf12ec36c2
DTSTAMP:20260422T113254Z
SUMMARY:[männliche C-Jugend Runde] EK Höfingen  - CVJM Hagelloch 
URL:https://www.eichenkreuzliga.de/handball/game/id/10387
DTSTART:20200201T160000
DTEND:20200201T170000
LOCATION:Strohgäuhalle\, 71229 Höfingen
END:VEVENT
BEGIN:VEVENT
UID:b5699356b9acd4d55c2bc5a94423d286
DTSTAMP:20260422T113254Z
SUMMARY:[männliche C-Jugend Runde] EK Höfingen  - CVJM SG Mössingen/Bels
 en 
URL:https://www.eichenkreuzliga.de/handball/game/id/10388
DTSTART:20200111T150000
DTEND:20200111T160000
LOCATION:Strohgäuhalle\, 71229 Höfingen
END:VEVENT
BEGIN:VEVENT
UID:48779edeacf42c9f76e99d1e7f2f6eda
DTSTAMP:20260422T113254Z
SUMMARY:[männliche C-Jugend Runde] EK Höfingen  - CVJM Enzweihingen 
URL:https://www.eichenkreuzliga.de/handball/game/id/10389
DTSTART:20200307T140000
DTEND:20200307T150000
LOCATION:Strohgäuhalle\, 71229 Höfingen
END:VEVENT
BEGIN:VEVENT
UID:5b23342465c0b151237ede69363cd3a4
DTSTAMP:20260422T113254Z
SUMMARY:[männliche C-Jugend Runde] CVJM Hagelloch  - EK Bernhausen 
URL:https://www.eichenkreuzliga.de/handball/game/id/10390
DTSTART:20191130T160000
DTEND:20191130T170000
LOCATION:Sporthalle Waldhäuser-Ost\, 72076 Tübingen
END:VEVENT
BEGIN:VEVENT
UID:bb004bb1c95a287a83adc978c4e25778
DTSTAMP:20260422T113254Z
SUMMARY:[männliche C-Jugend Runde] CVJM Enzweihingen  - EK Bernhausen 
URL:https://www.eichenkreuzliga.de/handball/game/id/10391
DTSTART:20200126T140000
DTEND:20200126T150000
LOCATION:Schulsporthalle\, 71665 Enzweihingen
END:VEVENT
BEGIN:VEVENT
UID:d93594272f10c0b90593113c2528059c
DTSTAMP:20260422T113254Z
SUMMARY:[männliche C-Jugend Runde] EK Köngen  - CVJM Enzweihingen 
URL:https://www.eichenkreuzliga.de/handball/game/id/10394
DTSTART:20191117T140000
DTEND:20191117T150000
LOCATION:Burgschulhalle\, 73257 Köngen
END:VEVENT
BEGIN:VEVENT
UID:5aa0a166b4792e66c7a37b48551d88d9
DTSTAMP:20260422T113254Z
SUMMARY:[männliche C-Jugend Runde] EK Köngen  - EJW Münchingen 
URL:https://www.eichenkreuzliga.de/handball/game/id/10397
DTSTART:20191208T143000
DTEND:20191208T153000
LOCATION:Burgschulhalle\, 73257 Köngen
END:VEVENT
BEGIN:VEVENT
UID:d579753abce00bdeeeaecf3b88c1f85a
DTSTAMP:20260422T113254Z
SUMMARY:[männliche C-Jugend Runde] CVJM SG Mössingen/Belsen  - EJW Münch
 ingen 
URL:https://www.eichenkreuzliga.de/handball/game/id/10400
DTSTART:20191201T133000
DTEND:20191201T143000
LOCATION:Jahnhalle 2\, 72116 Mössingen
END:VEVENT
BEGIN:VEVENT
UID:bc1e8e8cf8362872cb51ea9d8c981131
DTSTAMP:20260422T113254Z
SUMMARY:[männliche C-Jugend Runde] CVJM Hagelloch  - EJW Münchingen 
URL:https://www.eichenkreuzliga.de/handball/game/id/10401
DTSTART:20200119T170000
DTEND:20200119T180000
LOCATION:Sporthalle Waldhäuser-Ost\, 72076 Tübingen
END:VEVENT
BEGIN:VEVENT
UID:f322ec84d13b86c4e718f57abfcdd6dc
DTSTAMP:20260422T113254Z
SUMMARY:[männliche C-Jugend Runde] CVJM  Walddorfhäslach  - EJW Münching
 en 
URL:https://www.eichenkreuzliga.de/handball/game/id/10402
DTSTART:20200209T143000
DTEND:20200209T153000
LOCATION:Ballspielhalle\, 72141 Walddorfhäslach
END:VEVENT
BEGIN:VEVENT
UID:4b296ea6f9ca270fe26665c603859ae4
DTSTAMP:20260422T113254Z
SUMMARY:[männliche C-Jugend Runde] CVJM SG Mössingen/Belsen  - CVJM Enzwe
 ihingen 
URL:https://www.eichenkreuzliga.de/handball/game/id/10403
DTSTART:20200119T143000
DTEND:20200119T153000
LOCATION:Jahnhalle 2\, 72116 Mössingen
END:VEVENT
BEGIN:VEVENT
UID:b6514289e11048f3f03cba8b1f8a7c36
DTSTAMP:20260422T113254Z
SUMMARY:[männliche C-Jugend Runde] CVJM HB Dußlingen-Gomaringen 1 - CVJM 
 SG Mössingen/Belsen 
URL:https://www.eichenkreuzliga.de/handball/game/id/10404
DTSTART:20191019T121500
DTEND:20191019T131500
LOCATION:Hönisch Sporthalle\, 72144 Dusslingen
END:VEVENT
BEGIN:VEVENT
UID:9bc962cd7a26df497e39510f5a071904
DTSTAMP:20260422T113254Z
SUMMARY:[männliche C-Jugend Runde] CVJM Hagelloch  - CVJM SG Mössingen/Be
 lsen 
URL:https://www.eichenkreuzliga.de/handball/game/id/10405
DTSTART:20200307T150000
DTEND:20200307T160000
LOCATION:Sporthalle Waldhäuser-Ost\, 72076 Tübingen
END:VEVENT
BEGIN:VEVENT
UID:5415238e5614aed4cbd2465ab8aaca1f
DTSTAMP:20260422T113254Z
SUMMARY:[männliche C-Jugend Runde] CVJM Enzweihingen  - CVJM  Walddorfhäs
 lach 
URL:https://www.eichenkreuzliga.de/handball/game/id/10408
DTSTART:20191201T150000
DTEND:20191201T160000
LOCATION:Schulsporthalle\, 71665 Enzweihingen
END:VEVENT
BEGIN:VEVENT
UID:6fcd686c7e9f3b31449a7a7928e89ca8
DTSTAMP:20260422T113254Z
SUMMARY:[männliche C-Jugend Runde] CVJM Hagelloch  - CVJM HB Dußlingen-Go
 maringen 1
URL:https://www.eichenkreuzliga.de/handball/game/id/10410
DTSTART:20191109T130000
DTEND:20191109T140000
LOCATION:Sporthalle Waldhäuser-Ost\, 72076 Tübingen
END:VEVENT
BEGIN:VEVENT
UID:a03742faead91ebbef93afe07f72b3d1
DTSTAMP:20260422T113254Z
SUMMARY:[männliche C-Jugend Runde] CVJM Hagelloch  - CVJM  Walddorfhäslac
 h 
URL:https://www.eichenkreuzliga.de/handball/game/id/10411
DTSTART:20200125T130000
DTEND:20200125T140000
LOCATION:Kreissporthalle Tübingen\, 72072 Tübingen
END:VEVENT
BEGIN:VEVENT
UID:51b965b6a0028ef02696ea65940d836d
DTSTAMP:20260422T113254Z
SUMMARY:[männliche C-Jugend Runde] EK Köngen  - CVJM Untertürkheim 
URL:https://www.eichenkreuzliga.de/handball/game/id/10412
DTSTART:20191130T161500
DTEND:20191130T171500
LOCATION:Burgschulhalle\, 73257 Köngen
END:VEVENT
BEGIN:VEVENT
UID:ca46c0f5d6d3d6b60078db73bd0907fd
DTSTAMP:20260422T113254Z
SUMMARY:[männliche C-Jugend Runde] EK Köngen  - CVJM  Walddorfhäslach 
URL:https://www.eichenkreuzliga.de/handball/game/id/10413
DTSTART:20200118T124500
DTEND:20200118T134500
LOCATION:Burgschulhalle\, 73257 Köngen
END:VEVENT
BEGIN:VEVENT
UID:2578be477c044c738232e404a965eee8
DTSTAMP:20260422T113254Z
SUMMARY:[männliche C-Jugend Runde] CVJM Möglingen  - EK Köngen 
URL:https://www.eichenkreuzliga.de/handball/game/id/10414
DTSTART:20200307T130000
DTEND:20200307T140000
LOCATION:Stadionhalle\, 71696 Möglingen
END:VEVENT
BEGIN:VEVENT
UID:27948f3dbe5d002a8576735dd71afb36
DTSTAMP:20260422T113254Z
SUMMARY:[männliche C-Jugend Runde] CVJM  Walddorfhäslach  - CVJM Mögling
 en 
URL:https://www.eichenkreuzliga.de/handball/game/id/10415
DTSTART:20191207T161500
DTEND:20191207T171500
LOCATION:Ballspielhalle\, 72141 Walddorfhäslach
END:VEVENT
BEGIN:VEVENT
UID:107c2d436f5e5dff256c90c92b2ee0cd
DTSTAMP:20260422T113254Z
SUMMARY:[männliche C-Jugend Runde] CVJM HB Dußlingen-Gomaringen 1 - EK Be
 rnhausen 
URL:https://www.eichenkreuzliga.de/handball/game/id/10419
DTSTART:20200119T150000
DTEND:20200119T160000
LOCATION:Hönisch Sporthalle\, 72144 Dusslingen
END:VEVENT
BEGIN:VEVENT
UID:f90103ab826debf1a07f14d6bc70c38f
DTSTAMP:20260422T113254Z
SUMMARY:[männliche C-Jugend Runde] CVJM HB Dußlingen-Gomaringen 1 - CVJM 
  Walddorfhäslach 
URL:https://www.eichenkreuzliga.de/handball/game/id/10420
DTSTART:20200308T130000
DTEND:20200308T140000
LOCATION:Hönisch Sporthalle\, 72144 Dusslingen
END:VEVENT
BEGIN:VEVENT
UID:9fe2d2860be89d881fdba26159ac6393
DTSTAMP:20260422T113254Z
SUMMARY:[männliche C-Jugend Runde] CVJM SG Mössingen/Belsen  - EK Köngen
  
URL:https://www.eichenkreuzliga.de/handball/game/id/10423
DTSTART:20200125T153000
DTEND:20200125T163000
LOCATION:Jahnhalle 2\, 72116 Mössingen
END:VEVENT
BEGIN:VEVENT
UID:a42d88e15e848748225c6547c94db62b
DTSTAMP:20260422T113254Z
SUMMARY:[männliche C-Jugend Runde] EK Köngen  - CVJM Hagelloch 
URL:https://www.eichenkreuzliga.de/handball/game/id/10425
DTSTART:20200216T170000
DTEND:20200216T180000
LOCATION:Burgschulhalle\, 73257 Köngen
END:VEVENT
BEGIN:VEVENT
UID:4d01906b95c3d7cb2e2841dc3e5d99d2
DTSTAMP:20260422T113254Z
SUMMARY:[männliche C-Jugend Runde] CVJM  Walddorfhäslach  - CVJM SG Möss
 ingen/Belsen 
URL:https://www.eichenkreuzliga.de/handball/game/id/10426
DTSTART:20200216T143000
DTEND:20200216T153000
LOCATION:Ballspielhalle\, 72141 Walddorfhäslach
END:VEVENT
BEGIN:VEVENT
UID:1cdedf3367d1a3288e310cc70c3f1a7c
DTSTAMP:20260422T113254Z
SUMMARY:[männliche C-Jugend Runde] CVJM Enzweihingen  - CVJM HB Dußlingen
 -Gomaringen 1
URL:https://www.eichenkreuzliga.de/handball/game/id/11078
DTSTART:20200322T140000
DTEND:20200322T150000
LOCATION:Schulsporthalle\, 71665 Enzweihingen
END:VEVENT
END:VCALENDAR
