BEGIN:VCALENDAR
PRODID:-//eluceo/ical//2.0/EN
VERSION:2.0
CALSCALE:GREGORIAN
BEGIN:VEVENT
UID:0ef102316e7ec3a2b386a89060e8575c
DTSTAMP:20260422T071034Z
SUMMARY:[weibliche D-Jugend Runde] CVJM SG Mössingen/Belsen  - EK Bernhaus
 en 
URL:https://www.eichenkreuzliga.de/handball/game/id/9798
DTSTART:20191012T134000
DTEND:20191012T144000
LOCATION:Sporthalle Münchingen\, 70825 Korntal-Münchingen
END:VEVENT
BEGIN:VEVENT
UID:cc3f2b5a706cad3a1e4a7558986d2c2b
DTSTAMP:20260422T071034Z
SUMMARY:[weibliche D-Jugend Runde] EJW Münchingen  - CVJM SG Mössingen/Be
 lsen 
URL:https://www.eichenkreuzliga.de/handball/game/id/9799
DTSTART:20191012T143500
DTEND:20191012T153500
LOCATION:Sporthalle Münchingen\, 70825 Korntal-Münchingen
END:VEVENT
BEGIN:VEVENT
UID:0fae455b47f456b4de627788795139ba
DTSTAMP:20260422T071034Z
SUMMARY:[weibliche D-Jugend Runde] EJW Münchingen  - EK Bernhausen 
URL:https://www.eichenkreuzliga.de/handball/game/id/9800
DTSTART:20191012T151500
DTEND:20191012T161500
LOCATION:Sporthalle Münchingen\, 70825 Korntal-Münchingen
END:VEVENT
BEGIN:VEVENT
UID:abf914fe5db713859887efee25ddb778
DTSTAMP:20260422T071034Z
SUMMARY:[weibliche D-Jugend Runde] CVJM Kirchentellinsfurt  - CVJM HB Dußl
 ingen-Gomaringen 1
URL:https://www.eichenkreuzliga.de/handball/game/id/9801
DTSTART:20191012T130000
DTEND:20191012T140000
LOCATION:Sporthalle\, 72138 Kirchentellinsfurt
END:VEVENT
BEGIN:VEVENT
UID:53e0d1095abf575bb1d66c79ae8f0e5d
DTSTAMP:20260422T071034Z
SUMMARY:[weibliche D-Jugend Runde] CVJM Kirchentellinsfurt  - CVJM Hülben 
 / Plochingen
URL:https://www.eichenkreuzliga.de/handball/game/id/9802
DTSTART:20191012T134000
DTEND:20191012T144000
LOCATION:Sporthalle\, 72138 Kirchentellinsfurt
END:VEVENT
BEGIN:VEVENT
UID:cea1559caf5bb78d33a76534d406658e
DTSTAMP:20260422T071034Z
SUMMARY:[weibliche D-Jugend Runde] CVJM HB Dußlingen-Gomaringen 1 - CVJM H
 ülben / Plochingen
URL:https://www.eichenkreuzliga.de/handball/game/id/9803
DTSTART:20191012T143500
DTEND:20191012T153500
LOCATION:Sporthalle\, 72138 Kirchentellinsfurt
END:VEVENT
BEGIN:VEVENT
UID:c173b7fbd643517bcf6b80c14c8ddcfc
DTSTAMP:20260422T071034Z
SUMMARY:[weibliche D-Jugend Runde] CVJM SG Mössingen/Belsen  - CVJM HB Du
 ßlingen-Gomaringen 1
URL:https://www.eichenkreuzliga.de/handball/game/id/9805
DTSTART:20191109T134000
DTEND:20191109T144000
LOCATION:Jahnhalle 2\, 72116 Mössingen
END:VEVENT
BEGIN:VEVENT
UID:51e9a6f14e93ab95f449e352e3f59fd0
DTSTAMP:20260422T071034Z
SUMMARY:[weibliche D-Jugend Runde] CVJM SG Mössingen/Belsen  - CVJM HB Du
 ßlingen-Gomaringen 1
URL:https://www.eichenkreuzliga.de/handball/game/id/9807
DTSTART:20191109T143500
DTEND:20191109T153500
LOCATION:Jahnhalle 2\, 72116 Mössingen
END:VEVENT
BEGIN:VEVENT
UID:e21b3bfc24ee7818894715384feac4a8
DTSTAMP:20260422T071034Z
SUMMARY:[weibliche D-Jugend Runde] CVJM Hülben / Plochingen - EJW Münchin
 gen 
URL:https://www.eichenkreuzliga.de/handball/game/id/9809
DTSTART:20191110T133000
DTEND:20191110T143000
LOCATION:Gymnasiumsporthalle\, 73207 Plochingen
END:VEVENT
BEGIN:VEVENT
UID:dcb840493a3e6c25ddfe2797652a8f4b
DTSTAMP:20260422T071034Z
SUMMARY:[weibliche D-Jugend Runde] CVJM Kirchentellinsfurt  - EK Bernhausen
  
URL:https://www.eichenkreuzliga.de/handball/game/id/9810
DTSTART:20191110T141000
DTEND:20191110T151000
LOCATION:Gymnasiumsporthalle\, 73207 Plochingen
END:VEVENT
BEGIN:VEVENT
UID:9f236bf4bdae4ab1d704060e78c6ef57
DTSTAMP:20260422T071034Z
SUMMARY:[weibliche D-Jugend Runde] CVJM Hülben / Plochingen - EK Bernhause
 n 
URL:https://www.eichenkreuzliga.de/handball/game/id/9811
DTSTART:20191110T150500
DTEND:20191110T160500
LOCATION:Gymnasiumsporthalle\, 73207 Plochingen
END:VEVENT
BEGIN:VEVENT
UID:bbe7839aad5d94882027515de44fc2da
DTSTAMP:20260422T071034Z
SUMMARY:[weibliche D-Jugend Runde] CVJM Kirchentellinsfurt  - EJW Münching
 en 
URL:https://www.eichenkreuzliga.de/handball/game/id/9812
DTSTART:20191110T154500
DTEND:20191110T164500
LOCATION:Gymnasiumsporthalle\, 73207 Plochingen
END:VEVENT
BEGIN:VEVENT
UID:187e596993b43a9e16007344c10793f5
DTSTAMP:20260422T071034Z
SUMMARY:[weibliche D-Jugend Runde] CVJM Hülben / Plochingen - CVJM SG Mös
 singen/Belsen 
URL:https://www.eichenkreuzliga.de/handball/game/id/9815
DTSTART:20191214T110000
DTEND:20191214T120000
LOCATION:Falkensteinhalle\, 72582 Grabenstetten
END:VEVENT
BEGIN:VEVENT
UID:901e18a34e9c4526f69c18c60de3570d
DTSTAMP:20260422T071034Z
SUMMARY:[weibliche D-Jugend Runde] CVJM Kirchentellinsfurt  - CVJM SG Möss
 ingen/Belsen 
URL:https://www.eichenkreuzliga.de/handball/game/id/9817
DTSTART:20191214T123500
DTEND:20191214T133500
LOCATION:Falkensteinhalle\, 72582 Grabenstetten
END:VEVENT
BEGIN:VEVENT
UID:5d1721d1748a1a0ffab0e7c8996a1f57
DTSTAMP:20260422T071034Z
SUMMARY:[weibliche D-Jugend Runde] EK Bernhausen  - CVJM HB Dußlingen-Goma
 ringen 1
URL:https://www.eichenkreuzliga.de/handball/game/id/9819
DTSTART:20191207T124000
DTEND:20191207T134000
LOCATION:Elisabeth-Selbert-Gymnasium Halle\, 70794 Bernhausen
END:VEVENT
BEGIN:VEVENT
UID:e0173345d6d55819d9e1fcdb1bf22b26
DTSTAMP:20260422T071034Z
SUMMARY:[weibliche D-Jugend Runde] EK Bernhausen  - EJW Münchingen 
URL:https://www.eichenkreuzliga.de/handball/game/id/9820
DTSTART:20191207T000000
DTEND:20191207T010000
LOCATION:Elisabeth-Selbert-Gymnasium Halle\, 70794 Bernhausen
END:VEVENT
BEGIN:VEVENT
UID:6bddda9e54394da7c2100b97e9bdf88e
DTSTAMP:20260422T071034Z
SUMMARY:[weibliche D-Jugend Runde] CVJM HB Dußlingen-Gomaringen 1 - EJW M
 ünchingen 
URL:https://www.eichenkreuzliga.de/handball/game/id/9821
DTSTART:20191207T000000
DTEND:20191207T010000
LOCATION:Elisabeth-Selbert-Gymnasium Halle\, 70794 Bernhausen
END:VEVENT
BEGIN:VEVENT
UID:a1fe35f9618fcdb51f5f2e77222e0b60
DTSTAMP:20260422T071034Z
SUMMARY:[weibliche D-Jugend Runde] EK Bernhausen  - CVJM Kirchentellinsfurt
  
URL:https://www.eichenkreuzliga.de/handball/game/id/9824
DTSTART:20200125T134000
DTEND:20200125T144000
LOCATION:Elisabeth-Selbert-Gymnasium Halle\, 70794 Bernhausen
END:VEVENT
BEGIN:VEVENT
UID:1d221be2a1bd615632d328a75ff8fcf5
DTSTAMP:20260422T071034Z
SUMMARY:[weibliche D-Jugend Runde] CVJM Kirchentellinsfurt  - CVJM HB Dußl
 ingen-Gomaringen 1
URL:https://www.eichenkreuzliga.de/handball/game/id/9826
DTSTART:20200125T143500
DTEND:20200125T153500
LOCATION:Elisabeth-Selbert-Gymnasium Halle\, 70794 Bernhausen
END:VEVENT
BEGIN:VEVENT
UID:ca4a78a9891cd6a8aca404109974418f
DTSTAMP:20260422T071034Z
SUMMARY:[weibliche D-Jugend Runde] EK Bernhausen  - EJW Münchingen 
URL:https://www.eichenkreuzliga.de/handball/game/id/9827
DTSTART:20200125T151500
DTEND:20200125T161500
LOCATION:Elisabeth-Selbert-Gymnasium Halle\, 70794 Bernhausen
END:VEVENT
BEGIN:VEVENT
UID:0fa30c999e4c9cd88c6950771d08743f
DTSTAMP:20260422T071034Z
SUMMARY:[weibliche D-Jugend Runde] EJW Münchingen  - CVJM SG Mössingen/Be
 lsen 
URL:https://www.eichenkreuzliga.de/handball/game/id/9829
DTSTART:20200126T130000
DTEND:20200126T140000
LOCATION:Sporthalle Münchingen\, 70825 Korntal-Münchingen
END:VEVENT
BEGIN:VEVENT
UID:fdb24639ee97a29ea1cc4d19126bb816
DTSTAMP:20260422T071034Z
SUMMARY:[weibliche D-Jugend Runde] CVJM SG Mössingen/Belsen  - CVJM Hülbe
 n / Plochingen
URL:https://www.eichenkreuzliga.de/handball/game/id/9830
DTSTART:20200126T134000
DTEND:20200126T144000
LOCATION:Sporthalle Münchingen\, 70825 Korntal-Münchingen
END:VEVENT
BEGIN:VEVENT
UID:6b7efa12b474d36876726aedcd0ac48e
DTSTAMP:20260422T071034Z
SUMMARY:[weibliche D-Jugend Runde] EJW Münchingen  - CVJM Hülben / Plochi
 ngen
URL:https://www.eichenkreuzliga.de/handball/game/id/9831
DTSTART:20200126T143000
DTEND:20200126T153000
LOCATION:Sporthalle Münchingen\, 70825 Korntal-Münchingen
END:VEVENT
BEGIN:VEVENT
UID:6d8c28fb498db7da589b188a57f56c09
DTSTAMP:20260422T071034Z
SUMMARY:[weibliche D-Jugend Runde] CVJM SG Mössingen/Belsen  - CVJM Kirche
 ntellinsfurt 
URL:https://www.eichenkreuzliga.de/handball/game/id/9833
DTSTART:20200215T134000
DTEND:20200215T144000
LOCATION:Jahnhalle 2\, 72116 Mössingen
END:VEVENT
BEGIN:VEVENT
UID:01f2759eb462565f939b78eddbc0df3c
DTSTAMP:20260422T071034Z
SUMMARY:[weibliche D-Jugend Runde] EJW Münchingen  - CVJM Kirchentellinsfu
 rt 
URL:https://www.eichenkreuzliga.de/handball/game/id/9835
DTSTART:20200215T143500
DTEND:20200215T153500
LOCATION:Jahnhalle 2\, 72116 Mössingen
END:VEVENT
BEGIN:VEVENT
UID:0fd6602b4c8b50d0227257ade386d5d3
DTSTAMP:20260422T071034Z
SUMMARY:[weibliche D-Jugend Runde] CVJM SG Mössingen/Belsen  - EJW Münchi
 ngen 
URL:https://www.eichenkreuzliga.de/handball/game/id/9836
DTSTART:20200215T151500
DTEND:20200215T161500
LOCATION:Jahnhalle 2\, 72116 Mössingen
END:VEVENT
BEGIN:VEVENT
UID:a0b985cbb56a38f6244ade6b985a7d57
DTSTAMP:20260422T071034Z
SUMMARY:[weibliche D-Jugend Runde] CVJM HB Dußlingen-Gomaringen 1 - CVJM H
 ülben / Plochingen
URL:https://www.eichenkreuzliga.de/handball/game/id/9841
DTSTART:20200215T121000
DTEND:20200215T131000
LOCATION:Hönisch Sporthalle\, 72144 Dusslingen
END:VEVENT
BEGIN:VEVENT
UID:b86d420f41087a9bc23ae351e067769c
DTSTAMP:20260422T071034Z
SUMMARY:[weibliche D-Jugend Runde] EK Bernhausen  - CVJM Hülben / Ploching
 en
URL:https://www.eichenkreuzliga.de/handball/game/id/9842
DTSTART:20200215T130000
DTEND:20200215T140000
LOCATION:Hönisch Sporthalle\, 72144 Dusslingen
END:VEVENT
BEGIN:VEVENT
UID:87ff96138910ce9261648f445109eb5f
DTSTAMP:20260422T071034Z
SUMMARY:[weibliche D-Jugend Runde] CVJM HB Dußlingen-Gomaringen 1 - EK Ber
 nhausen 
URL:https://www.eichenkreuzliga.de/handball/game/id/9843
DTSTART:20200215T113000
DTEND:20200215T123000
LOCATION:Hönisch Sporthalle\, 72144 Dusslingen
END:VEVENT
BEGIN:VEVENT
UID:6891df9ab18cd5c70c806ab3f7ba6947
DTSTAMP:20260422T071034Z
SUMMARY:[weibliche D-Jugend Runde] CVJM HB Dußlingen-Gomaringen 1 - CVJM S
 G Mössingen/Belsen 
URL:https://www.eichenkreuzliga.de/handball/game/id/9845
DTSTART:20200321T113000
DTEND:20200321T123000
LOCATION:Hönisch Sporthalle\, 72144 Dusslingen
END:VEVENT
BEGIN:VEVENT
UID:c22911297de60096981e4ce2d734889f
DTSTAMP:20260422T071034Z
SUMMARY:[weibliche D-Jugend Runde] EK Bernhausen  - EJW Münchingen 
URL:https://www.eichenkreuzliga.de/handball/game/id/9846
DTSTART:20200321T121000
DTEND:20200321T131000
LOCATION:Hönisch Sporthalle\, 72144 Dusslingen
END:VEVENT
BEGIN:VEVENT
UID:cce081c2715010bce97885425dbf36d5
DTSTAMP:20260422T071034Z
SUMMARY:[weibliche D-Jugend Runde] CVJM HB Dußlingen-Gomaringen 1 - EJW M
 ünchingen 
URL:https://www.eichenkreuzliga.de/handball/game/id/9847
DTSTART:20200321T130500
DTEND:20200321T140500
LOCATION:Hönisch Sporthalle\, 72144 Dusslingen
END:VEVENT
BEGIN:VEVENT
UID:ffe48cb1e859494ef874f6b5edd9af11
DTSTAMP:20260422T071034Z
SUMMARY:[weibliche D-Jugend Runde] EK Bernhausen  - CVJM SG Mössingen/Bels
 en 
URL:https://www.eichenkreuzliga.de/handball/game/id/9848
DTSTART:20200321T134500
DTEND:20200321T144500
LOCATION:Hönisch Sporthalle\, 72144 Dusslingen
END:VEVENT
BEGIN:VEVENT
UID:596dbe7c1a71330675dc0ed5d4f84ee2
DTSTAMP:20260422T071034Z
SUMMARY:[weibliche D-Jugend Runde] CVJM Hülben / Plochingen - CVJM Kirchen
 tellinsfurt 
URL:https://www.eichenkreuzliga.de/handball/game/id/11132
DTSTART:20191214T114500
DTEND:20191214T124500
LOCATION:Falkensteinhalle\, 72582 Grabenstetten
END:VEVENT
BEGIN:VEVENT
UID:894290dd08fa9ebb2955b369a58936a2
DTSTAMP:20260422T071034Z
SUMMARY:[weibliche D-Jugend Runde] EK Bernhausen  - CVJM HB Dußlingen-Goma
 ringen 1
URL:https://www.eichenkreuzliga.de/handball/game/id/11155
DTSTART:20191207T133500
DTEND:20191207T143500
LOCATION:Elisabeth-Selbert-Gymnasium Halle\, 70794 Bernhausen
END:VEVENT
BEGIN:VEVENT
UID:5f3929efe82e1d0b91ccc699c8b64101
DTSTAMP:20260422T071034Z
SUMMARY:[weibliche D-Jugend Runde] EJW Münchingen  - CVJM HB Dußlingen-Go
 maringen 1
URL:https://www.eichenkreuzliga.de/handball/game/id/11264
DTSTART:20200125T130000
DTEND:20200125T140000
LOCATION:Elisabeth-Selbert-Gymnasium Halle\, 70794 Bernhausen
END:VEVENT
END:VCALENDAR
