BEGIN:VCALENDAR
PRODID:-//eluceo/ical//2.0/EN
VERSION:2.0
CALSCALE:GREGORIAN
BEGIN:VEVENT
UID:6c7300fab66be7bee3015c91eb0a1b6d
DTSTAMP:20260422T132728Z
SUMMARY:[Herren LK1] CVJM Holzgerlingen  - CSV Stuttgart 
URL:https://www.eichenkreuzliga.de/fussball/game/id/9712
DTSTART:20190928T190000
DTEND:20190928T200000
LOCATION:\,  
END:VEVENT
BEGIN:VEVENT
UID:e47957914649a8e536954a0d00e9d3c9
DTSTAMP:20260422T132728Z
SUMMARY:[Herren LK1] CVJM Dettingen/Erms  - CSK Weinstadt 
URL:https://www.eichenkreuzliga.de/fussball/game/id/9713
DTSTART:20190929T170000
DTEND:20190929T180000
LOCATION:\,  
END:VEVENT
BEGIN:VEVENT
UID:e4eddea1270b994ffb04c8a744675484
DTSTAMP:20260422T132728Z
SUMMARY:[Herren LK1] CVJM Flacht  - CVJM Weissach 
URL:https://www.eichenkreuzliga.de/fussball/game/id/9714
DTSTART:20190929T160000
DTEND:20190929T170000
LOCATION:\,  
END:VEVENT
BEGIN:VEVENT
UID:10d80e3ee9ae15a2625bfbf009c6b66b
DTSTAMP:20260422T132728Z
SUMMARY:[Herren LK1] EC Dagersheim  - CSV Herrenberg 
URL:https://www.eichenkreuzliga.de/fussball/game/id/9715
DTSTART:20191117T170000
DTEND:20191117T180000
LOCATION:\,  
END:VEVENT
BEGIN:VEVENT
UID:c2d40cf281b0f42e50fe31511cecbd46
DTSTAMP:20260422T132728Z
SUMMARY:[Herren LK1] CSV Stuttgart  - EC Dagersheim 
URL:https://www.eichenkreuzliga.de/fussball/game/id/9716
DTSTART:20191006T190000
DTEND:20191006T200000
LOCATION:\,  
END:VEVENT
BEGIN:VEVENT
UID:6525bcfb2b77e0232ad0c52f922aaa89
DTSTAMP:20260422T132728Z
SUMMARY:[Herren LK1] CSK Weinstadt  - CVJM Holzgerlingen 
URL:https://www.eichenkreuzliga.de/fussball/game/id/9717
DTSTART:20191006T180000
DTEND:20191006T190000
LOCATION:\,  
END:VEVENT
BEGIN:VEVENT
UID:2adb678fc4570db6ac325e95d4c08073
DTSTAMP:20260422T132728Z
SUMMARY:[Herren LK1] CVJM Weissach  - CVJM Dettingen/Erms 
URL:https://www.eichenkreuzliga.de/fussball/game/id/9718
DTSTART:20191006T150000
DTEND:20191006T160000
LOCATION:\,  
END:VEVENT
BEGIN:VEVENT
UID:bc67b55aedb805fd918e107e5f63077e
DTSTAMP:20260422T132728Z
SUMMARY:[Herren LK1] CSV Herrenberg  - CVJM Flacht 
URL:https://www.eichenkreuzliga.de/fussball/game/id/9719
DTSTART:20191005T193000
DTEND:20191005T203000
LOCATION:\,  
END:VEVENT
BEGIN:VEVENT
UID:9dc42e44117c1f4416c3ae4f834a4708
DTSTAMP:20260422T132728Z
SUMMARY:[Herren LK1] EC Dagersheim  - CSK Weinstadt 
URL:https://www.eichenkreuzliga.de/fussball/game/id/9720
DTSTART:20191013T170000
DTEND:20191013T180000
LOCATION:\,  
END:VEVENT
BEGIN:VEVENT
UID:f06c7f1f548477e0562970cb03ab9fb7
DTSTAMP:20260422T132728Z
SUMMARY:[Herren LK1] CVJM Holzgerlingen  - CVJM Weissach 
URL:https://www.eichenkreuzliga.de/fussball/game/id/9721
DTSTART:20191013T160000
DTEND:20191013T170000
LOCATION:\,  
END:VEVENT
BEGIN:VEVENT
UID:d59481a6af19e6cb4dac73c56defd821
DTSTAMP:20260422T132728Z
SUMMARY:[Herren LK1] CVJM Dettingen/Erms  - CSV Herrenberg 
URL:https://www.eichenkreuzliga.de/fussball/game/id/9722
DTSTART:20191013T180000
DTEND:20191013T190000
LOCATION:\,  
END:VEVENT
BEGIN:VEVENT
UID:c64837befbafac568052b44a9ee0c474
DTSTAMP:20260422T132728Z
SUMMARY:[Herren LK1] CVJM Flacht  - CSV Stuttgart 
URL:https://www.eichenkreuzliga.de/fussball/game/id/9723
DTSTART:20191012T183000
DTEND:20191012T193000
LOCATION:\,  
END:VEVENT
BEGIN:VEVENT
UID:d68180b384ce75e826ccd1c379115fe3
DTSTAMP:20260422T132728Z
SUMMARY:[Herren LK1] CSK Weinstadt  - CVJM Flacht 
URL:https://www.eichenkreuzliga.de/fussball/game/id/9724
DTSTART:20191020T180000
DTEND:20191020T190000
LOCATION:\,  
END:VEVENT
BEGIN:VEVENT
UID:84d27eaa60d74d6931a050a6a5c0ca6b
DTSTAMP:20260422T132728Z
SUMMARY:[Herren LK1] CVJM Weissach  - EC Dagersheim 
URL:https://www.eichenkreuzliga.de/fussball/game/id/9725
DTSTART:20191019T160000
DTEND:20191019T170000
LOCATION:\,  
END:VEVENT
BEGIN:VEVENT
UID:c2dfee06c64b87874809986de8300d2e
DTSTAMP:20260422T132728Z
SUMMARY:[Herren LK1] CSV Herrenberg  - CVJM Holzgerlingen 
URL:https://www.eichenkreuzliga.de/fussball/game/id/9726
DTSTART:20191020T170000
DTEND:20191020T180000
LOCATION:\,  
END:VEVENT
BEGIN:VEVENT
UID:0af86e60400ebf969a886337facd1fd7
DTSTAMP:20260422T132728Z
SUMMARY:[Herren LK1] CSV Stuttgart  - CVJM Dettingen/Erms 
URL:https://www.eichenkreuzliga.de/fussball/game/id/9727
DTSTART:20191103T183000
DTEND:20191103T193000
LOCATION:\,  
END:VEVENT
BEGIN:VEVENT
UID:d96c192ddd45a05d05204dc5a6e7b477
DTSTAMP:20260422T132728Z
SUMMARY:[Herren LK1] CVJM Holzgerlingen  - CVJM Dettingen/Erms 
URL:https://www.eichenkreuzliga.de/fussball/game/id/9728
DTSTART:20191130T163000
DTEND:20191130T173000
LOCATION:\,  
END:VEVENT
BEGIN:VEVENT
UID:8c218ae719aad595113ea22264b7fa73
DTSTAMP:20260422T132728Z
SUMMARY:[Herren LK1] CVJM Flacht  - EC Dagersheim 
URL:https://www.eichenkreuzliga.de/fussball/game/id/9729
DTSTART:20191026T170000
DTEND:20191026T180000
LOCATION:\,  
END:VEVENT
BEGIN:VEVENT
UID:2e406a7e01cfcfea23a3b47a622cfb24
DTSTAMP:20260422T132728Z
SUMMARY:[Herren LK1] CSV Stuttgart  - CSK Weinstadt 
URL:https://www.eichenkreuzliga.de/fussball/game/id/9730
DTSTART:20191027T190000
DTEND:20191027T200000
LOCATION:\,  
END:VEVENT
BEGIN:VEVENT
UID:099df5d81d4cdf0776a87e6c1489fca6
DTSTAMP:20260422T132728Z
SUMMARY:[Herren LK1] CSV Herrenberg  - CVJM Weissach 
URL:https://www.eichenkreuzliga.de/fussball/game/id/9731
DTSTART:20191027T170000
DTEND:20191027T180000
LOCATION:\,  
END:VEVENT
BEGIN:VEVENT
UID:d014941fecc1df55d716d51d10222e21
DTSTAMP:20260422T132728Z
SUMMARY:[Herren LK1] EC Dagersheim  - CVJM Holzgerlingen 
URL:https://www.eichenkreuzliga.de/fussball/game/id/9732
DTSTART:20191208T170000
DTEND:20191208T180000
LOCATION:\,  
END:VEVENT
BEGIN:VEVENT
UID:0a6b6d9cff8621ed083962fe626f3a2f
DTSTAMP:20260422T132728Z
SUMMARY:[Herren LK1] CVJM Dettingen/Erms  - CVJM Flacht 
URL:https://www.eichenkreuzliga.de/fussball/game/id/9733
DTSTART:20191109T160000
DTEND:20191109T170000
LOCATION:\,  
END:VEVENT
BEGIN:VEVENT
UID:8802b51afe11cff4fc9ee322bdd2b01c
DTSTAMP:20260422T132728Z
SUMMARY:[Herren LK1] CSV Stuttgart  - CSV Herrenberg 
URL:https://www.eichenkreuzliga.de/fussball/game/id/9734
DTSTART:20191110T180000
DTEND:20191110T190000
LOCATION:\,  
END:VEVENT
BEGIN:VEVENT
UID:77f5efc0a741c334f33cced4fdacf07a
DTSTAMP:20260422T132728Z
SUMMARY:[Herren LK1] CSK Weinstadt  - CVJM Weissach 
URL:https://www.eichenkreuzliga.de/fussball/game/id/9735
DTSTART:20191110T180000
DTEND:20191110T190000
LOCATION:\,  
END:VEVENT
BEGIN:VEVENT
UID:cc31e65df1558d4d77b5b1ac6655fe3c
DTSTAMP:20260422T132728Z
SUMMARY:[Herren LK1] CVJM Holzgerlingen  - CVJM Flacht 
URL:https://www.eichenkreuzliga.de/fussball/game/id/11156
DTSTART:20200329T170000
DTEND:20200329T180000
LOCATION:\,  
END:VEVENT
BEGIN:VEVENT
UID:a2e47ac2864519d839292924be82f456
DTSTAMP:20260422T132728Z
SUMMARY:[Herren LK1] EC Dagersheim  - CVJM Dettingen/Erms 
URL:https://www.eichenkreuzliga.de/fussball/game/id/11157
DTSTART:20200411T150000
DTEND:20200411T160000
LOCATION:\,  
END:VEVENT
BEGIN:VEVENT
UID:7decb9c4d3e0cbace401feee740c962c
DTSTAMP:20260422T132728Z
SUMMARY:[Herren LK1] CVJM Weissach  - CSV Stuttgart 
URL:https://www.eichenkreuzliga.de/fussball/game/id/11158
DTSTART:20200329T140000
DTEND:20200329T150000
LOCATION:\,  
END:VEVENT
BEGIN:VEVENT
UID:3d0ac2376753eacefefc2500c5eff26d
DTSTAMP:20260422T132728Z
SUMMARY:[Herren LK1] CSV Herrenberg  - CSK Weinstadt 
URL:https://www.eichenkreuzliga.de/fussball/game/id/11159
DTSTART:20200328T000000
DTEND:20200328T010000
LOCATION:\,  
END:VEVENT
BEGIN:VEVENT
UID:bd1f7f3ed758b36ca045c922986c077f
DTSTAMP:20260422T132728Z
SUMMARY:[Herren LK1] CSV Stuttgart  - CVJM Holzgerlingen 
URL:https://www.eichenkreuzliga.de/fussball/game/id/11160
DTSTART:20200405T150000
DTEND:20200405T160000
LOCATION:\,  
END:VEVENT
BEGIN:VEVENT
UID:64069477e248ca9bb3163e9f0461c482
DTSTAMP:20260422T132728Z
SUMMARY:[Herren LK1] CSK Weinstadt  - CVJM Dettingen/Erms 
URL:https://www.eichenkreuzliga.de/fussball/game/id/11161
DTSTART:20200405T180000
DTEND:20200405T190000
LOCATION:\,  
END:VEVENT
BEGIN:VEVENT
UID:47a0d51615d93df90dadcf9d4d8d870d
DTSTAMP:20260422T132728Z
SUMMARY:[Herren LK1] CVJM Weissach  - CVJM Flacht 
URL:https://www.eichenkreuzliga.de/fussball/game/id/11162
DTSTART:20200405T173000
DTEND:20200405T183000
LOCATION:\,  
END:VEVENT
BEGIN:VEVENT
UID:ae52f3b0aecaa68893b844f062ce1b1c
DTSTAMP:20260422T132728Z
SUMMARY:[Herren LK1] CSV Herrenberg  - EC Dagersheim 
URL:https://www.eichenkreuzliga.de/fussball/game/id/11163
DTSTART:20200404T000000
DTEND:20200404T010000
LOCATION:\,  
END:VEVENT
BEGIN:VEVENT
UID:06afcb1c7eda8c7ae45ecaa7bfb14a57
DTSTAMP:20260422T132728Z
SUMMARY:[Herren LK1] EC Dagersheim  - CSV Stuttgart 
URL:https://www.eichenkreuzliga.de/fussball/game/id/11164
DTSTART:20200419T170000
DTEND:20200419T180000
LOCATION:\,  
END:VEVENT
BEGIN:VEVENT
UID:e734d01d8fdfcac1cd92210bbfd14a72
DTSTAMP:20260422T132728Z
SUMMARY:[Herren LK1] CVJM Holzgerlingen  - CSK Weinstadt 
URL:https://www.eichenkreuzliga.de/fussball/game/id/11165
DTSTART:20200419T160000
DTEND:20200419T170000
LOCATION:\,  
END:VEVENT
BEGIN:VEVENT
UID:3ab5a163f1c52838780a1c84b6f982fb
DTSTAMP:20260422T132728Z
SUMMARY:[Herren LK1] CVJM Dettingen/Erms  - CVJM Weissach 
URL:https://www.eichenkreuzliga.de/fussball/game/id/11166
DTSTART:20200418T170000
DTEND:20200418T180000
LOCATION:\,  
END:VEVENT
BEGIN:VEVENT
UID:69624876e12ee376bd51a67c07928a73
DTSTAMP:20260422T132728Z
SUMMARY:[Herren LK1] CVJM Flacht  - CSV Herrenberg 
URL:https://www.eichenkreuzliga.de/fussball/game/id/11167
DTSTART:20200419T160000
DTEND:20200419T170000
LOCATION:\,  
END:VEVENT
BEGIN:VEVENT
UID:04d1ce7a9a8b8171d2fb7212d58ca584
DTSTAMP:20260422T132728Z
SUMMARY:[Herren LK1] CSK Weinstadt  - EC Dagersheim 
URL:https://www.eichenkreuzliga.de/fussball/game/id/11168
DTSTART:20200426T170000
DTEND:20200426T180000
LOCATION:\,  
END:VEVENT
BEGIN:VEVENT
UID:46dd959c63a06d2bae950f20adab761e
DTSTAMP:20260422T132728Z
SUMMARY:[Herren LK1] CVJM Weissach  - CVJM Holzgerlingen 
URL:https://www.eichenkreuzliga.de/fussball/game/id/11169
DTSTART:20200425T153000
DTEND:20200425T163000
LOCATION:\,  
END:VEVENT
BEGIN:VEVENT
UID:809e165ed093f5d32d509778ab1b087f
DTSTAMP:20260422T132728Z
SUMMARY:[Herren LK1] CSV Herrenberg  - CVJM Dettingen/Erms 
URL:https://www.eichenkreuzliga.de/fussball/game/id/11170
DTSTART:20200425T000000
DTEND:20200425T010000
LOCATION:\,  
END:VEVENT
BEGIN:VEVENT
UID:ed81c9517e5b80c7a7a0c4205f00abb5
DTSTAMP:20260422T132728Z
SUMMARY:[Herren LK1] CSV Stuttgart  - CVJM Flacht 
URL:https://www.eichenkreuzliga.de/fussball/game/id/11171
DTSTART:20200425T150000
DTEND:20200425T160000
LOCATION:\,  
END:VEVENT
BEGIN:VEVENT
UID:2abcd11a8c50f0cce3178568ee2e8348
DTSTAMP:20260422T132728Z
SUMMARY:[Herren LK1] CVJM Flacht  - CSK Weinstadt 
URL:https://www.eichenkreuzliga.de/fussball/game/id/11172
DTSTART:20200614T170000
DTEND:20200614T180000
LOCATION:\,  
END:VEVENT
BEGIN:VEVENT
UID:5bf2373fa6c7b2f6956c648b2e455402
DTSTAMP:20260422T132728Z
SUMMARY:[Herren LK1] EC Dagersheim  - CVJM Weissach 
URL:https://www.eichenkreuzliga.de/fussball/game/id/11173
DTSTART:20200503T173000
DTEND:20200503T183000
LOCATION:\,  
END:VEVENT
BEGIN:VEVENT
UID:411d54f93e46bb08f828f5b6bf99f4ee
DTSTAMP:20260422T132728Z
SUMMARY:[Herren LK1] CVJM Holzgerlingen  - CSV Herrenberg 
URL:https://www.eichenkreuzliga.de/fussball/game/id/11174
DTSTART:20200503T170000
DTEND:20200503T180000
LOCATION:\,  
END:VEVENT
BEGIN:VEVENT
UID:49210a84def3dc3d7d7f068d5bb481a6
DTSTAMP:20260422T132728Z
SUMMARY:[Herren LK1] CVJM Dettingen/Erms  - CSV Stuttgart 
URL:https://www.eichenkreuzliga.de/fussball/game/id/11175
DTSTART:20200613T150000
DTEND:20200613T160000
LOCATION:\,  
END:VEVENT
BEGIN:VEVENT
UID:ecf240aa0d76e179167e9b1541c9b249
DTSTAMP:20260422T132728Z
SUMMARY:[Herren LK1] CVJM Dettingen/Erms  - CVJM Holzgerlingen 
URL:https://www.eichenkreuzliga.de/fussball/game/id/11176
DTSTART:20200510T170000
DTEND:20200510T180000
LOCATION:\,  
END:VEVENT
BEGIN:VEVENT
UID:2f6d421d41337bc9c06f858edabccdc2
DTSTAMP:20260422T132728Z
SUMMARY:[Herren LK1] EC Dagersheim  - CVJM Flacht 
URL:https://www.eichenkreuzliga.de/fussball/game/id/11177
DTSTART:20200509T170000
DTEND:20200509T180000
LOCATION:\,  
END:VEVENT
BEGIN:VEVENT
UID:ae0b5fd5e05e3d2a34c64a89ee6823ac
DTSTAMP:20260422T132728Z
SUMMARY:[Herren LK1] CSK Weinstadt  - CSV Stuttgart 
URL:https://www.eichenkreuzliga.de/fussball/game/id/11178
DTSTART:20200510T180000
DTEND:20200510T190000
LOCATION:\,  
END:VEVENT
BEGIN:VEVENT
UID:b95041be041ff36b1920a1943ab187e3
DTSTAMP:20260422T132728Z
SUMMARY:[Herren LK1] CVJM Weissach  - CSV Herrenberg 
URL:https://www.eichenkreuzliga.de/fussball/game/id/11179
DTSTART:20200510T150000
DTEND:20200510T160000
LOCATION:\,  
END:VEVENT
BEGIN:VEVENT
UID:559084b4e92f86cf0d01f1a2d17d08b6
DTSTAMP:20260422T132728Z
SUMMARY:[Herren LK1] CVJM Holzgerlingen  - EC Dagersheim 
URL:https://www.eichenkreuzliga.de/fussball/game/id/11180
DTSTART:20200517T150000
DTEND:20200517T160000
LOCATION:\,  
END:VEVENT
BEGIN:VEVENT
UID:adda86355d9e099e1aad6197b38d98cd
DTSTAMP:20260422T132728Z
SUMMARY:[Herren LK1] CVJM Flacht  - CVJM Dettingen/Erms 
URL:https://www.eichenkreuzliga.de/fussball/game/id/11181
DTSTART:20200503T170000
DTEND:20200503T180000
LOCATION:\,  
END:VEVENT
BEGIN:VEVENT
UID:21f1dbba9bd7ca1cf8d8014f83356912
DTSTAMP:20260422T132728Z
SUMMARY:[Herren LK1] CSV Herrenberg  - CSV Stuttgart 
URL:https://www.eichenkreuzliga.de/fussball/game/id/11182
DTSTART:20200517T180000
DTEND:20200517T190000
LOCATION:\,  
END:VEVENT
BEGIN:VEVENT
UID:eebcda6391567c4fec98cc1ddf44bc54
DTSTAMP:20260422T132728Z
SUMMARY:[Herren LK1] CVJM Weissach  - CSK Weinstadt 
URL:https://www.eichenkreuzliga.de/fussball/game/id/11183
DTSTART:20200517T180000
DTEND:20200517T190000
LOCATION:\,  
END:VEVENT
BEGIN:VEVENT
UID:bf41669cbdec7fd7938ad4b245c817dd
DTSTAMP:20260422T132728Z
SUMMARY:[Herren LK1] CVJM Flacht  - CVJM Holzgerlingen 
URL:https://www.eichenkreuzliga.de/fussball/game/id/11184
DTSTART:20200524T170000
DTEND:20200524T180000
LOCATION:\,  
END:VEVENT
BEGIN:VEVENT
UID:b7fbf8ed063924acf8a13c624266a747
DTSTAMP:20260422T132728Z
SUMMARY:[Herren LK1] CVJM Dettingen/Erms  - EC Dagersheim 
URL:https://www.eichenkreuzliga.de/fussball/game/id/11185
DTSTART:20200621T150000
DTEND:20200621T160000
LOCATION:\,  
END:VEVENT
BEGIN:VEVENT
UID:2f8622a46fcee4776063b3ba432a52b4
DTSTAMP:20260422T132728Z
SUMMARY:[Herren LK1] CSV Stuttgart  - CVJM Weissach 
URL:https://www.eichenkreuzliga.de/fussball/game/id/11186
DTSTART:20200523T150000
DTEND:20200523T160000
LOCATION:\,  
END:VEVENT
BEGIN:VEVENT
UID:d8bed1472d7574ba0f314f67e3422d12
DTSTAMP:20260422T132728Z
SUMMARY:[Herren LK1] CSK Weinstadt  - CSV Herrenberg 
URL:https://www.eichenkreuzliga.de/fussball/game/id/11187
DTSTART:20200524T180000
DTEND:20200524T190000
LOCATION:\,  
END:VEVENT
END:VCALENDAR
