BEGIN:VCALENDAR
PRODID:-//eluceo/ical//2.0/EN
VERSION:2.0
CALSCALE:GREGORIAN
BEGIN:VEVENT
UID:ee33cd7f6d160ab048d940268495123c
DTSTAMP:20260422T110803Z
SUMMARY:[männliche A-Jugend Finalspiele] CVJM Kirchentellinsfurt  - EK Tes
 tverein 
URL:https://www.eichenkreuzliga.de/handball/game/id/10780
DTSTART:20200328T130000
DTEND:20200328T140000
LOCATION:Stadionhalle\, 71696 Möglingen
END:VEVENT
BEGIN:VEVENT
UID:9db8a373f32e6d881290b524462bbca4
DTSTAMP:20260422T110803Z
SUMMARY:[männliche A-Jugend Finalspiele] CVJM HB Dußlingen-Gomaringen  - 
 CVJM Möglingen 
URL:https://www.eichenkreuzliga.de/handball/game/id/10781
DTSTART:20200328T143000
DTEND:20200328T153000
LOCATION:Stadionhalle\, 71696 Möglingen
END:VEVENT
END:VCALENDAR
