BEGIN:VCALENDAR
PRODID:-//eluceo/ical//2.0/EN
VERSION:2.0
CALSCALE:GREGORIAN
BEGIN:VEVENT
UID:b33385324be6d834b56d8e37c6ab8bd7
DTSTAMP:20260422T110801Z
SUMMARY:[Frauen Landesliga] HSG Schönbuch  - CVJM SG Mössingen/Belsen 
URL:https://www.eichenkreuzliga.de/handball/game/id/11626
DTSTART:20210417T170000
DTEND:20210417T180000
LOCATION:Schönbuch-Sporthalle\, 71088 Holzgerlingen
END:VEVENT
BEGIN:VEVENT
UID:a7b85d41982b9dc5170254a5b5ffc9e4
DTSTAMP:20260422T110801Z
SUMMARY:[Frauen Landesliga] CVJM HB Dußlingen-Gomaringen 1 - CVJM Mögling
 en 
URL:https://www.eichenkreuzliga.de/handball/game/id/11628
DTSTART:20210418T183000
DTEND:20210418T193000
LOCATION:Hönisch Sporthalle\, 72144 Dusslingen
END:VEVENT
BEGIN:VEVENT
UID:67fa47fcf774d55debcc4ef2cd9dbfd5
DTSTAMP:20260422T110801Z
SUMMARY:[Frauen Landesliga] CVJM  Walddorfhäslach  - EK Bernhausen 
URL:https://www.eichenkreuzliga.de/handball/game/id/11629
DTSTART:20210418T150000
DTEND:20210418T160000
LOCATION:Ballspielhalle\, 72141 Walddorfhäslach
END:VEVENT
BEGIN:VEVENT
UID:068bf876fa6ec5c887486e4212a428b5
DTSTAMP:20260422T110801Z
SUMMARY:[Frauen Landesliga] CVJM Möglingen  - CVJM HB Dußlingen-Gomaringe
 n 1
URL:https://www.eichenkreuzliga.de/handball/game/id/11631
DTSTART:20201212T160000
DTEND:20201212T170000
LOCATION:Stadionhalle\, 71696 Möglingen
END:VEVENT
BEGIN:VEVENT
UID:a6808f66ad2ae87aa3c2fd40e9403c93
DTSTAMP:20260422T110801Z
SUMMARY:[Frauen Landesliga] CVJM  Walddorfhäslach  - CVJM Möglingen 
URL:https://www.eichenkreuzliga.de/handball/game/id/11633
DTSTART:20201011T161500
DTEND:20201011T171500
LOCATION:Ballspielhalle\, 72141 Walddorfhäslach
END:VEVENT
BEGIN:VEVENT
UID:abeb3b9c6e77753c4c9eda20e1ca8a8d
DTSTAMP:20260422T110801Z
SUMMARY:[Frauen Landesliga] CVJM SG Mössingen/Belsen  - HSG Schönbuch 
URL:https://www.eichenkreuzliga.de/handball/game/id/11634
DTSTART:20201010T170000
DTEND:20201010T180000
LOCATION:Jahnhalle 2\, 72116 Mössingen
END:VEVENT
BEGIN:VEVENT
UID:4b9699d349f18084ae6fac34add13507
DTSTAMP:20260422T110801Z
SUMMARY:[Frauen Landesliga] CVJM Möglingen  - CVJM SG Mössingen/Belsen 
URL:https://www.eichenkreuzliga.de/handball/game/id/11635
DTSTART:20201017T140000
DTEND:20201017T150000
LOCATION:Stadionhalle\, 71696 Möglingen
END:VEVENT
BEGIN:VEVENT
UID:05c8410b8dd42c87e5cd5ab8a0e815c6
DTSTAMP:20260422T110801Z
SUMMARY:[Frauen Landesliga] HSG Schönbuch  - CVJM  Walddorfhäslach 
URL:https://www.eichenkreuzliga.de/handball/game/id/11636
DTSTART:20201018T170000
DTEND:20201018T180000
LOCATION:Schönbuch-Sporthalle\, 71088 Holzgerlingen
END:VEVENT
BEGIN:VEVENT
UID:d3afb45ef6cd86de3571dad950902f8c
DTSTAMP:20260422T110801Z
SUMMARY:[Frauen Landesliga] CVJM SG Mössingen/Belsen  - CVJM Möglingen 
URL:https://www.eichenkreuzliga.de/handball/game/id/11637
DTSTART:20210131T143000
DTEND:20210131T153000
LOCATION:Jahnhalle 2\, 72116 Mössingen
END:VEVENT
BEGIN:VEVENT
UID:7af4776301902dc5263c52ba41cbc1fc
DTSTAMP:20260422T110801Z
SUMMARY:[Frauen Landesliga] HSG Schönbuch  - EK Bernhausen 
URL:https://www.eichenkreuzliga.de/handball/game/id/11638
DTSTART:20201107T143000
DTEND:20201107T153000
LOCATION:Schönbuch-Sporthalle\, 71088 Holzgerlingen
END:VEVENT
BEGIN:VEVENT
UID:78dc4ba61b663e0512080e8e617cb5cf
DTSTAMP:20260422T110801Z
SUMMARY:[Frauen Landesliga] EK Bernhausen  - HSG Schönbuch 
URL:https://www.eichenkreuzliga.de/handball/game/id/11639
DTSTART:20210306T153000
DTEND:20210306T163000
LOCATION:Elisabeth-Selbert-Gymnasium Halle\, 70794 Bernhausen
END:VEVENT
BEGIN:VEVENT
UID:f42fe87fe8b233e17ca7b56f35bdb469
DTSTAMP:20260422T110801Z
SUMMARY:[Frauen Landesliga] CVJM  Walddorfhäslach  - CVJM HB Dußlingen-Go
 maringen 1
URL:https://www.eichenkreuzliga.de/handball/game/id/11640
DTSTART:20201115T190000
DTEND:20201115T200000
LOCATION:Ballspielhalle\, 72141 Walddorfhäslach
END:VEVENT
BEGIN:VEVENT
UID:44954b6b9e2d74de9476af5ba7fc1c1e
DTSTAMP:20260422T110801Z
SUMMARY:[Frauen Landesliga] CVJM Möglingen  - HSG Schönbuch 
URL:https://www.eichenkreuzliga.de/handball/game/id/11641
DTSTART:20201114T163000
DTEND:20201114T173000
LOCATION:Stadionhalle\, 71696 Möglingen
END:VEVENT
BEGIN:VEVENT
UID:64547d0abc2d8af80cf41c12eaec7d5a
DTSTAMP:20260422T110801Z
SUMMARY:[Frauen Landesliga] CVJM SG Mössingen/Belsen  - EK Bernhausen 
URL:https://www.eichenkreuzliga.de/handball/game/id/11642
DTSTART:20201114T160000
DTEND:20201114T170000
LOCATION:Jahnhalle 2\, 72116 Mössingen
END:VEVENT
BEGIN:VEVENT
UID:113692280b59c2fc0b2a12bfffe33694
DTSTAMP:20260422T110801Z
SUMMARY:[Frauen Landesliga] HSG Schönbuch  - CVJM Möglingen 
URL:https://www.eichenkreuzliga.de/handball/game/id/11644
DTSTART:20210313T170000
DTEND:20210313T180000
LOCATION:Schönbuch-Sporthalle\, 71088 Holzgerlingen
END:VEVENT
BEGIN:VEVENT
UID:6ddad3e741bfeaf541563d9a0a4c540f
DTSTAMP:20260422T110801Z
SUMMARY:[Frauen Landesliga] EK Bernhausen  - CVJM SG Mössingen/Belsen 
URL:https://www.eichenkreuzliga.de/handball/game/id/11645
DTSTART:20210320T153000
DTEND:20210320T163000
LOCATION:Elisabeth-Selbert-Gymnasium Halle\, 70794 Bernhausen
END:VEVENT
BEGIN:VEVENT
UID:81b394c368d6ec4d39ad51f917c5818b
DTSTAMP:20260422T110801Z
SUMMARY:[Frauen Landesliga] CVJM  Walddorfhäslach  - CVJM SG Mössingen/Be
 lsen 
URL:https://www.eichenkreuzliga.de/handball/game/id/11646
DTSTART:20201121T194500
DTEND:20201121T204500
LOCATION:Ballspielhalle\, 72141 Walddorfhäslach
END:VEVENT
BEGIN:VEVENT
UID:3c2805740d087d5242382cd18efddb77
DTSTAMP:20260422T110801Z
SUMMARY:[Frauen Landesliga] CVJM HB Dußlingen-Gomaringen 1 - HSG Schönbuc
 h 
URL:https://www.eichenkreuzliga.de/handball/game/id/11647
DTSTART:20201121T200000
DTEND:20201121T210000
LOCATION:Hönisch Sporthalle\, 72144 Dusslingen
END:VEVENT
BEGIN:VEVENT
UID:40a6ee9eb95a11aafb6d371b77cbb20b
DTSTAMP:20260422T110801Z
SUMMARY:[Frauen Landesliga] EK Bernhausen  - CVJM Möglingen 
URL:https://www.eichenkreuzliga.de/handball/game/id/11648
DTSTART:20201121T200000
DTEND:20201121T210000
LOCATION:Elisabeth-Selbert-Gymnasium Halle\, 70794 Bernhausen
END:VEVENT
BEGIN:VEVENT
UID:a64f930fdb1c067f90b716fcb3d1ee38
DTSTAMP:20260422T110801Z
SUMMARY:[Frauen Landesliga] CVJM SG Mössingen/Belsen  - CVJM  Walddorfhäs
 lach 
URL:https://www.eichenkreuzliga.de/handball/game/id/11649
DTSTART:20210314T170000
DTEND:20210314T180000
LOCATION:Jahnhalle 2\, 72116 Mössingen
END:VEVENT
BEGIN:VEVENT
UID:846499b9bdff4db54cc962d197bd226a
DTSTAMP:20260422T110801Z
SUMMARY:[Frauen Landesliga] HSG Schönbuch  - CVJM HB Dußlingen-Gomaringen
  1
URL:https://www.eichenkreuzliga.de/handball/game/id/11650
DTSTART:20210327T143000
DTEND:20210327T153000
LOCATION:Schönbuch-Sporthalle\, 71088 Holzgerlingen
END:VEVENT
BEGIN:VEVENT
UID:fa4b3b232070a5ad4e05ad111a75a5a6
DTSTAMP:20260422T110801Z
SUMMARY:[Frauen Landesliga] CVJM HB Dußlingen-Gomaringen 1 - CVJM SG Möss
 ingen/Belsen 
URL:https://www.eichenkreuzliga.de/handball/game/id/11652
DTSTART:20201206T170000
DTEND:20201206T180000
LOCATION:Hönisch Sporthalle\, 72144 Dusslingen
END:VEVENT
BEGIN:VEVENT
UID:94b21380347a2e0a86ed85635a8cb1d2
DTSTAMP:20260422T110801Z
SUMMARY:[Frauen Landesliga] CVJM SG Mössingen/Belsen  - CVJM HB Dußlingen
 -Gomaringen 1
URL:https://www.eichenkreuzliga.de/handball/game/id/11653
DTSTART:20210123T170000
DTEND:20210123T180000
LOCATION:Jahnhalle 2\, 72116 Mössingen
END:VEVENT
BEGIN:VEVENT
UID:024f6a0b920a67d7b31af6d35c00df65
DTSTAMP:20260422T110801Z
SUMMARY:[Frauen Landesliga] EK Bernhausen  - CVJM HB Dußlingen-Gomaringen 
 1
URL:https://www.eichenkreuzliga.de/handball/game/id/11654
DTSTART:20210116T133000
DTEND:20210116T143000
LOCATION:Elisabeth-Selbert-Gymnasium Halle\, 70794 Bernhausen
END:VEVENT
BEGIN:VEVENT
UID:9c4c122ad03a19865b94f163a4a96ec1
DTSTAMP:20260422T110801Z
SUMMARY:[Frauen Landesliga] CVJM HB Dußlingen-Gomaringen 1 - EK Bernhausen
  
URL:https://www.eichenkreuzliga.de/handball/game/id/11655
DTSTART:20210314T183000
DTEND:20210314T193000
LOCATION:Hönisch Sporthalle\, 72144 Dusslingen
END:VEVENT
BEGIN:VEVENT
UID:421ac8a794a3550d363d7999d9fcd93b
DTSTAMP:20260422T110801Z
SUMMARY:[Frauen Landesliga] CVJM HB Dußlingen-Gomaringen 1 - CVJM  Walddor
 fhäslach 
URL:https://www.eichenkreuzliga.de/handball/game/id/11656
DTSTART:20210306T180000
DTEND:20210306T190000
LOCATION:Hönisch Sporthalle\, 72144 Dusslingen
END:VEVENT
BEGIN:VEVENT
UID:2a8bd00a5af2d1ab6aee4ea0aa949f24
DTSTAMP:20260422T110801Z
SUMMARY:[Frauen Landesliga] CVJM Möglingen  - CVJM  Walddorfhäslach 
URL:https://www.eichenkreuzliga.de/handball/game/id/11657
DTSTART:20210206T180000
DTEND:20210206T190000
LOCATION:Stadionhalle\, 71696 Möglingen
END:VEVENT
BEGIN:VEVENT
UID:13e51387e7173e0073715bb3b6a05a32
DTSTAMP:20260422T110801Z
SUMMARY:[Frauen Landesliga] CVJM Möglingen  - EK Bernhausen 
URL:https://www.eichenkreuzliga.de/handball/game/id/11658
DTSTART:20210227T180000
DTEND:20210227T190000
LOCATION:Stadionhalle\, 71696 Möglingen
END:VEVENT
BEGIN:VEVENT
UID:2707921cb720fea92bde115b8df7e2e7
DTSTAMP:20260422T110801Z
SUMMARY:[Frauen Landesliga] CVJM  Walddorfhäslach  - HSG Schönbuch 
URL:https://www.eichenkreuzliga.de/handball/game/id/11660
DTSTART:20210124T150000
DTEND:20210124T160000
LOCATION:Ballspielhalle\, 72141 Walddorfhäslach
END:VEVENT
BEGIN:VEVENT
UID:b8fd13350967d86aee2d5788499918b6
DTSTAMP:20260422T110801Z
SUMMARY:[Frauen Landesliga] EK Bernhausen  - CVJM  Walddorfhäslach 
URL:https://www.eichenkreuzliga.de/handball/game/id/11661
DTSTART:20210130T153000
DTEND:20210130T163000
LOCATION:Elisabeth-Selbert-Gymnasium Halle\, 70794 Bernhausen
END:VEVENT
END:VCALENDAR
