BEGIN:VCALENDAR
PRODID:-//eluceo/ical//2.0/EN
VERSION:2.0
CALSCALE:GREGORIAN
BEGIN:VEVENT
UID:6acf673062689eec11c40d3ce706d855
DTSTAMP:20260422T135913Z
SUMMARY:[Männer Landesliga] CVJM Hagelloch - Kusterdingen 1 - CVJM  Walddo
 rfhäslach 
URL:https://www.eichenkreuzliga.de/handball/game/id/12482
DTSTART:20201108T181500
DTEND:20201108T191500
LOCATION:Sporthalle Waldhäuser-Ost\, 72076 Tübingen
END:VEVENT
BEGIN:VEVENT
UID:b4f7f9a142475fd0c4b5dbc988416f2f
DTSTAMP:20260422T135913Z
SUMMARY:[Männer Landesliga] CVJM Hagelloch - Kusterdingen 1 - CVJM Flacht 
URL:https://www.eichenkreuzliga.de/handball/game/id/12483
DTSTART:20201114T180000
DTEND:20201114T190000
LOCATION:Kreissporthalle Tübingen\, 72072 Tübingen
END:VEVENT
BEGIN:VEVENT
UID:93363cd14c5ee569cc500fb2ac82c16a
DTSTAMP:20260422T135913Z
SUMMARY:[Männer Landesliga] CVJM Hagelloch - Kusterdingen 1 - CVJM Möglin
 gen 
URL:https://www.eichenkreuzliga.de/handball/game/id/12485
DTSTART:20210123T190000
DTEND:20210123T200000
LOCATION:Sporthalle Waldhäuser-Ost\, 72076 Tübingen
END:VEVENT
BEGIN:VEVENT
UID:64eb8994091f0cdad3ef854f1b9a6871
DTSTAMP:20260422T135913Z
SUMMARY:[Männer Landesliga] CVJM Hagelloch - Kusterdingen 1 - EK Höfingen
  
URL:https://www.eichenkreuzliga.de/handball/game/id/12487
DTSTART:20210320T180000
DTEND:20210320T190000
LOCATION:Sporthalle Waldhäuser-Ost\, 72076 Tübingen
END:VEVENT
BEGIN:VEVENT
UID:9dff5c56838b0649d0accac4fed05560
DTSTAMP:20260422T135913Z
SUMMARY:[Männer Landesliga] CVJM Hagelloch - Kusterdingen 1 - EK Köngen 
URL:https://www.eichenkreuzliga.de/handball/game/id/12488
DTSTART:20201129T180000
DTEND:20201129T190000
LOCATION:Kreissporthalle Tübingen\, 72072 Tübingen
END:VEVENT
BEGIN:VEVENT
UID:80e5e53fb2be158701541a2f23e85963
DTSTAMP:20260422T135913Z
SUMMARY:[Männer Landesliga] CVJM Hagelloch - Kusterdingen 1 - CVJM HB Duß
 lingen-Gomaringen 
URL:https://www.eichenkreuzliga.de/handball/game/id/12489
DTSTART:20210314T180000
DTEND:20210314T190000
LOCATION:Sporthalle Waldhäuser-Ost\, 72076 Tübingen
END:VEVENT
BEGIN:VEVENT
UID:2cff020919d10c547c760911a334c401
DTSTAMP:20260422T135913Z
SUMMARY:[Männer Landesliga] CVJM HB Dußlingen-Gomaringen  - EK Köngen 
URL:https://www.eichenkreuzliga.de/handball/game/id/12493
DTSTART:20210424T180000
DTEND:20210424T190000
LOCATION:Hönisch Sporthalle\, 72144 Dusslingen
END:VEVENT
BEGIN:VEVENT
UID:68b5460c71d59d670e683adbd4ea23eb
DTSTAMP:20260422T135913Z
SUMMARY:[Männer Landesliga] CVJM Möglingen  - CVJM Hagelloch - Kusterding
 en 1
URL:https://www.eichenkreuzliga.de/handball/game/id/12494
DTSTART:20210424T180000
DTEND:20210424T190000
LOCATION:Stadionhalle\, 71696 Möglingen
END:VEVENT
BEGIN:VEVENT
UID:b62191d39cb75254f502d42b7e8a9a69
DTSTAMP:20260422T135913Z
SUMMARY:[Männer Landesliga] EK Höfingen  - CVJM Hagelloch - Kusterdingen 
 1
URL:https://www.eichenkreuzliga.de/handball/game/id/12495
DTSTART:20210417T173000
DTEND:20210417T183000
LOCATION:Strohgäuhalle\, 71229 Höfingen
END:VEVENT
BEGIN:VEVENT
UID:d9e099135afd7e67b09ed39e89c8d042
DTSTAMP:20260422T135913Z
SUMMARY:[Männer Landesliga] CVJM  Walddorfhäslach  - CVJM Hagelloch - Kus
 terdingen 1
URL:https://www.eichenkreuzliga.de/handball/game/id/12497
DTSTART:20210213T190000
DTEND:20210213T200000
LOCATION:Ballspielhalle\, 72141 Walddorfhäslach
END:VEVENT
BEGIN:VEVENT
UID:7d06483363e1d7745af338ae83a88c33
DTSTAMP:20260422T135913Z
SUMMARY:[Männer Landesliga] CVJM  Walddorfhäslach  - CVJM Möglingen 
URL:https://www.eichenkreuzliga.de/handball/game/id/12500
DTSTART:20210307T180000
DTEND:20210307T190000
LOCATION:Ballspielhalle\, 72141 Walddorfhäslach
END:VEVENT
BEGIN:VEVENT
UID:501a49c6bd30fb79ef725ba51e90388f
DTSTAMP:20260422T135913Z
SUMMARY:[Männer Landesliga] CVJM SG Mössingen/Belsen  - CVJM  Walddorfhä
 slach 
URL:https://www.eichenkreuzliga.de/handball/game/id/12501
DTSTART:20210131T183000
DTEND:20210131T193000
LOCATION:Jahnhalle 2\, 72116 Mössingen
END:VEVENT
BEGIN:VEVENT
UID:12febd203a91156c8399964d95858e79
DTSTAMP:20260422T135913Z
SUMMARY:[Männer Landesliga] CVJM  Walddorfhäslach  - EK Köngen 
URL:https://www.eichenkreuzliga.de/handball/game/id/12503
DTSTART:20201114T180000
DTEND:20201114T190000
LOCATION:Ballspielhalle\, 72141 Walddorfhäslach
END:VEVENT
BEGIN:VEVENT
UID:4a548882eb879e3efec8548d15974a5d
DTSTAMP:20260422T135913Z
SUMMARY:[Männer Landesliga] EK Köngen  - CVJM  Walddorfhäslach 
URL:https://www.eichenkreuzliga.de/handball/game/id/12504
DTSTART:20201017T170000
DTEND:20201017T180000
LOCATION:Burgschulhalle\, 73257 Köngen
END:VEVENT
BEGIN:VEVENT
UID:06588d31d268bb978196bd0eb11e2881
DTSTAMP:20260422T135913Z
SUMMARY:[Männer Landesliga] EK Köngen  - CVJM Hagelloch - Kusterdingen 1
URL:https://www.eichenkreuzliga.de/handball/game/id/12506
DTSTART:20201121T201500
DTEND:20201121T211500
LOCATION:Burgschulhalle\, 73257 Köngen
END:VEVENT
BEGIN:VEVENT
UID:a985bb6ff10000d69306b45c9b067907
DTSTAMP:20260422T135913Z
SUMMARY:[Männer Landesliga] EK Köngen  - CVJM Möglingen 
URL:https://www.eichenkreuzliga.de/handball/game/id/12507
DTSTART:20210327T190000
DTEND:20210327T200000
LOCATION:Burgschulhalle\, 73257 Köngen
END:VEVENT
BEGIN:VEVENT
UID:5fd5822d2ec7a74d54d4a05cc1215d5e
DTSTAMP:20260422T135913Z
SUMMARY:[Männer Landesliga] EK Köngen  - CVJM SG Mössingen/Belsen 
URL:https://www.eichenkreuzliga.de/handball/game/id/12510
DTSTART:20210123T180000
DTEND:20210123T190000
LOCATION:Burgschulhalle\, 73257 Köngen
END:VEVENT
BEGIN:VEVENT
UID:f2657671e9d3245a9319851db59fb815
DTSTAMP:20260422T135913Z
SUMMARY:[Männer Landesliga] CVJM Flacht  - CVJM Hagelloch - Kusterdingen 1
URL:https://www.eichenkreuzliga.de/handball/game/id/12511
DTSTART:20210130T160000
DTEND:20210130T170000
LOCATION:Sporthalle Flacht\, 71287 Weissach
END:VEVENT
BEGIN:VEVENT
UID:9957aa236ac1549269afbee897087a4b
DTSTAMP:20260422T135913Z
SUMMARY:[Männer Landesliga] CVJM HB Dußlingen-Gomaringen  - CVJM Hagelloc
 h - Kusterdingen 1
URL:https://www.eichenkreuzliga.de/handball/game/id/12512
DTSTART:20210116T200000
DTEND:20210116T210000
LOCATION:Hönisch Sporthalle\, 72144 Dusslingen
END:VEVENT
BEGIN:VEVENT
UID:dad3758538aa58424e89844f2b9e6c10
DTSTAMP:20260422T135913Z
SUMMARY:[Männer Landesliga] CVJM Flacht  - CVJM  Walddorfhäslach 
URL:https://www.eichenkreuzliga.de/handball/game/id/12514
DTSTART:20210227T160000
DTEND:20210227T170000
LOCATION:Sporthalle Flacht\, 71287 Weissach
END:VEVENT
BEGIN:VEVENT
UID:0c0e6bedbb8eb77870ce037a87a93a64
DTSTAMP:20260422T135913Z
SUMMARY:[Männer Landesliga] EK Höfingen  - CVJM  Walddorfhäslach 
URL:https://www.eichenkreuzliga.de/handball/game/id/12520
DTSTART:20210313T180000
DTEND:20210313T190000
LOCATION:Strohgäuhalle\, 71229 Höfingen
END:VEVENT
BEGIN:VEVENT
UID:fd93f576b7ec60dafc6f482717ee2b4e
DTSTAMP:20260422T135913Z
SUMMARY:[Männer Landesliga] CVJM Flacht  - EK Köngen 
URL:https://www.eichenkreuzliga.de/handball/game/id/12522
DTSTART:20210306T160000
DTEND:20210306T170000
LOCATION:Sporthalle Flacht\, 71287 Weissach
END:VEVENT
BEGIN:VEVENT
UID:7dd4719d3d4a746a279e5fd87e55f773
DTSTAMP:20260422T135913Z
SUMMARY:[Männer Landesliga] CVJM Flacht  - CVJM HB Dußlingen-Gomaringen 
URL:https://www.eichenkreuzliga.de/handball/game/id/12523
DTSTART:20210123T180000
DTEND:20210123T190000
LOCATION:Sporthalle Flacht\, 71287 Weissach
END:VEVENT
BEGIN:VEVENT
UID:4043541fc55b59ad680679f54e87f130
DTSTAMP:20260422T135913Z
SUMMARY:[Männer Landesliga] CVJM HB Dußlingen-Gomaringen  - CVJM Flacht 
URL:https://www.eichenkreuzliga.de/handball/game/id/12524
DTSTART:20210328T190000
DTEND:20210328T200000
LOCATION:Hönisch Sporthalle\, 72144 Dusslingen
END:VEVENT
BEGIN:VEVENT
UID:88e1ea2206ef5cf27ad1e1193221467f
DTSTAMP:20260422T135913Z
SUMMARY:[Männer Landesliga] CVJM Flacht  - CVJM Möglingen 
URL:https://www.eichenkreuzliga.de/handball/game/id/12525
DTSTART:20201121T160000
DTEND:20201121T170000
LOCATION:Sporthalle Flacht\, 71287 Weissach
END:VEVENT
BEGIN:VEVENT
UID:26cc76ed6a4fa098ebdc4a1c411229c6
DTSTAMP:20260422T135913Z
SUMMARY:[Männer Landesliga] CVJM Flacht  - CVJM SG Mössingen/Belsen 
URL:https://www.eichenkreuzliga.de/handball/game/id/12530
DTSTART:20201219T170000
DTEND:20201219T180000
LOCATION:Sporthalle Flacht\, 71287 Weissach
END:VEVENT
BEGIN:VEVENT
UID:f572d9b8e732973f9b6ebdb160311df9
DTSTAMP:20260422T135913Z
SUMMARY:[Männer Landesliga] CVJM SG Mössingen/Belsen  - CVJM Hagelloch - 
 Kusterdingen 1
URL:https://www.eichenkreuzliga.de/handball/game/id/12531
DTSTART:20210327T180000
DTEND:20210327T190000
LOCATION:Jahnhalle 2\, 72116 Mössingen
END:VEVENT
BEGIN:VEVENT
UID:70feeacf721deef08ed785339b3c1201
DTSTAMP:20260422T135913Z
SUMMARY:[Männer Landesliga] CVJM Hagelloch - Kusterdingen 1 - CVJM SG Mös
 singen/Belsen 
URL:https://www.eichenkreuzliga.de/handball/game/id/12534
DTSTART:20210207T190000
DTEND:20210207T200000
LOCATION:Paul-Horn-Arena\, 72072 Tübingen
END:VEVENT
BEGIN:VEVENT
UID:04d34131e6143a54293602ce68886be4
DTSTAMP:20260422T135913Z
SUMMARY:[Männer Landesliga] CVJM Möglingen  - CVJM HB Dußlingen-Gomaring
 en 
URL:https://www.eichenkreuzliga.de/handball/game/id/12535
DTSTART:20201017T180000
DTEND:20201017T190000
LOCATION:Stadionhalle\, 71696 Möglingen
END:VEVENT
BEGIN:VEVENT
UID:f2c56fddac8c811777c68a2ee9a46f91
DTSTAMP:20260422T135913Z
SUMMARY:[Männer Landesliga] CVJM HB Dußlingen-Gomaringen  - CVJM Mögling
 en 
URL:https://www.eichenkreuzliga.de/handball/game/id/12536
DTSTART:20210131T183000
DTEND:20210131T193000
LOCATION:Hönisch Sporthalle\, 72144 Dusslingen
END:VEVENT
BEGIN:VEVENT
UID:08b2461be9ceb39686f5400ddf2fd075
DTSTAMP:20260422T135913Z
SUMMARY:[Männer Landesliga] CVJM HB Dußlingen-Gomaringen  - CVJM SG Möss
 ingen/Belsen 
URL:https://www.eichenkreuzliga.de/handball/game/id/12538
DTSTART:20210306T200000
DTEND:20210306T210000
LOCATION:Hönisch Sporthalle\, 72144 Dusslingen
END:VEVENT
BEGIN:VEVENT
UID:9cdcb41f88160a01bbad7c317f9ff2f5
DTSTAMP:20260422T135913Z
SUMMARY:[Männer Landesliga] EK Höfingen  - CVJM HB Dußlingen-Gomaringen 
URL:https://www.eichenkreuzliga.de/handball/game/id/12539
DTSTART:20201024T180000
DTEND:20201024T190000
LOCATION:Strohgäuhalle\, 71229 Höfingen
END:VEVENT
BEGIN:VEVENT
UID:d3df5815f1a6eb5fb5d06ed482479441
DTSTAMP:20260422T135913Z
SUMMARY:[Männer Landesliga] CVJM HB Dußlingen-Gomaringen  - EK Höfingen 
URL:https://www.eichenkreuzliga.de/handball/game/id/12540
DTSTART:20210207T183000
DTEND:20210207T193000
LOCATION:Hönisch Sporthalle\, 72144 Dusslingen
END:VEVENT
BEGIN:VEVENT
UID:3d50360e7b59c5e28ddaa4f85b81b402
DTSTAMP:20260422T135913Z
SUMMARY:[Männer Landesliga] EK Köngen  - CVJM HB Dußlingen-Gomaringen 
URL:https://www.eichenkreuzliga.de/handball/game/id/12541
DTSTART:20201107T200000
DTEND:20201107T210000
LOCATION:Burgschulhalle\, 73257 Köngen
END:VEVENT
BEGIN:VEVENT
UID:69a07cb3c90a584b889bb7c911919866
DTSTAMP:20260422T135913Z
SUMMARY:[Männer Landesliga] CVJM Möglingen  - CVJM SG Mössingen/Belsen 
URL:https://www.eichenkreuzliga.de/handball/game/id/12542
DTSTART:20210410T173000
DTEND:20210410T183000
LOCATION:Stadionhalle\, 71696 Möglingen
END:VEVENT
BEGIN:VEVENT
UID:70a3614e512a417c81d95918be21343f
DTSTAMP:20260422T135913Z
SUMMARY:[Männer Landesliga] CVJM SG Mössingen/Belsen  - CVJM Möglingen 
URL:https://www.eichenkreuzliga.de/handball/game/id/12543
DTSTART:20201114T200000
DTEND:20201114T210000
LOCATION:Jahnhalle 2\, 72116 Mössingen
END:VEVENT
BEGIN:VEVENT
UID:b7ae149e0d1a8437247f6d4430360ab3
DTSTAMP:20260422T135913Z
SUMMARY:[Männer Landesliga] EK Höfingen  - CVJM Möglingen 
URL:https://www.eichenkreuzliga.de/handball/game/id/12545
DTSTART:20210227T180000
DTEND:20210227T190000
LOCATION:Strohgäuhalle\, 71229 Höfingen
END:VEVENT
BEGIN:VEVENT
UID:0781385e20cd79ba2d0e2cc4610c6800
DTSTAMP:20260422T135913Z
SUMMARY:[Männer Landesliga] EK Höfingen  - EK Köngen 
URL:https://www.eichenkreuzliga.de/handball/game/id/12546
DTSTART:20210130T180000
DTEND:20210130T190000
LOCATION:Strohgäuhalle\, 71229 Höfingen
END:VEVENT
BEGIN:VEVENT
UID:510d752623b8c3986562dadc7238cbc8
DTSTAMP:20260422T135913Z
SUMMARY:[Männer Landesliga] CVJM SG Mössingen/Belsen  - EK Köngen 
URL:https://www.eichenkreuzliga.de/handball/game/id/12547
DTSTART:20210227T190000
DTEND:20210227T200000
LOCATION:Jahnhalle 2\, 72116 Mössingen
END:VEVENT
BEGIN:VEVENT
UID:1389a40c4175ad9fcbcec2e96220b521
DTSTAMP:20260422T135913Z
SUMMARY:[Männer Landesliga] CVJM  Walddorfhäslach  - CVJM Flacht 
URL:https://www.eichenkreuzliga.de/handball/game/id/13014
DTSTART:20210502T170000
DTEND:20210502T180000
LOCATION:Ballspielhalle\, 72141 Walddorfhäslach
END:VEVENT
BEGIN:VEVENT
UID:b549c4c006d2504c9e35113e3519124e
DTSTAMP:20260422T135913Z
SUMMARY:[Männer Landesliga] CVJM Möglingen  - CVJM Flacht 
URL:https://www.eichenkreuzliga.de/handball/game/id/13015
DTSTART:20210320T180000
DTEND:20210320T190000
LOCATION:Stadionhalle\, 71696 Möglingen
END:VEVENT
BEGIN:VEVENT
UID:2248c418366d7a637c2ece7477d77e83
DTSTAMP:20260422T135913Z
SUMMARY:[Männer Landesliga] CVJM Möglingen  - EK Köngen 
URL:https://www.eichenkreuzliga.de/handball/game/id/13016
DTSTART:20210501T180000
DTEND:20210501T190000
LOCATION:Stadionhalle\, 71696 Möglingen
END:VEVENT
BEGIN:VEVENT
UID:00126f7d4d2bc8fa5b1fe84ae16d9280
DTSTAMP:20260422T135913Z
SUMMARY:[Männer Landesliga] EK Höfingen  - CVJM SG Mössingen/Belsen 
URL:https://www.eichenkreuzliga.de/handball/game/id/13019
DTSTART:20201121T170000
DTEND:20201121T180000
LOCATION:Strohgäuhalle\, 71229 Höfingen
END:VEVENT
BEGIN:VEVENT
UID:3cfc31ccf90abe47be59ee3e344ddebc
DTSTAMP:20260422T135913Z
SUMMARY:[Männer Landesliga] CVJM SG Mössingen/Belsen  - CVJM Flacht 
URL:https://www.eichenkreuzliga.de/handball/game/id/13053
DTSTART:20201018T180000
DTEND:20201018T190000
LOCATION:Jahnhalle 2\, 72116 Mössingen
END:VEVENT
BEGIN:VEVENT
UID:7e675224cd466f2ba29b8b8cb0a668fa
DTSTAMP:20260422T135913Z
SUMMARY:[Männer Landesliga] CVJM SG Mössingen/Belsen  - CVJM HB Dußlinge
 n-Gomaringen 
URL:https://www.eichenkreuzliga.de/handball/game/id/13055
DTSTART:20210418T180000
DTEND:20210418T190000
LOCATION:Jahnhalle 2\, 72116 Mössingen
END:VEVENT
BEGIN:VEVENT
UID:3d9fdf66fae7e6c19ec114ff689a9d61
DTSTAMP:20260422T135913Z
SUMMARY:[Männer Landesliga] CVJM SG Mössingen/Belsen  - EK Höfingen 
URL:https://www.eichenkreuzliga.de/handball/game/id/13056
DTSTART:20210424T180000
DTEND:20210424T190000
LOCATION:Jahnhalle 2\, 72116 Mössingen
END:VEVENT
BEGIN:VEVENT
UID:4ed51028fcca034d6942460aee22e85c
DTSTAMP:20260422T135913Z
SUMMARY:[Männer Landesliga] CVJM Flacht  - EK Höfingen 
URL:https://www.eichenkreuzliga.de/handball/game/id/13102
DTSTART:20201205T180000
DTEND:20201205T190000
LOCATION:Sporthalle Flacht\, 71287 Weissach
END:VEVENT
BEGIN:VEVENT
UID:b09709c285357e2a86feed0777426df7
DTSTAMP:20260422T135913Z
SUMMARY:[Männer Landesliga] EK Köngen  - CVJM Flacht 
URL:https://www.eichenkreuzliga.de/handball/game/id/13103
DTSTART:20210207T190000
DTEND:20210207T200000
LOCATION:Burgschulhalle\, 73257 Köngen
END:VEVENT
BEGIN:VEVENT
UID:4369ecddf549fd774c9d4000d799d777
DTSTAMP:20260422T135913Z
SUMMARY:[Männer Landesliga] EK Köngen  - EK Höfingen 
URL:https://www.eichenkreuzliga.de/handball/game/id/13104
DTSTART:20201212T183000
DTEND:20201212T193000
LOCATION:Burgschulhalle\, 73257 Köngen
END:VEVENT
BEGIN:VEVENT
UID:06fa440f36a4e58885e22dd875ecd236
DTSTAMP:20260422T135913Z
SUMMARY:[Männer Landesliga] CVJM  Walddorfhäslach  - EK Höfingen 
URL:https://www.eichenkreuzliga.de/handball/game/id/13107
DTSTART:20210124T170000
DTEND:20210124T180000
LOCATION:Ballspielhalle\, 72141 Walddorfhäslach
END:VEVENT
BEGIN:VEVENT
UID:ea18693e21d1aaca3fe2b43cf9d54ed6
DTSTAMP:20260422T135913Z
SUMMARY:[Männer Landesliga] EK Höfingen  - CVJM Flacht 
URL:https://www.eichenkreuzliga.de/handball/game/id/13111
DTSTART:20201107T200000
DTEND:20201107T210000
LOCATION:Strohgäuhalle\, 71229 Höfingen
END:VEVENT
BEGIN:VEVENT
UID:c7305fe90e4b0b85c5317b3cb94d8de4
DTSTAMP:20260422T135913Z
SUMMARY:[Männer Landesliga] CVJM Möglingen  - EK Höfingen 
URL:https://www.eichenkreuzliga.de/handball/game/id/13113
DTSTART:20201128T180000
DTEND:20201128T190000
LOCATION:Stadionhalle\, 71696 Möglingen
END:VEVENT
BEGIN:VEVENT
UID:40a39e0957aaf92f8a41c89a33b6414f
DTSTAMP:20260422T135913Z
SUMMARY:[Männer Landesliga] CVJM Möglingen  - CVJM  Walddorfhäslach 
URL:https://www.eichenkreuzliga.de/handball/game/id/13114
DTSTART:20201212T180000
DTEND:20201212T190000
LOCATION:Stadionhalle\, 71696 Möglingen
END:VEVENT
BEGIN:VEVENT
UID:a68d9be0c84534140e05ec2f14b8771e
DTSTAMP:20260422T135913Z
SUMMARY:[Männer Landesliga] CVJM HB Dußlingen-Gomaringen  - CVJM  Walddor
 fhäslach 
URL:https://www.eichenkreuzliga.de/handball/game/id/13115
DTSTART:20201205T200000
DTEND:20201205T210000
LOCATION:Hönisch Sporthalle\, 72144 Dusslingen
END:VEVENT
BEGIN:VEVENT
UID:56b21a6254da424082ec4a01426e59ee
DTSTAMP:20260422T135913Z
SUMMARY:[Männer Landesliga] CVJM  Walddorfhäslach  - CVJM SG Mössingen/B
 elsen 
URL:https://www.eichenkreuzliga.de/handball/game/id/13116
DTSTART:20210320T190000
DTEND:20210320T200000
LOCATION:Ballspielhalle\, 72141 Walddorfhäslach
END:VEVENT
BEGIN:VEVENT
UID:9f895b3dba0474e5214dcb5d9e4019b5
DTSTAMP:20260422T135913Z
SUMMARY:[Männer Landesliga] CVJM  Walddorfhäslach  - CVJM HB Dußlingen-G
 omaringen 
URL:https://www.eichenkreuzliga.de/handball/game/id/13183
DTSTART:20201120T203000
DTEND:20201120T213000
LOCATION:Ballspielhalle\, 72141 Walddorfhäslach
END:VEVENT
END:VCALENDAR
