BEGIN:VCALENDAR
PRODID:-//eluceo/ical//2.0/EN
VERSION:2.0
CALSCALE:GREGORIAN
BEGIN:VEVENT
UID:52c3c56b02987efed726a7894e777bbd
DTSTAMP:20260422T110720Z
SUMMARY:[Männer LK2] CVJM Enzweihingen  - EK Köngen 1b
URL:https://www.eichenkreuzliga.de/handball/game/id/12548
DTSTART:20210227T200000
DTEND:20210227T210000
LOCATION:Schulsporthalle\, 71665 Enzweihingen
END:VEVENT
BEGIN:VEVENT
UID:5bbaf78b1783136976855ec42704d132
DTSTAMP:20260422T110720Z
SUMMARY:[Männer LK2] CVJM  Walddorfhäslach 2 - CVJM SG Mössingen/Belsen 
 1b
URL:https://www.eichenkreuzliga.de/handball/game/id/12550
DTSTART:20201212T160000
DTEND:20201212T170000
LOCATION:Ballspielhalle\, 72141 Walddorfhäslach
END:VEVENT
BEGIN:VEVENT
UID:3d3281a611ee31ef504d3b5f7aed56d1
DTSTAMP:20260422T110720Z
SUMMARY:[Männer LK2] EK Köngen 1b - CVJM SG Mössingen/Belsen 1b
URL:https://www.eichenkreuzliga.de/handball/game/id/12551
DTSTART:20210123T160000
DTEND:20210123T170000
LOCATION:Burgschulhalle\, 73257 Köngen
END:VEVENT
BEGIN:VEVENT
UID:3f3bc4dc168a1dcca9b8886087ccabfb
DTSTAMP:20260422T110720Z
SUMMARY:[Männer LK2] CVJM Enzweihingen  - CVJM  Walddorfhäslach 2
URL:https://www.eichenkreuzliga.de/handball/game/id/12552
DTSTART:20201018T180000
DTEND:20201018T190000
LOCATION:Schulsporthalle\, 71665 Enzweihingen
END:VEVENT
BEGIN:VEVENT
UID:411ffa1d03088e74eb7431aa411f6796
DTSTAMP:20260422T110720Z
SUMMARY:[Männer LK2] CVJM Enzweihingen  - CVJM Hülben 
URL:https://www.eichenkreuzliga.de/handball/game/id/12553
DTSTART:20201121T180000
DTEND:20201121T190000
LOCATION:Schulsporthalle\, 71665 Enzweihingen
END:VEVENT
BEGIN:VEVENT
UID:db513340ab13099844d44682b645c650
DTSTAMP:20260422T110720Z
SUMMARY:[Männer LK2] CVJM Enzweihingen  - CVJM SG Mössingen/Belsen 1b
URL:https://www.eichenkreuzliga.de/handball/game/id/12555
DTSTART:20210313T180000
DTEND:20210313T190000
LOCATION:Schulsporthalle\, 71665 Enzweihingen
END:VEVENT
BEGIN:VEVENT
UID:5624bcc808f3824ef5a1d2087e7194d8
DTSTAMP:20260422T110720Z
SUMMARY:[Männer LK2] CVJM Enzweihingen  - EK Bernhausen 
URL:https://www.eichenkreuzliga.de/handball/game/id/12556
DTSTART:20210327T203000
DTEND:20210327T213000
LOCATION:Schulsporthalle\, 71665 Enzweihingen
END:VEVENT
BEGIN:VEVENT
UID:3428833f72618bdd923c10b3c727d0e1
DTSTAMP:20260422T110720Z
SUMMARY:[Männer LK2] CVJM SG Mössingen/Belsen 1b - EK Bernhausen 
URL:https://www.eichenkreuzliga.de/handball/game/id/12557
DTSTART:20201018T160000
DTEND:20201018T170000
LOCATION:Jahnhalle 2\, 72116 Mössingen
END:VEVENT
BEGIN:VEVENT
UID:284f846dc56f9c80ba798c9bda1ba47e
DTSTAMP:20260422T110720Z
SUMMARY:[Männer LK2] CVJM  Walddorfhäslach 2 - CVJM Hülben 
URL:https://www.eichenkreuzliga.de/handball/game/id/12558
DTSTART:20201114T160000
DTEND:20201114T170000
LOCATION:Ballspielhalle\, 72141 Walddorfhäslach
END:VEVENT
BEGIN:VEVENT
UID:9b5d6b81d61a4db4ca1abb1d84fa74f7
DTSTAMP:20260422T110720Z
SUMMARY:[Männer LK2] CVJM  Walddorfhäslach 2 - CVJM Kirchentellinsfurt 
URL:https://www.eichenkreuzliga.de/handball/game/id/12559
DTSTART:20210307T200000
DTEND:20210307T210000
LOCATION:Ballspielhalle\, 72141 Walddorfhäslach
END:VEVENT
BEGIN:VEVENT
UID:cfb73a8ac3b7fdab9a235fa674a9a506
DTSTAMP:20260422T110720Z
SUMMARY:[Männer LK2] CVJM  Walddorfhäslach 2 - EK Bernhausen 
URL:https://www.eichenkreuzliga.de/handball/game/id/12560
DTSTART:20210213T170000
DTEND:20210213T180000
LOCATION:Ballspielhalle\, 72141 Walddorfhäslach
END:VEVENT
BEGIN:VEVENT
UID:e0c7ba185a6a4696030de4f7336957a7
DTSTAMP:20260422T110720Z
SUMMARY:[Männer LK2] CVJM  Walddorfhäslach 2 - EK Köngen 1b
URL:https://www.eichenkreuzliga.de/handball/game/id/12561
DTSTART:20210418T170000
DTEND:20210418T180000
LOCATION:Ballspielhalle\, 72141 Walddorfhäslach
END:VEVENT
BEGIN:VEVENT
UID:1db9d5a1db69de0c5b521b871d9ce6ba
DTSTAMP:20260422T110720Z
SUMMARY:[Männer LK2] CVJM  Walddorfhäslach 2 - CVJM Enzweihingen 
URL:https://www.eichenkreuzliga.de/handball/game/id/12562
DTSTART:20210123T170000
DTEND:20210123T180000
LOCATION:Ballspielhalle\, 72141 Walddorfhäslach
END:VEVENT
BEGIN:VEVENT
UID:01a3d4983c7017654b5b846e3afcff65
DTSTAMP:20260422T110720Z
SUMMARY:[Männer LK2] CVJM Hülben  - CVJM  Walddorfhäslach 2
URL:https://www.eichenkreuzliga.de/handball/game/id/12563
DTSTART:20210424T170000
DTEND:20210424T180000
LOCATION:Falkensteinhalle\, 72582 Grabenstetten
END:VEVENT
BEGIN:VEVENT
UID:6ed44362de2575dd50bbfd5ba7a477e9
DTSTAMP:20260422T110720Z
SUMMARY:[Männer LK2] CVJM Kirchentellinsfurt  - CVJM  Walddorfhäslach 2
URL:https://www.eichenkreuzliga.de/handball/game/id/12564
DTSTART:20201129T170000
DTEND:20201129T180000
LOCATION:Sporthalle\, 72138 Kirchentellinsfurt
END:VEVENT
BEGIN:VEVENT
UID:d15c7c87c6b948c192f9b04e39e856da
DTSTAMP:20260422T110720Z
SUMMARY:[Männer LK2] CVJM SG Mössingen/Belsen 1b - CVJM  Walddorfhäslach
  2
URL:https://www.eichenkreuzliga.de/handball/game/id/12565
DTSTART:20210227T170000
DTEND:20210227T180000
LOCATION:Jahnhalle 2\, 72116 Mössingen
END:VEVENT
BEGIN:VEVENT
UID:7976287d2a6f74f0eda16fcfc4ea8ee7
DTSTAMP:20260422T110720Z
SUMMARY:[Männer LK2] EK Köngen 1b - CVJM  Walddorfhäslach 2
URL:https://www.eichenkreuzliga.de/handball/game/id/12567
DTSTART:20201107T180000
DTEND:20201107T190000
LOCATION:Burgschulhalle\, 73257 Köngen
END:VEVENT
BEGIN:VEVENT
UID:f1681f063bced4362bcb50673061e01c
DTSTAMP:20260422T110720Z
SUMMARY:[Männer LK2] CVJM Hülben  - CVJM Enzweihingen 
URL:https://www.eichenkreuzliga.de/handball/game/id/12568
DTSTART:20201010T170000
DTEND:20201010T180000
LOCATION:Falkensteinhalle\, 72582 Grabenstetten
END:VEVENT
BEGIN:VEVENT
UID:92f0745613af36b48dbd036140147b0b
DTSTAMP:20260422T110720Z
SUMMARY:[Männer LK2] CVJM Kirchentellinsfurt  - CVJM Hülben 
URL:https://www.eichenkreuzliga.de/handball/game/id/12569
DTSTART:20210207T180000
DTEND:20210207T190000
LOCATION:Sporthalle\, 72138 Kirchentellinsfurt
END:VEVENT
BEGIN:VEVENT
UID:c04d865694e26e92a48e984f61c08d7f
DTSTAMP:20260422T110720Z
SUMMARY:[Männer LK2] CVJM Hülben  - CVJM SG Mössingen/Belsen 1b
URL:https://www.eichenkreuzliga.de/handball/game/id/12573
DTSTART:20210306T180000
DTEND:20210306T190000
LOCATION:Falkensteinhalle\, 72582 Grabenstetten
END:VEVENT
BEGIN:VEVENT
UID:04ee0b25d242dad241bb8ff5be0bab16
DTSTAMP:20260422T110720Z
SUMMARY:[Männer LK2] CVJM Hülben  - EK Bernhausen 
URL:https://www.eichenkreuzliga.de/handball/game/id/12574
DTSTART:20201025T160000
DTEND:20201025T170000
LOCATION:Falkensteinhalle\, 72582 Grabenstetten
END:VEVENT
BEGIN:VEVENT
UID:1bf6b895896e976332cf0a8605839cbb
DTSTAMP:20260422T110720Z
SUMMARY:[Männer LK2] EK Bernhausen  - CVJM Hülben 
URL:https://www.eichenkreuzliga.de/handball/game/id/12575
DTSTART:20210116T153000
DTEND:20210116T163000
LOCATION:Elisabeth-Selbert-Gymnasium Halle\, 70794 Bernhausen
END:VEVENT
BEGIN:VEVENT
UID:6636d681b03657091191abb14707b6c3
DTSTAMP:20260422T110720Z
SUMMARY:[Männer LK2] EK Köngen 1b - CVJM Hülben 
URL:https://www.eichenkreuzliga.de/handball/game/id/12576
DTSTART:20201205T170000
DTEND:20201205T180000
LOCATION:Burgschulhalle\, 73257 Köngen
END:VEVENT
BEGIN:VEVENT
UID:c54cb2479d5c970e0a4ca46554d5d4b8
DTSTAMP:20260422T110720Z
SUMMARY:[Männer LK2] CVJM SG Mössingen/Belsen 1b - CVJM Enzweihingen 
URL:https://www.eichenkreuzliga.de/handball/game/id/12580
DTSTART:20201114T180000
DTEND:20201114T190000
LOCATION:Jahnhalle 2\, 72116 Mössingen
END:VEVENT
BEGIN:VEVENT
UID:38162bd4c0b19d4caefe48de3a5570df
DTSTAMP:20260422T110720Z
SUMMARY:[Männer LK2] CVJM SG Mössingen/Belsen 1b - CVJM Kirchentellinsfur
 t 
URL:https://www.eichenkreuzliga.de/handball/game/id/12581
DTSTART:20201121T190000
DTEND:20201121T200000
LOCATION:Jahnhalle 2\, 72116 Mössingen
END:VEVENT
BEGIN:VEVENT
UID:395bb380a50db6a21161e416b2d487b0
DTSTAMP:20260422T110720Z
SUMMARY:[Männer LK2] CVJM Kirchentellinsfurt  - CVJM SG Mössingen/Belsen 
 1b
URL:https://www.eichenkreuzliga.de/handball/game/id/12582
DTSTART:20210117T164500
DTEND:20210117T174500
LOCATION:Sporthalle\, 72138 Kirchentellinsfurt
END:VEVENT
BEGIN:VEVENT
UID:e17433759a373dc3dbd23104686356a2
DTSTAMP:20260422T110720Z
SUMMARY:[Männer LK2] EK Bernhausen  - CVJM Kirchentellinsfurt 
URL:https://www.eichenkreuzliga.de/handball/game/id/12583
DTSTART:20201010T154500
DTEND:20201010T164500
LOCATION:Elisabeth-Selbert-Gymnasium Halle\, 70794 Bernhausen
END:VEVENT
BEGIN:VEVENT
UID:290c7dc2c6d349da2e96a028e33590e9
DTSTAMP:20260422T110720Z
SUMMARY:[Männer LK2] CVJM Kirchentellinsfurt  - EK Bernhausen 
URL:https://www.eichenkreuzliga.de/handball/game/id/12584
DTSTART:20210313T171500
DTEND:20210313T181500
LOCATION:Sporthalle\, 72138 Kirchentellinsfurt
END:VEVENT
BEGIN:VEVENT
UID:b37bd5177c9becc1fdf1413e9cd2dd6c
DTSTAMP:20260422T110720Z
SUMMARY:[Männer LK2] CVJM SG Mössingen/Belsen 1b - EK Köngen 1b
URL:https://www.eichenkreuzliga.de/handball/game/id/12586
DTSTART:20201010T190000
DTEND:20201010T200000
LOCATION:Jahnhalle 2\, 72116 Mössingen
END:VEVENT
BEGIN:VEVENT
UID:626eceb1acf50e216b7195571ff3f741
DTSTAMP:20260422T110720Z
SUMMARY:[Männer LK2] CVJM SG Mössingen/Belsen 1b - CVJM Hülben 
URL:https://www.eichenkreuzliga.de/handball/game/id/12587
DTSTART:20210131T163000
DTEND:20210131T173000
LOCATION:Jahnhalle 2\, 72116 Mössingen
END:VEVENT
BEGIN:VEVENT
UID:bb15bed15144cbe94bb0e6953bb38ed2
DTSTAMP:20260422T110720Z
SUMMARY:[Männer LK2] CVJM Kirchentellinsfurt  - EK Köngen 1b
URL:https://www.eichenkreuzliga.de/handball/game/id/12588
DTSTART:20201213T170000
DTEND:20201213T180000
LOCATION:Sporthalle\, 72138 Kirchentellinsfurt
END:VEVENT
BEGIN:VEVENT
UID:4a928bbabf538125d121f0fa6ddddee0
DTSTAMP:20260422T110720Z
SUMMARY:[Männer LK2] EK Köngen 1b - CVJM Kirchentellinsfurt 
URL:https://www.eichenkreuzliga.de/handball/game/id/12589
DTSTART:20210424T190000
DTEND:20210424T200000
LOCATION:Burgschulhalle\, 73257 Köngen
END:VEVENT
BEGIN:VEVENT
UID:6dda6b5ce98fac24b0903a482b6e3a82
DTSTAMP:20260422T110720Z
SUMMARY:[Männer LK2] EK Bernhausen  - CVJM Enzweihingen 
URL:https://www.eichenkreuzliga.de/handball/game/id/12591
DTSTART:20210220T174500
DTEND:20210220T184500
LOCATION:Elisabeth-Selbert-Gymnasium Halle\, 70794 Bernhausen
END:VEVENT
BEGIN:VEVENT
UID:430ee820071a6f8e5ed1e9b8efac78d2
DTSTAMP:20260422T110720Z
SUMMARY:[Männer LK2] EK Köngen 1b - CVJM Enzweihingen 
URL:https://www.eichenkreuzliga.de/handball/game/id/12592
DTSTART:20210206T170000
DTEND:20210206T180000
LOCATION:Burgschulhalle\, 73257 Köngen
END:VEVENT
BEGIN:VEVENT
UID:c3f148eb9278c461ce3ebf860ae488d2
DTSTAMP:20260422T110720Z
SUMMARY:[Männer LK2] EK Bernhausen  - CVJM SG Mössingen/Belsen 1b
URL:https://www.eichenkreuzliga.de/handball/game/id/12593
DTSTART:20201128T154500
DTEND:20201128T164500
LOCATION:Elisabeth-Selbert-Gymnasium Halle\, 70794 Bernhausen
END:VEVENT
BEGIN:VEVENT
UID:b64fda4ec7df84421bc9eb8bd7da2652
DTSTAMP:20260422T110720Z
SUMMARY:[Männer LK2] EK Köngen 1b - EK Bernhausen 
URL:https://www.eichenkreuzliga.de/handball/game/id/12595
DTSTART:20201121T180000
DTEND:20201121T190000
LOCATION:Burgschulhalle\, 73257 Köngen
END:VEVENT
BEGIN:VEVENT
UID:2c9c3a5bfbd52009e4d3dc1c7e6348d6
DTSTAMP:20260422T110720Z
SUMMARY:[Männer LK2] EK Bernhausen  - EK Köngen 1b
URL:https://www.eichenkreuzliga.de/handball/game/id/12596
DTSTART:20210130T173000
DTEND:20210130T183000
LOCATION:Elisabeth-Selbert-Gymnasium Halle\, 70794 Bernhausen
END:VEVENT
BEGIN:VEVENT
UID:7a37ccf0f57d6f0a94d2ac90060c999a
DTSTAMP:20260422T110720Z
SUMMARY:[Männer LK2] EK Bernhausen  - CVJM  Walddorfhäslach 2
URL:https://www.eichenkreuzliga.de/handball/game/id/12597
DTSTART:20210320T194500
DTEND:20210320T204500
LOCATION:Elisabeth-Selbert-Gymnasium Halle\, 70794 Bernhausen
END:VEVENT
BEGIN:VEVENT
UID:5266dd11278369230801ee7cbd04ea96
DTSTAMP:20260422T110720Z
SUMMARY:[Männer LK2] CVJM Enzweihingen  - CVJM Kirchentellinsfurt 
URL:https://www.eichenkreuzliga.de/handball/game/id/12598
DTSTART:20201024T180000
DTEND:20201024T190000
LOCATION:Schulsporthalle\, 71665 Enzweihingen
END:VEVENT
BEGIN:VEVENT
UID:a0ebb58ef7cd200620b525e9332f8071
DTSTAMP:20260422T110720Z
SUMMARY:[Männer LK2] CVJM Kirchentellinsfurt  - CVJM Enzweihingen 
URL:https://www.eichenkreuzliga.de/handball/game/id/12599
DTSTART:20201220T160000
DTEND:20201220T170000
LOCATION:Sporthalle\, 72138 Kirchentellinsfurt
END:VEVENT
BEGIN:VEVENT
UID:1da41efe6342bfdd51056bd8709e5cc0
DTSTAMP:20260422T110720Z
SUMMARY:[Männer LK2] CVJM Hülben  - CVJM Kirchentellinsfurt 
URL:https://www.eichenkreuzliga.de/handball/game/id/13071
DTSTART:20210320T180000
DTEND:20210320T190000
LOCATION:Falkensteinhalle\, 72582 Grabenstetten
END:VEVENT
BEGIN:VEVENT
UID:ba92ff31e2c6bee1dd1d3e6a97fa744d
DTSTAMP:20260422T110720Z
SUMMARY:[Männer LK2] CVJM Hülben  - EK Köngen 1b
URL:https://www.eichenkreuzliga.de/handball/game/id/13171
DTSTART:20210221T163000
DTEND:20210221T173000
LOCATION:Falkensteinhalle\, 72582 Grabenstetten
END:VEVENT
END:VCALENDAR
