BEGIN:VCALENDAR
PRODID:-//eluceo/ical//2.0/EN
VERSION:2.0
CALSCALE:GREGORIAN
BEGIN:VEVENT
UID:85b355e9a42a1e30a7f882c6658ae8bc
DTSTAMP:20260421T133522Z
SUMMARY:[Männer LK4] CVJM SG Mössingen/Belsen 1c - CVJM Enzweihingen 1b
URL:https://www.eichenkreuzliga.de/handball/game/id/13022
DTSTART:20201018T140000
DTEND:20201018T150000
LOCATION:Jahnhalle 2\, 72116 Mössingen
END:VEVENT
BEGIN:VEVENT
UID:bc98d6c0b0eec74e900536aed4ec65b2
DTSTAMP:20260421T133522Z
SUMMARY:[Männer LK4] CVJM SG Mössingen/Belsen 1c - CVJM Fellbach 
URL:https://www.eichenkreuzliga.de/handball/game/id/13023
DTSTART:20201121T170000
DTEND:20201121T180000
LOCATION:Jahnhalle 2\, 72116 Mössingen
END:VEVENT
BEGIN:VEVENT
UID:2c196c3cac3e6c4092a92847160b1cc1
DTSTAMP:20260421T133522Z
SUMMARY:[Männer LK4] CVJM SG Mössingen/Belsen 1c - CVJM Möglingen 1b
URL:https://www.eichenkreuzliga.de/handball/game/id/13024
DTSTART:20210314T190000
DTEND:20210314T200000
LOCATION:Jahnhalle 2\, 72116 Mössingen
END:VEVENT
BEGIN:VEVENT
UID:00e4956bd50da4d2b37b0a1bccf1ab32
DTSTAMP:20260421T133522Z
SUMMARY:[Männer LK4] CVJM SG Mössingen/Belsen 1c - EK Wolfschlugen 
URL:https://www.eichenkreuzliga.de/handball/game/id/13025
DTSTART:20210227T150000
DTEND:20210227T160000
LOCATION:Jahnhalle 2\, 72116 Mössingen
END:VEVENT
BEGIN:VEVENT
UID:35c5d08ce7b94cc876a086ff9b29054e
DTSTAMP:20260421T133522Z
SUMMARY:[Männer LK4] CVJM HB Dußlingen-Gomaringen 2 - CVJM SG Mössingen/
 Belsen 1c
URL:https://www.eichenkreuzliga.de/handball/game/id/13026
DTSTART:20201107T180000
DTEND:20201107T190000
LOCATION:Hönisch Sporthalle\, 72144 Dusslingen
END:VEVENT
BEGIN:VEVENT
UID:5431fabfcbf87f3c3deca7991ce62821
DTSTAMP:20260421T133522Z
SUMMARY:[Männer LK4] CVJM Kusterdingen e.V.  - CVJM SG Mössingen/Belsen 1
 c
URL:https://www.eichenkreuzliga.de/handball/game/id/13027
DTSTART:20201212T160000
DTEND:20201212T170000
LOCATION:Härtensporthalle\, 72127 Kusterdingen
END:VEVENT
BEGIN:VEVENT
UID:d125eb7ba5a58e0fcac2480eefbe9885
DTSTAMP:20260421T133522Z
SUMMARY:[Männer LK4] SG Grunbach Winterbach  - CVJM SG Mössingen/Belsen 1
 c
URL:https://www.eichenkreuzliga.de/handball/game/id/13028
DTSTART:20210124T160000
DTEND:20210124T170000
LOCATION:Jahnhalle\, 73630 Grunbach
END:VEVENT
BEGIN:VEVENT
UID:030388885ae64c6a5a36d00cb365a304
DTSTAMP:20260421T133522Z
SUMMARY:[Männer LK4] CVJM Enzweihingen 1b - CVJM Fellbach 
URL:https://www.eichenkreuzliga.de/handball/game/id/13029
DTSTART:20210130T180000
DTEND:20210130T190000
LOCATION:Schulsporthalle\, 71665 Enzweihingen
END:VEVENT
BEGIN:VEVENT
UID:6e29dabf6a4f02fd2dd2e84c5fac8339
DTSTAMP:20260421T133522Z
SUMMARY:[Männer LK4] CVJM Enzweihingen 1b - CVJM HB Dußlingen-Gomaringen 
 2
URL:https://www.eichenkreuzliga.de/handball/game/id/13030
DTSTART:20210227T180000
DTEND:20210227T190000
LOCATION:Schulsporthalle\, 71665 Enzweihingen
END:VEVENT
BEGIN:VEVENT
UID:026f78fd1f458003c46b3e40c88b4f57
DTSTAMP:20260421T133522Z
SUMMARY:[Männer LK4] CVJM Enzweihingen 1b - CVJM Möglingen 1b
URL:https://www.eichenkreuzliga.de/handball/game/id/13032
DTSTART:20201108T170000
DTEND:20201108T180000
LOCATION:Schulsporthalle\, 71665 Enzweihingen
END:VEVENT
BEGIN:VEVENT
UID:39d15bc65f2d1708f28456724c472f9d
DTSTAMP:20260421T133522Z
SUMMARY:[Männer LK4] EK Wolfschlugen  - CVJM Enzweihingen 1b
URL:https://www.eichenkreuzliga.de/handball/game/id/13033
DTSTART:20201206T170000
DTEND:20201206T180000
LOCATION:Sporthalle Herdhau\, 72649 Wolfschlugen
END:VEVENT
BEGIN:VEVENT
UID:921ae344413534e5260ce6795e695b2f
DTSTAMP:20260421T133522Z
SUMMARY:[Männer LK4] SG Grunbach Winterbach  - CVJM Enzweihingen 1b
URL:https://www.eichenkreuzliga.de/handball/game/id/13034
DTSTART:20210207T160000
DTEND:20210207T170000
LOCATION:Jahnhalle\, 73630 Grunbach
END:VEVENT
BEGIN:VEVENT
UID:317ae96761608c5c8b2f8e3f6a77f0bc
DTSTAMP:20260421T133522Z
SUMMARY:[Männer LK4] CVJM Fellbach  - CVJM HB Dußlingen-Gomaringen 2
URL:https://www.eichenkreuzliga.de/handball/game/id/13035
DTSTART:20201219T160000
DTEND:20201219T170000
LOCATION:Zeppelinhalle\, 70734 Fellbach
END:VEVENT
BEGIN:VEVENT
UID:a2466636a3314779aa4b4f99f01d2a30
DTSTAMP:20260421T133522Z
SUMMARY:[Männer LK4] CVJM Fellbach  - CVJM Möglingen 1b
URL:https://www.eichenkreuzliga.de/handball/game/id/13037
DTSTART:20210213T160000
DTEND:20210213T170000
LOCATION:Zeppelinhalle\, 70734 Fellbach
END:VEVENT
BEGIN:VEVENT
UID:695a6b83b1ff0224bdea43894b8d9959
DTSTAMP:20260421T133522Z
SUMMARY:[Männer LK4] CVJM Fellbach  - EK Wolfschlugen 
URL:https://www.eichenkreuzliga.de/handball/game/id/13038
DTSTART:20210313T170000
DTEND:20210313T180000
LOCATION:Zeppelinhalle\, 70734 Fellbach
END:VEVENT
BEGIN:VEVENT
UID:30e35e538c2d66592238aed4e97a171c
DTSTAMP:20260421T133522Z
SUMMARY:[Männer LK4] CVJM Möglingen 1b - EK Wolfschlugen 
URL:https://www.eichenkreuzliga.de/handball/game/id/13040
DTSTART:20201017T160000
DTEND:20201017T170000
LOCATION:Stadionhalle\, 71696 Möglingen
END:VEVENT
BEGIN:VEVENT
UID:03f22623e903c7b67c8a868a8252bf16
DTSTAMP:20260421T133522Z
SUMMARY:[Männer LK4] CVJM Möglingen 1b - SG Grunbach Winterbach 
URL:https://www.eichenkreuzliga.de/handball/game/id/13041
DTSTART:20201128T160000
DTEND:20201128T170000
LOCATION:Stadionhalle\, 71696 Möglingen
END:VEVENT
BEGIN:VEVENT
UID:1b2f004e64e41f07e3fba63c714e81b9
DTSTAMP:20260421T133522Z
SUMMARY:[Männer LK4] CVJM HB Dußlingen-Gomaringen 2 - CVJM Möglingen 1b
URL:https://www.eichenkreuzliga.de/handball/game/id/13044
DTSTART:20210116T180000
DTEND:20210116T190000
LOCATION:Hönisch Sporthalle\, 72144 Dusslingen
END:VEVENT
BEGIN:VEVENT
UID:b094994ed8dbb27ca31ef7e841b3d1f3
DTSTAMP:20260421T133522Z
SUMMARY:[Männer LK4] EK Wolfschlugen  - CVJM HB Dußlingen-Gomaringen 2
URL:https://www.eichenkreuzliga.de/handball/game/id/13045
DTSTART:20210328T160000
DTEND:20210328T170000
LOCATION:Sporthalle Herdhau\, 72649 Wolfschlugen
END:VEVENT
BEGIN:VEVENT
UID:0fde5c5a07b147a8b8c1246b84e16d41
DTSTAMP:20260421T133522Z
SUMMARY:[Männer LK4] CVJM HB Dußlingen-Gomaringen 2 - SG Grunbach Winterb
 ach 
URL:https://www.eichenkreuzliga.de/handball/game/id/13046
DTSTART:20201017T000000
DTEND:20201017T010000
LOCATION:Hönisch Sporthalle\, 72144 Dusslingen
END:VEVENT
BEGIN:VEVENT
UID:eee63d0348651d12f193198130950873
DTSTAMP:20260421T133522Z
SUMMARY:[Männer LK4] CVJM Möglingen 1b - CVJM Kusterdingen e.V. 
URL:https://www.eichenkreuzliga.de/handball/game/id/13047
DTSTART:20210320T160000
DTEND:20210320T170000
LOCATION:Stadionhalle\, 71696 Möglingen
END:VEVENT
BEGIN:VEVENT
UID:2298fe0ac99351aa1419be265267eee3
DTSTAMP:20260421T133522Z
SUMMARY:[Männer LK4] CVJM Kusterdingen e.V.  - EK Wolfschlugen 
URL:https://www.eichenkreuzliga.de/handball/game/id/13048
DTSTART:20210130T160000
DTEND:20210130T170000
LOCATION:Härtensporthalle\, 72127 Kusterdingen
END:VEVENT
BEGIN:VEVENT
UID:2464c5c2cfec4ab8cd3e2b935287686f
DTSTAMP:20260421T133522Z
SUMMARY:[Männer LK4] CVJM Kusterdingen e.V.  - SG Grunbach Winterbach 
URL:https://www.eichenkreuzliga.de/handball/game/id/13050
DTSTART:20210313T170000
DTEND:20210313T180000
LOCATION:Härtensporthalle\, 72127 Kusterdingen
END:VEVENT
BEGIN:VEVENT
UID:d8d2448c919f69c077b08cb0fd12b0ea
DTSTAMP:20260421T133522Z
SUMMARY:[Männer LK4] EK Wolfschlugen  - SG Grunbach Winterbach 
URL:https://www.eichenkreuzliga.de/handball/game/id/13051
DTSTART:20201107T170000
DTEND:20201107T180000
LOCATION:Sporthalle Herdhau\, 72649 Wolfschlugen
END:VEVENT
BEGIN:VEVENT
UID:933822686b2f0e887b2e343c8cf7ad19
DTSTAMP:20260421T133522Z
SUMMARY:[Männer LK4] SG Grunbach Winterbach  - CVJM Fellbach 
URL:https://www.eichenkreuzliga.de/handball/game/id/13052
DTSTART:20201212T180000
DTEND:20201212T190000
LOCATION:Jahnhalle\, 73630 Grunbach
END:VEVENT
BEGIN:VEVENT
UID:32431bd1e1af8d8c78f33352a5538766
DTSTAMP:20260421T133522Z
SUMMARY:[Männer LK4] CVJM Fellbach  - CVJM Kusterdingen e.V. 
URL:https://www.eichenkreuzliga.de/handball/game/id/13057
DTSTART:20201107T200000
DTEND:20201107T210000
LOCATION:Zeppelinhalle\, 70734 Fellbach
END:VEVENT
BEGIN:VEVENT
UID:85b623d0463245b33309854f268d607c
DTSTAMP:20260421T133522Z
SUMMARY:[Männer LK4] CVJM Kusterdingen e.V.  - CVJM HB Dußlingen-Gomaring
 en 2
URL:https://www.eichenkreuzliga.de/handball/game/id/13059
DTSTART:20201205T180000
DTEND:20201205T190000
LOCATION:Härtensporthalle\, 72127 Kusterdingen
END:VEVENT
BEGIN:VEVENT
UID:0c5970de582a2fdcf714e8ed7c68c284
DTSTAMP:20260421T133522Z
SUMMARY:[Männer LK4] CVJM Kusterdingen e.V.  - CVJM Enzweihingen 1b
URL:https://www.eichenkreuzliga.de/handball/game/id/13060
DTSTART:20210327T180000
DTEND:20210327T190000
LOCATION:Härtensporthalle\, 72127 Kusterdingen
END:VEVENT
END:VCALENDAR
