BEGIN:VCALENDAR
PRODID:-//eluceo/ical//2.0/EN
VERSION:2.0
CALSCALE:GREGORIAN
BEGIN:VEVENT
UID:55f9d3912159d3352a2e3344205a8c57
DTSTAMP:20260422T110649Z
SUMMARY:[männliche B-Jugend Runde] CVJM Möglingen  - EK Bernhausen 
URL:https://www.eichenkreuzliga.de/handball/game/id/12874
DTSTART:20201017T103000
DTEND:20201017T113000
LOCATION:Stadionhalle\, 71696 Möglingen
END:VEVENT
BEGIN:VEVENT
UID:03f86f88ea4807e4113f2436d9408d75
DTSTAMP:20260422T110649Z
SUMMARY:[männliche B-Jugend Runde] CVJM HB Dußlingen-Gomaringen  - CVJM H
 agelloch SG Hagelloch/Kusterdingen
URL:https://www.eichenkreuzliga.de/handball/game/id/12875
DTSTART:20201017T000000
DTEND:20201017T010000
LOCATION:Hönisch Sporthalle\, 72144 Dusslingen
END:VEVENT
BEGIN:VEVENT
UID:a2681a9ad39b7d13e4a459d13d597dce
DTSTAMP:20260422T110649Z
SUMMARY:[männliche B-Jugend Runde] EK Köngen  - EJW Münchingen 
URL:https://www.eichenkreuzliga.de/handball/game/id/12877
DTSTART:20201017T150000
DTEND:20201017T160000
LOCATION:Burgschulhalle\, 73257 Köngen
END:VEVENT
BEGIN:VEVENT
UID:b30cf151fe51b4f4774765f9b10091a4
DTSTAMP:20260422T110649Z
SUMMARY:[männliche B-Jugend Runde] CVJM Flacht  - CVJM Wildberg 
URL:https://www.eichenkreuzliga.de/handball/game/id/12878
DTSTART:20201017T160000
DTEND:20201017T170000
LOCATION:Sporthalle Flacht\, 71287 Weissach
END:VEVENT
BEGIN:VEVENT
UID:356a73f71f2eba104b1de96ae88d1d93
DTSTAMP:20260422T110649Z
SUMMARY:[männliche B-Jugend Runde] CVJM Enzweihingen  - CVJM  Walddorfhäs
 lach 
URL:https://www.eichenkreuzliga.de/handball/game/id/12879
DTSTART:20201018T160000
DTEND:20201018T170000
LOCATION:Schulsporthalle\, 71665 Enzweihingen
END:VEVENT
BEGIN:VEVENT
UID:b41068dca8bd51edf3d90e7b118dffd3
DTSTAMP:20260422T110649Z
SUMMARY:[männliche B-Jugend Runde] CVJM Wildberg  - EK Bernhausen 
URL:https://www.eichenkreuzliga.de/handball/game/id/12880
DTSTART:20201108T154500
DTEND:20201108T164500
LOCATION:Sporthalle Wildberg\, 72218 Wildberg
END:VEVENT
BEGIN:VEVENT
UID:66c51165f8280d5a5f89b49066a8be8d
DTSTAMP:20260422T110649Z
SUMMARY:[männliche B-Jugend Runde] CVJM Flacht  - EJW Münchingen 
URL:https://www.eichenkreuzliga.de/handball/game/id/12882
DTSTART:20201107T153000
DTEND:20201107T163000
LOCATION:Sporthalle Flacht\, 71287 Weissach
END:VEVENT
BEGIN:VEVENT
UID:49d6e60456cf49d95a348b5cba35dc96
DTSTAMP:20260422T110649Z
SUMMARY:[männliche B-Jugend Runde] CVJM Möglingen  - CVJM  Walddorfhäsla
 ch 
URL:https://www.eichenkreuzliga.de/handball/game/id/12883
DTSTART:20201107T163000
DTEND:20201107T173000
LOCATION:Stadionhalle\, 71696 Möglingen
END:VEVENT
BEGIN:VEVENT
UID:845e5add8cf1181da22a8afcab34ab02
DTSTAMP:20260422T110649Z
SUMMARY:[männliche B-Jugend Runde] EK Köngen  - CVJM HB Dußlingen-Gomari
 ngen 
URL:https://www.eichenkreuzliga.de/handball/game/id/12884
DTSTART:20201107T140000
DTEND:20201107T150000
LOCATION:Burgschulhalle\, 73257 Köngen
END:VEVENT
BEGIN:VEVENT
UID:0f778acd53aa4557abdeabd4841930f1
DTSTAMP:20260422T110649Z
SUMMARY:[männliche B-Jugend Runde] CVJM  Walddorfhäslach  - EJW Münching
 en 
URL:https://www.eichenkreuzliga.de/handball/game/id/12885
DTSTART:20201115T130000
DTEND:20201115T140000
LOCATION:Ballspielhalle\, 72141 Walddorfhäslach
END:VEVENT
BEGIN:VEVENT
UID:39af8124dddc28e01f83168be6219cad
DTSTAMP:20260422T110649Z
SUMMARY:[männliche B-Jugend Runde] CVJM Hagelloch SG Hagelloch/Kusterdinge
 n - EK Köngen 
URL:https://www.eichenkreuzliga.de/handball/game/id/12886
DTSTART:20201129T141500
DTEND:20201129T151500
LOCATION:Kreissporthalle Tübingen\, 72072 Tübingen
END:VEVENT
BEGIN:VEVENT
UID:9c14792e7a9d4cdca2fc561842bbfb5c
DTSTAMP:20260422T110649Z
SUMMARY:[männliche B-Jugend Runde] EK Bernhausen  - CVJM Flacht 
URL:https://www.eichenkreuzliga.de/handball/game/id/12887
DTSTART:20201114T154500
DTEND:20201114T164500
LOCATION:Elisabeth-Selbert-Gymnasium Halle\, 70794 Bernhausen
END:VEVENT
BEGIN:VEVENT
UID:7b6a4a058f949c5906bb7b1a3895e73d
DTSTAMP:20260422T110649Z
SUMMARY:[männliche B-Jugend Runde] CVJM HB Dußlingen-Gomaringen  - CVJM E
 nzweihingen 
URL:https://www.eichenkreuzliga.de/handball/game/id/12888
DTSTART:20201121T160000
DTEND:20201121T170000
LOCATION:Hönisch Sporthalle\, 72144 Dusslingen
END:VEVENT
BEGIN:VEVENT
UID:6165dfd1469317d1c5a1178db2be6254
DTSTAMP:20260422T110649Z
SUMMARY:[männliche B-Jugend Runde] CVJM Wildberg  - CVJM Möglingen 
URL:https://www.eichenkreuzliga.de/handball/game/id/12889
DTSTART:20201129T140000
DTEND:20201129T150000
LOCATION:Sporthalle Wildberg\, 72218 Wildberg
END:VEVENT
BEGIN:VEVENT
UID:7a00b44226eb7c86feddde588828a39c
DTSTAMP:20260422T110649Z
SUMMARY:[männliche B-Jugend Runde] CVJM  Walddorfhäslach  - CVJM Flacht 
URL:https://www.eichenkreuzliga.de/handball/game/id/12890
DTSTART:20201213T180000
DTEND:20201213T190000
LOCATION:Ballspielhalle\, 72141 Walddorfhäslach
END:VEVENT
BEGIN:VEVENT
UID:a428358b2322d6ada85d754434bbe148
DTSTAMP:20260422T110649Z
SUMMARY:[männliche B-Jugend Runde] CVJM Möglingen  - CVJM Hagelloch SG Ha
 gelloch/Kusterdingen
URL:https://www.eichenkreuzliga.de/handball/game/id/12891
DTSTART:20201212T140000
DTEND:20201212T150000
LOCATION:Stadionhalle\, 71696 Möglingen
END:VEVENT
BEGIN:VEVENT
UID:0d37ed8ef36cfe200d1fa81ad9348e4f
DTSTAMP:20260422T110649Z
SUMMARY:[männliche B-Jugend Runde] CVJM Wildberg  - CVJM Enzweihingen 
URL:https://www.eichenkreuzliga.de/handball/game/id/12893
DTSTART:20201206T140000
DTEND:20201206T150000
LOCATION:Sporthalle Wildberg\, 72218 Wildberg
END:VEVENT
BEGIN:VEVENT
UID:0c746263a17438659d83664a70da508f
DTSTAMP:20260422T110649Z
SUMMARY:[männliche B-Jugend Runde] EK Bernhausen  - EK Köngen 
URL:https://www.eichenkreuzliga.de/handball/game/id/12894
DTSTART:20201212T143000
DTEND:20201212T153000
LOCATION:Elisabeth-Selbert-Gymnasium Halle\, 70794 Bernhausen
END:VEVENT
BEGIN:VEVENT
UID:7a012177bf6640783063f4f69b16fe5d
DTSTAMP:20260422T110649Z
SUMMARY:[männliche B-Jugend Runde] CVJM HB Dußlingen-Gomaringen  - CVJM  
 Walddorfhäslach 
URL:https://www.eichenkreuzliga.de/handball/game/id/12895
DTSTART:20210116T141500
DTEND:20210116T151500
LOCATION:Hönisch Sporthalle\, 72144 Dusslingen
END:VEVENT
BEGIN:VEVENT
UID:504701e86c2ca3ed0b0540b53e2c11f9
DTSTAMP:20260422T110649Z
SUMMARY:[männliche B-Jugend Runde] CVJM Enzweihingen  - EK Köngen 
URL:https://www.eichenkreuzliga.de/handball/game/id/12897
DTSTART:20210130T160000
DTEND:20210130T170000
LOCATION:Schulsporthalle\, 71665 Enzweihingen
END:VEVENT
BEGIN:VEVENT
UID:87afe7d5a289c6f08cf5f1f221024f97
DTSTAMP:20260422T110649Z
SUMMARY:[männliche B-Jugend Runde] CVJM Enzweihingen  - EK Bernhausen 
URL:https://www.eichenkreuzliga.de/handball/game/id/12899
DTSTART:20210227T160000
DTEND:20210227T170000
LOCATION:Schulsporthalle\, 71665 Enzweihingen
END:VEVENT
BEGIN:VEVENT
UID:2741efc8a6011e401e1a8506e1fc3aec
DTSTAMP:20260422T110649Z
SUMMARY:[männliche B-Jugend Runde] CVJM Möglingen  - CVJM Enzweihingen 
URL:https://www.eichenkreuzliga.de/handball/game/id/12901
DTSTART:20210206T160000
DTEND:20210206T170000
LOCATION:Stadionhalle\, 71696 Möglingen
END:VEVENT
BEGIN:VEVENT
UID:55891afccf1e7a9631bff916ded82192
DTSTAMP:20260422T110649Z
SUMMARY:[männliche B-Jugend Runde] CVJM Flacht  - CVJM Enzweihingen 
URL:https://www.eichenkreuzliga.de/handball/game/id/12903
DTSTART:20210306T140000
DTEND:20210306T150000
LOCATION:Sporthalle Flacht\, 71287 Weissach
END:VEVENT
BEGIN:VEVENT
UID:6193f98b365b8bcbeac8c9c129875861
DTSTAMP:20260422T110649Z
SUMMARY:[männliche B-Jugend Runde] CVJM Enzweihingen  - EJW Münchingen 
URL:https://www.eichenkreuzliga.de/handball/game/id/12904
DTSTART:20210327T183000
DTEND:20210327T193000
LOCATION:Schulsporthalle\, 71665 Enzweihingen
END:VEVENT
BEGIN:VEVENT
UID:cb9d233b3ecf014891d92e43342d0243
DTSTAMP:20260422T110649Z
SUMMARY:[männliche B-Jugend Runde] CVJM Hagelloch SG Hagelloch/Kusterdinge
 n - EK Bernhausen 
URL:https://www.eichenkreuzliga.de/handball/game/id/12906
DTSTART:20210314T161500
DTEND:20210314T171500
LOCATION:Sporthalle Waldhäuser-Ost\, 72076 Tübingen
END:VEVENT
BEGIN:VEVENT
UID:be4540e980bdf47a6c0fb88539614da0
DTSTAMP:20260422T110649Z
SUMMARY:[männliche B-Jugend Runde] EJW Münchingen  - EK Bernhausen 
URL:https://www.eichenkreuzliga.de/handball/game/id/12907
DTSTART:20201220T140000
DTEND:20201220T150000
LOCATION:Sporthalle Münchingen\, 70825 Korntal-Münchingen
END:VEVENT
BEGIN:VEVENT
UID:61210319d12dec5a42a19ad7fde3d55c
DTSTAMP:20260422T110649Z
SUMMARY:[männliche B-Jugend Runde] EJW Münchingen  - CVJM Hagelloch SG Ha
 gelloch/Kusterdingen
URL:https://www.eichenkreuzliga.de/handball/game/id/12908
DTSTART:20210117T174500
DTEND:20210117T184500
LOCATION:Sporthalle Münchingen\, 70825 Korntal-Münchingen
END:VEVENT
BEGIN:VEVENT
UID:e28050dcb12a1f72cb75f2af11be747f
DTSTAMP:20260422T110649Z
SUMMARY:[männliche B-Jugend Runde] EJW Münchingen  - CVJM Möglingen 
URL:https://www.eichenkreuzliga.de/handball/game/id/12909
DTSTART:20210131T140000
DTEND:20210131T150000
LOCATION:Sporthalle Münchingen\, 70825 Korntal-Münchingen
END:VEVENT
BEGIN:VEVENT
UID:e8ecfb874a9d04c32184fe9d97c56e3d
DTSTAMP:20260422T110649Z
SUMMARY:[männliche B-Jugend Runde] CVJM Wildberg  - EJW Münchingen 
URL:https://www.eichenkreuzliga.de/handball/game/id/12911
DTSTART:20210307T140000
DTEND:20210307T150000
LOCATION:Sporthalle Wildberg\, 72218 Wildberg
END:VEVENT
BEGIN:VEVENT
UID:085f22f5ce78990907eeb48a983d707c
DTSTAMP:20260422T110649Z
SUMMARY:[männliche B-Jugend Runde] EJW Münchingen  - CVJM HB Dußlingen-G
 omaringen 
URL:https://www.eichenkreuzliga.de/handball/game/id/12912
DTSTART:20210314T172000
DTEND:20210314T182000
LOCATION:Sporthalle Münchingen\, 70825 Korntal-Münchingen
END:VEVENT
BEGIN:VEVENT
UID:b13992f3242e82ae1c15051153473590
DTSTAMP:20260422T110649Z
SUMMARY:[männliche B-Jugend Runde] EK Bernhausen  - CVJM HB Dußlingen-Gom
 aringen 
URL:https://www.eichenkreuzliga.de/handball/game/id/12913
DTSTART:20210123T150000
DTEND:20210123T160000
LOCATION:Elisabeth-Selbert-Gymnasium Halle\, 70794 Bernhausen
END:VEVENT
BEGIN:VEVENT
UID:6315b317efb06df01db60439d7b9566e
DTSTAMP:20260422T110649Z
SUMMARY:[männliche B-Jugend Runde] EK Bernhausen  - CVJM  Walddorfhäslach
  
URL:https://www.eichenkreuzliga.de/handball/game/id/12914
DTSTART:20210306T130000
DTEND:20210306T140000
LOCATION:Elisabeth-Selbert-Gymnasium Halle\, 70794 Bernhausen
END:VEVENT
BEGIN:VEVENT
UID:eadb3bc3ada75e33a2c73760f1dd64a4
DTSTAMP:20260422T110649Z
SUMMARY:[männliche B-Jugend Runde] CVJM  Walddorfhäslach  - CVJM Wildberg
  
URL:https://www.eichenkreuzliga.de/handball/game/id/12915
DTSTART:20210123T151500
DTEND:20210123T161500
LOCATION:Ballspielhalle\, 72141 Walddorfhäslach
END:VEVENT
BEGIN:VEVENT
UID:efd97c415a3382896003e22d09712b1a
DTSTAMP:20260422T110649Z
SUMMARY:[männliche B-Jugend Runde] CVJM  Walddorfhäslach  - CVJM Hagelloc
 h SG Hagelloch/Kusterdingen
URL:https://www.eichenkreuzliga.de/handball/game/id/12916
DTSTART:20210321T180000
DTEND:20210321T190000
LOCATION:Ballspielhalle\, 72141 Walddorfhäslach
END:VEVENT
BEGIN:VEVENT
UID:91c89bc8ff84aba91b5581a6f037d9d0
DTSTAMP:20260422T110649Z
SUMMARY:[männliche B-Jugend Runde] EK Köngen  - CVJM  Walddorfhäslach 
URL:https://www.eichenkreuzliga.de/handball/game/id/12917
DTSTART:20210207T150000
DTEND:20210207T160000
LOCATION:Burgschulhalle\, 73257 Köngen
END:VEVENT
BEGIN:VEVENT
UID:6425a42ff2a65545f69be5f1bc43f4d0
DTSTAMP:20260422T110649Z
SUMMARY:[männliche B-Jugend Runde] CVJM Flacht  - CVJM Hagelloch SG Hagell
 och/Kusterdingen
URL:https://www.eichenkreuzliga.de/handball/game/id/12918
DTSTART:20210130T140000
DTEND:20210130T150000
LOCATION:Sporthalle Flacht\, 71287 Weissach
END:VEVENT
BEGIN:VEVENT
UID:90ff19d927ff0e3bf4337123b25a059c
DTSTAMP:20260422T110649Z
SUMMARY:[männliche B-Jugend Runde] CVJM Wildberg  - CVJM Hagelloch SG Hage
 lloch/Kusterdingen
URL:https://www.eichenkreuzliga.de/handball/game/id/12919
DTSTART:20210328T150000
DTEND:20210328T160000
LOCATION:Sporthalle Wildberg\, 72218 Wildberg
END:VEVENT
BEGIN:VEVENT
UID:811cf4440818f3afeeab24b1d6c28874
DTSTAMP:20260422T110649Z
SUMMARY:[männliche B-Jugend Runde] CVJM Flacht  - CVJM Möglingen 
URL:https://www.eichenkreuzliga.de/handball/game/id/12923
DTSTART:20210123T160000
DTEND:20210123T170000
LOCATION:Sporthalle Flacht\, 71287 Weissach
END:VEVENT
BEGIN:VEVENT
UID:49c71313f8463bb88c20762ca88a9360
DTSTAMP:20260422T110649Z
SUMMARY:[männliche B-Jugend Runde] CVJM Möglingen  - CVJM HB Dußlingen-G
 omaringen 
URL:https://www.eichenkreuzliga.de/handball/game/id/12924
DTSTART:20210227T140000
DTEND:20210227T150000
LOCATION:Stadionhalle\, 71696 Möglingen
END:VEVENT
BEGIN:VEVENT
UID:bf99f599e03a863c5c7bf565eabbe5ce
DTSTAMP:20260422T110649Z
SUMMARY:[männliche B-Jugend Runde] EK Köngen  - CVJM Möglingen 
URL:https://www.eichenkreuzliga.de/handball/game/id/12925
DTSTART:20210327T150000
DTEND:20210327T160000
LOCATION:Burgschulhalle\, 73257 Köngen
END:VEVENT
BEGIN:VEVENT
UID:b29264766d0217eba913fdb362c25d57
DTSTAMP:20260422T110649Z
SUMMARY:[männliche B-Jugend Runde] CVJM HB Dußlingen-Gomaringen  - CVJM F
 lacht 
URL:https://www.eichenkreuzliga.de/handball/game/id/12926
DTSTART:20210328T151500
DTEND:20210328T161500
LOCATION:Hönisch Sporthalle\, 72144 Dusslingen
END:VEVENT
BEGIN:VEVENT
UID:79613673af0a7e0f2b9040d62b8c20a1
DTSTAMP:20260422T110649Z
SUMMARY:[männliche B-Jugend Runde] EK Köngen  - CVJM Wildberg 
URL:https://www.eichenkreuzliga.de/handball/game/id/12928
DTSTART:20210313T150000
DTEND:20210313T160000
LOCATION:Burgschulhalle\, 73257 Köngen
END:VEVENT
BEGIN:VEVENT
UID:0f89e6e6993bc0bd571cf9f7c5680e5a
DTSTAMP:20260422T110649Z
SUMMARY:[männliche B-Jugend Runde] CVJM Flacht  - EK Köngen 
URL:https://www.eichenkreuzliga.de/handball/game/id/12929
DTSTART:20210227T140000
DTEND:20210227T150000
LOCATION:Sporthalle Flacht\, 71287 Weissach
END:VEVENT
BEGIN:VEVENT
UID:15f866bc54aa0f9c0334a8cee546732a
DTSTAMP:20260422T110649Z
SUMMARY:[männliche B-Jugend Runde] CVJM HB Dußlingen-Gomaringen  - CVJM W
 ildberg 
URL:https://www.eichenkreuzliga.de/handball/game/id/12930
DTSTART:20210131T164500
DTEND:20210131T174500
LOCATION:Hönisch Sporthalle\, 72144 Dusslingen
END:VEVENT
BEGIN:VEVENT
UID:6e6bfc9dd063be95a94fb591725c0e5f
DTSTAMP:20260422T110649Z
SUMMARY:[männliche B-Jugend Runde] CVJM Hagelloch SG Hagelloch/Kusterdinge
 n - CVJM Enzweihingen 
URL:https://www.eichenkreuzliga.de/handball/game/id/13062
DTSTART:20201108T163000
DTEND:20201108T173000
LOCATION:Sporthalle Waldhäuser-Ost\, 72076 Tübingen
END:VEVENT
END:VCALENDAR
