BEGIN:VCALENDAR
PRODID:-//eluceo/ical//2.0/EN
VERSION:2.0
CALSCALE:GREGORIAN
BEGIN:VEVENT
UID:8e739c8f99a0bec3de82343c757f9410
DTSTAMP:20260422T152359Z
SUMMARY:[männliche D-Jugend Runde] CVJM HB Dußlingen-Gomaringen 1 - CVJM 
  Walddorfhäslach 
URL:https://www.eichenkreuzliga.de/handball/game/id/11527
DTSTART:20201108T124500
DTEND:20201108T134500
LOCATION:Hönisch Sporthalle\, 72144 Dusslingen
END:VEVENT
BEGIN:VEVENT
UID:a74ee9287cf9a852a597cb32bbd2c9b0
DTSTAMP:20260422T152359Z
SUMMARY:[männliche D-Jugend Runde] CVJM HB Dußlingen-Gomaringen 2 a.K. - 
 CVJM  Walddorfhäslach 
URL:https://www.eichenkreuzliga.de/handball/game/id/11528
DTSTART:20201108T134000
DTEND:20201108T144000
LOCATION:Hönisch Sporthalle\, 72144 Dusslingen
END:VEVENT
BEGIN:VEVENT
UID:c4dea4705adc445d73659a8dc9185cec
DTSTAMP:20260422T152359Z
SUMMARY:[männliche D-Jugend Runde] CVJM HB Dußlingen-Gomaringen 1 - CVJM 
 Fellbach 
URL:https://www.eichenkreuzliga.de/handball/game/id/11529
DTSTART:20201108T144000
DTEND:20201108T154000
LOCATION:Hönisch Sporthalle\, 72144 Dusslingen
END:VEVENT
BEGIN:VEVENT
UID:0eaf725627c5a481eaaa2b56a279875b
DTSTAMP:20260422T152359Z
SUMMARY:[männliche D-Jugend Runde] CVJM HB Dußlingen-Gomaringen 2 a.K. - 
 CVJM Fellbach 
URL:https://www.eichenkreuzliga.de/handball/game/id/11530
DTSTART:20201108T154500
DTEND:20201108T164500
LOCATION:Hönisch Sporthalle\, 72144 Dusslingen
END:VEVENT
BEGIN:VEVENT
UID:520bae04ef4d0c80e9e8a4bc2f13a169
DTSTAMP:20260422T152359Z
SUMMARY:[männliche D-Jugend Runde] CVJM Plochingen  - EK Köngen 
URL:https://www.eichenkreuzliga.de/handball/game/id/11532
DTSTART:20201108T130000
DTEND:20201108T140000
LOCATION:Gymnasiumsporthalle\, 73207 Plochingen
END:VEVENT
BEGIN:VEVENT
UID:199619672c44f1c8abedde6a37d0f30a
DTSTAMP:20260422T152359Z
SUMMARY:[männliche D-Jugend Runde] CVJM Möglingen  - EJW Münchingen 
URL:https://www.eichenkreuzliga.de/handball/game/id/11533
DTSTART:20201108T150000
DTEND:20201108T160000
LOCATION:Gymnasiumsporthalle\, 73207 Plochingen
END:VEVENT
BEGIN:VEVENT
UID:b4d93dcf3bedfb13d0861f3a87ce3f40
DTSTAMP:20260422T152359Z
SUMMARY:[männliche D-Jugend Runde] CVJM Plochingen  - EJW Münchingen 
URL:https://www.eichenkreuzliga.de/handball/game/id/11534
DTSTART:20201108T160000
DTEND:20201108T170000
LOCATION:Gymnasiumsporthalle\, 73207 Plochingen
END:VEVENT
BEGIN:VEVENT
UID:c21840c6530f9710517e2263163f7c4b
DTSTAMP:20260422T152359Z
SUMMARY:[männliche D-Jugend Runde] CVJM Möglingen  - EK Köngen 
URL:https://www.eichenkreuzliga.de/handball/game/id/11535
DTSTART:20201108T140000
DTEND:20201108T150000
LOCATION:Gymnasiumsporthalle\, 73207 Plochingen
END:VEVENT
BEGIN:VEVENT
UID:fd7b13787e18279325a9ca3fdd58aa44
DTSTAMP:20260422T152359Z
SUMMARY:[männliche D-Jugend Runde] EK Bernhausen 1 - CVJM HB Dußlingen-Go
 maringen 1
URL:https://www.eichenkreuzliga.de/handball/game/id/11536
DTSTART:20201128T104500
DTEND:20201128T114500
LOCATION:Elisabeth-Selbert-Gymnasium Halle\, 70794 Bernhausen
END:VEVENT
BEGIN:VEVENT
UID:01938076c27a4718765bab0341b83b11
DTSTAMP:20260422T152359Z
SUMMARY:[männliche D-Jugend Runde] EK Bernhausen 1 - CVJM HB Dußlingen-Go
 maringen 2 a.K.
URL:https://www.eichenkreuzliga.de/handball/game/id/11537
DTSTART:20201128T124500
DTEND:20201128T134500
LOCATION:Elisabeth-Selbert-Gymnasium Halle\, 70794 Bernhausen
END:VEVENT
BEGIN:VEVENT
UID:dcd977a2d81a0c2c178948c6d8f4c287
DTSTAMP:20260422T152359Z
SUMMARY:[männliche D-Jugend Runde] CVJM HB Dußlingen-Gomaringen 1 - CVJM 
 HB Dußlingen-Gomaringen 2 a.K.
URL:https://www.eichenkreuzliga.de/handball/game/id/11538
DTSTART:20201128T114500
DTEND:20201128T124500
LOCATION:Elisabeth-Selbert-Gymnasium Halle\, 70794 Bernhausen
END:VEVENT
BEGIN:VEVENT
UID:fd90049ac42cd911d13147dfc421d21b
DTSTAMP:20260422T152359Z
SUMMARY:[männliche D-Jugend Runde] CVJM  Walddorfhäslach  - CVJM Ploching
 en 
URL:https://www.eichenkreuzliga.de/handball/game/id/11539
DTSTART:20201128T130000
DTEND:20201128T140000
LOCATION:Stadionhalle\, 71696 Möglingen
END:VEVENT
BEGIN:VEVENT
UID:2a198a533bde17ff9a6111c294a60f1d
DTSTAMP:20260422T152359Z
SUMMARY:[männliche D-Jugend Runde] CVJM Möglingen  - CVJM Fellbach 
URL:https://www.eichenkreuzliga.de/handball/game/id/11540
DTSTART:20201128T110000
DTEND:20201128T120000
LOCATION:Stadionhalle\, 71696 Möglingen
END:VEVENT
BEGIN:VEVENT
UID:c0b853b0b5f2acb3ea372fe461939dad
DTSTAMP:20260422T152359Z
SUMMARY:[männliche D-Jugend Runde] CVJM Fellbach  - CVJM Plochingen 
URL:https://www.eichenkreuzliga.de/handball/game/id/11541
DTSTART:20201128T120000
DTEND:20201128T130000
LOCATION:Stadionhalle\, 71696 Möglingen
END:VEVENT
BEGIN:VEVENT
UID:b84cb3b21acedbfb29bcde4a742cbe47
DTSTAMP:20260422T152359Z
SUMMARY:[männliche D-Jugend Runde] CVJM Möglingen  - CVJM  Walddorfhäsla
 ch 
URL:https://www.eichenkreuzliga.de/handball/game/id/11542
DTSTART:20201128T140000
DTEND:20201128T150000
LOCATION:Stadionhalle\, 71696 Möglingen
END:VEVENT
BEGIN:VEVENT
UID:a237d7b82bdac3aff35d2ea7f9d12e0c
DTSTAMP:20260422T152359Z
SUMMARY:[männliche D-Jugend Runde] EK Bernhausen 1 - EK Köngen 
URL:https://www.eichenkreuzliga.de/handball/game/id/11550
DTSTART:20210117T140000
DTEND:20210117T150000
LOCATION:Sporthalle Münchingen\, 70825 Korntal-Münchingen
END:VEVENT
BEGIN:VEVENT
UID:7a5f8a96e6f0616613ca73542e463c25
DTSTAMP:20260422T152359Z
SUMMARY:[männliche D-Jugend Runde] EJW Münchingen  - EK Bernhausen 1
URL:https://www.eichenkreuzliga.de/handball/game/id/11551
DTSTART:20210117T150000
DTEND:20210117T160000
LOCATION:Sporthalle Münchingen\, 70825 Korntal-Münchingen
END:VEVENT
BEGIN:VEVENT
UID:13417c55acf973d2d0342ea4dceff198
DTSTAMP:20260422T152359Z
SUMMARY:[männliche D-Jugend Runde] EJW Münchingen  - EK Köngen 
URL:https://www.eichenkreuzliga.de/handball/game/id/11552
DTSTART:20210117T130000
DTEND:20210117T140000
LOCATION:Sporthalle Münchingen\, 70825 Korntal-Münchingen
END:VEVENT
BEGIN:VEVENT
UID:ee801ac4cbceb53201301cf7a1092b1a
DTSTAMP:20260422T152359Z
SUMMARY:[männliche D-Jugend Runde] CVJM HB Dußlingen-Gomaringen 1 - CVJM 
 Möglingen 
URL:https://www.eichenkreuzliga.de/handball/game/id/11553
DTSTART:20210117T155500
DTEND:20210117T165500
LOCATION:Hönisch Sporthalle\, 72144 Dusslingen
END:VEVENT
BEGIN:VEVENT
UID:2f16726bc618287611cf0c486954687b
DTSTAMP:20260422T152359Z
SUMMARY:[männliche D-Jugend Runde] CVJM HB Dußlingen-Gomaringen 1 - CVJM 
 Plochingen 
URL:https://www.eichenkreuzliga.de/handball/game/id/11554
DTSTART:20210117T130000
DTEND:20210117T140000
LOCATION:Hönisch Sporthalle\, 72144 Dusslingen
END:VEVENT
BEGIN:VEVENT
UID:a3ffcd0817a09dce4828e00437789b23
DTSTAMP:20260422T152359Z
SUMMARY:[männliche D-Jugend Runde] CVJM HB Dußlingen-Gomaringen 2 a.K. - 
 CVJM Möglingen 
URL:https://www.eichenkreuzliga.de/handball/game/id/11555
DTSTART:20210117T150000
DTEND:20210117T160000
LOCATION:Hönisch Sporthalle\, 72144 Dusslingen
END:VEVENT
BEGIN:VEVENT
UID:f5ea7a2f731dfc7217b82c281af319b3
DTSTAMP:20260422T152359Z
SUMMARY:[männliche D-Jugend Runde] CVJM HB Dußlingen-Gomaringen 2 a.K. - 
 CVJM Plochingen 
URL:https://www.eichenkreuzliga.de/handball/game/id/11556
DTSTART:20210117T135500
DTEND:20210117T145500
LOCATION:Hönisch Sporthalle\, 72144 Dusslingen
END:VEVENT
BEGIN:VEVENT
UID:f1f2d778491e23dabf17e3f3572c6056
DTSTAMP:20260422T152359Z
SUMMARY:[männliche D-Jugend Runde] CVJM  Walddorfhäslach  - EJW Münching
 en 
URL:https://www.eichenkreuzliga.de/handball/game/id/11557
DTSTART:20210131T143000
DTEND:20210131T153000
LOCATION:Zeppelinhalle\, 70734 Fellbach
END:VEVENT
BEGIN:VEVENT
UID:98bfa9b1cd08f887fe7f698a73f70836
DTSTAMP:20260422T152359Z
SUMMARY:[männliche D-Jugend Runde] CVJM  Walddorfhäslach  - EK Köngen 
URL:https://www.eichenkreuzliga.de/handball/game/id/11558
DTSTART:20210131T130000
DTEND:20210131T140000
LOCATION:Zeppelinhalle\, 70734 Fellbach
END:VEVENT
BEGIN:VEVENT
UID:66fd9fec303a0f5315367d9e6a7343c7
DTSTAMP:20260422T152359Z
SUMMARY:[männliche D-Jugend Runde] CVJM Fellbach  - EJW Münchingen 
URL:https://www.eichenkreuzliga.de/handball/game/id/11559
DTSTART:20210131T153000
DTEND:20210131T163000
LOCATION:Zeppelinhalle\, 70734 Fellbach
END:VEVENT
BEGIN:VEVENT
UID:55e0c8e81a2a2c89cd67f26418ae67af
DTSTAMP:20260422T152359Z
SUMMARY:[männliche D-Jugend Runde] CVJM Fellbach  - EK Köngen 
URL:https://www.eichenkreuzliga.de/handball/game/id/11560
DTSTART:20210131T120000
DTEND:20210131T130000
LOCATION:Zeppelinhalle\, 70734 Fellbach
END:VEVENT
BEGIN:VEVENT
UID:2e8298eb0477405b954df0a2db19735f
DTSTAMP:20260422T152359Z
SUMMARY:[männliche D-Jugend Runde] CVJM Plochingen  - CVJM Möglingen 
URL:https://www.eichenkreuzliga.de/handball/game/id/11561
DTSTART:20210130T120000
DTEND:20210130T130000
LOCATION:Elisabeth-Selbert-Gymnasium Halle\, 70794 Bernhausen
END:VEVENT
BEGIN:VEVENT
UID:6fc51e09769b62582c9ba7398fa1bbc5
DTSTAMP:20260422T152359Z
SUMMARY:[männliche D-Jugend Runde] EK Bernhausen 1 - CVJM Möglingen 
URL:https://www.eichenkreuzliga.de/handball/game/id/11562
DTSTART:20210130T130000
DTEND:20210130T140000
LOCATION:Elisabeth-Selbert-Gymnasium Halle\, 70794 Bernhausen
END:VEVENT
BEGIN:VEVENT
UID:a58d1986c82514e2ad1d28b43e644a19
DTSTAMP:20260422T152359Z
SUMMARY:[männliche D-Jugend Runde] EK Bernhausen 1 - CVJM Plochingen 
URL:https://www.eichenkreuzliga.de/handball/game/id/11563
DTSTART:20210130T110000
DTEND:20210130T120000
LOCATION:Elisabeth-Selbert-Gymnasium Halle\, 70794 Bernhausen
END:VEVENT
BEGIN:VEVENT
UID:5c8a93f1e51188e1e0901d73dd572ea9
DTSTAMP:20260422T152359Z
SUMMARY:[männliche D-Jugend Runde] CVJM  Walddorfhäslach  - CVJM HB Dußl
 ingen-Gomaringen 1
URL:https://www.eichenkreuzliga.de/handball/game/id/11573
DTSTART:20201220T130000
DTEND:20201220T140000
LOCATION:Ballspielhalle\, 72141 Walddorfhäslach
END:VEVENT
BEGIN:VEVENT
UID:c030d16407644ba240f25dac8cbf2665
DTSTAMP:20260422T152359Z
SUMMARY:[männliche D-Jugend Runde] CVJM  Walddorfhäslach  - CVJM HB Dußl
 ingen-Gomaringen 2 a.K.
URL:https://www.eichenkreuzliga.de/handball/game/id/11574
DTSTART:20201220T150000
DTEND:20201220T160000
LOCATION:Ballspielhalle\, 72141 Walddorfhäslach
END:VEVENT
BEGIN:VEVENT
UID:2fca9b8232794c8a1f78d1ee56bab994
DTSTAMP:20260422T152359Z
SUMMARY:[männliche D-Jugend Runde] CVJM HB Dußlingen-Gomaringen 2 a.K. - 
 CVJM HB Dußlingen-Gomaringen 1
URL:https://www.eichenkreuzliga.de/handball/game/id/11575
DTSTART:20201220T140000
DTEND:20201220T150000
LOCATION:Ballspielhalle\, 72141 Walddorfhäslach
END:VEVENT
BEGIN:VEVENT
UID:59e0cb04fefb01941291b8e8a1dbbe97
DTSTAMP:20260422T152359Z
SUMMARY:[männliche D-Jugend Runde] EK Köngen  - CVJM Möglingen 
URL:https://www.eichenkreuzliga.de/handball/game/id/11576
DTSTART:20210220T120000
DTEND:20210220T130000
LOCATION:Elisabeth-Selbert-Gymnasium Halle\, 70794 Bernhausen
END:VEVENT
BEGIN:VEVENT
UID:ac82a161669058654e23f5ac23a5e796
DTSTAMP:20260422T152359Z
SUMMARY:[männliche D-Jugend Runde] EJW Münchingen  - CVJM Möglingen 
URL:https://www.eichenkreuzliga.de/handball/game/id/11577
DTSTART:20210220T130000
DTEND:20210220T140000
LOCATION:Elisabeth-Selbert-Gymnasium Halle\, 70794 Bernhausen
END:VEVENT
BEGIN:VEVENT
UID:46ab6fa0731fa7b60337990d1e4308b7
DTSTAMP:20260422T152359Z
SUMMARY:[männliche D-Jugend Runde] EK Bernhausen 1 - EK Köngen 
URL:https://www.eichenkreuzliga.de/handball/game/id/11578
DTSTART:20210220T110000
DTEND:20210220T120000
LOCATION:Elisabeth-Selbert-Gymnasium Halle\, 70794 Bernhausen
END:VEVENT
BEGIN:VEVENT
UID:95baad9665e1f786ad6923dd6bec5754
DTSTAMP:20260422T152359Z
SUMMARY:[männliche D-Jugend Runde] EK Bernhausen 1 - EJW Münchingen 
URL:https://www.eichenkreuzliga.de/handball/game/id/11579
DTSTART:20210220T140000
DTEND:20210220T150000
LOCATION:Elisabeth-Selbert-Gymnasium Halle\, 70794 Bernhausen
END:VEVENT
BEGIN:VEVENT
UID:ea8a9cfeabf71cf5793a1faf70f5ac5e
DTSTAMP:20260422T152359Z
SUMMARY:[männliche D-Jugend Runde] CVJM HB Dußlingen-Gomaringen 1 - EJW M
 ünchingen 
URL:https://www.eichenkreuzliga.de/handball/game/id/11581
DTSTART:20201205T150000
DTEND:20201205T160000
LOCATION:Burgschulhalle\, 73257 Köngen
END:VEVENT
BEGIN:VEVENT
UID:c2691e91b751028295ceb4aedf6bb54e
DTSTAMP:20260422T152359Z
SUMMARY:[männliche D-Jugend Runde] CVJM HB Dußlingen-Gomaringen 2 a.K. - 
 EJW Münchingen 
URL:https://www.eichenkreuzliga.de/handball/game/id/11582
DTSTART:20201205T140000
DTEND:20201205T150000
LOCATION:Burgschulhalle\, 73257 Köngen
END:VEVENT
BEGIN:VEVENT
UID:561a6d3ddf53c208bc93ed41134b8aa4
DTSTAMP:20260422T152359Z
SUMMARY:[männliche D-Jugend Runde] EK Köngen  - CVJM HB Dußlingen-Gomari
 ngen 1
URL:https://www.eichenkreuzliga.de/handball/game/id/11583
DTSTART:20201205T130000
DTEND:20201205T140000
LOCATION:Burgschulhalle\, 73257 Köngen
END:VEVENT
BEGIN:VEVENT
UID:386306ae459a5602c935e7892c083626
DTSTAMP:20260422T152359Z
SUMMARY:[männliche D-Jugend Runde] EK Köngen  - CVJM HB Dußlingen-Gomari
 ngen 2 a.K.
URL:https://www.eichenkreuzliga.de/handball/game/id/11584
DTSTART:20201205T160000
DTEND:20201205T170000
LOCATION:Burgschulhalle\, 73257 Köngen
END:VEVENT
BEGIN:VEVENT
UID:c59ae7fe17339cc610d012d6605731a7
DTSTAMP:20260422T152359Z
SUMMARY:[männliche D-Jugend Runde] CVJM Fellbach  - CVJM  Walddorfhäslach
  
URL:https://www.eichenkreuzliga.de/handball/game/id/11588
DTSTART:20210314T153000
DTEND:20210314T163000
LOCATION:Zeppelinhalle\, 70734 Fellbach
END:VEVENT
BEGIN:VEVENT
UID:8de0a08baf557a25ce87c89a0e205d30
DTSTAMP:20260422T152359Z
SUMMARY:[männliche D-Jugend Runde] EK Köngen  - CVJM  Walddorfhäslach 
URL:https://www.eichenkreuzliga.de/handball/game/id/11589
DTSTART:20210314T140000
DTEND:20210314T150000
LOCATION:Zeppelinhalle\, 70734 Fellbach
END:VEVENT
BEGIN:VEVENT
UID:97f6496680c19a6e93cf990b98d9b1ce
DTSTAMP:20260422T152359Z
SUMMARY:[männliche D-Jugend Runde] CVJM Fellbach  - EK Köngen 
URL:https://www.eichenkreuzliga.de/handball/game/id/11590
DTSTART:20210314T130000
DTEND:20210314T140000
LOCATION:Zeppelinhalle\, 70734 Fellbach
END:VEVENT
BEGIN:VEVENT
UID:b38542b2d90143f1d0cd9949b4a68c9a
DTSTAMP:20260422T152359Z
SUMMARY:[männliche D-Jugend Runde] EJW Münchingen  - CVJM HB Dußlingen-G
 omaringen 1
URL:https://www.eichenkreuzliga.de/handball/game/id/11591
DTSTART:20210314T130000
DTEND:20210314T140000
LOCATION:Sporthalle Münchingen\, 70825 Korntal-Münchingen
END:VEVENT
BEGIN:VEVENT
UID:3beca07a7b815b039466034ec63f065a
DTSTAMP:20260422T152359Z
SUMMARY:[männliche D-Jugend Runde] EJW Münchingen  - CVJM HB Dußlingen-G
 omaringen 2 a.K.
URL:https://www.eichenkreuzliga.de/handball/game/id/11592
DTSTART:20210314T161000
DTEND:20210314T171000
LOCATION:Sporthalle Münchingen\, 70825 Korntal-Münchingen
END:VEVENT
BEGIN:VEVENT
UID:acf2da33f0231d104676d4ac8462a5aa
DTSTAMP:20260422T152359Z
SUMMARY:[männliche D-Jugend Runde] CVJM Plochingen  - CVJM HB Dußlingen-G
 omaringen 1
URL:https://www.eichenkreuzliga.de/handball/game/id/11593
DTSTART:20210314T140000
DTEND:20210314T150000
LOCATION:Sporthalle Münchingen\, 70825 Korntal-Münchingen
END:VEVENT
BEGIN:VEVENT
UID:b257d0c958b142d13ebb9da70fec610a
DTSTAMP:20260422T152359Z
SUMMARY:[männliche D-Jugend Runde] CVJM Plochingen  - CVJM HB Dußlingen-G
 omaringen 2 a.K.
URL:https://www.eichenkreuzliga.de/handball/game/id/11594
DTSTART:20210314T151000
DTEND:20210314T161000
LOCATION:Sporthalle Münchingen\, 70825 Korntal-Münchingen
END:VEVENT
BEGIN:VEVENT
UID:61f98193700af386fd9618de9bd9884b
DTSTAMP:20260422T152359Z
SUMMARY:[männliche D-Jugend Runde] EK Köngen  - EJW Münchingen 
URL:https://www.eichenkreuzliga.de/handball/game/id/11595
DTSTART:20210328T140000
DTEND:20210328T150000
LOCATION:Gymnasiumsporthalle\, 73207 Plochingen
END:VEVENT
BEGIN:VEVENT
UID:76525440d6a8069f4e476e0f362ef412
DTSTAMP:20260422T152359Z
SUMMARY:[männliche D-Jugend Runde] CVJM Plochingen  - EK Köngen 
URL:https://www.eichenkreuzliga.de/handball/game/id/11596
DTSTART:20210328T130000
DTEND:20210328T140000
LOCATION:Gymnasiumsporthalle\, 73207 Plochingen
END:VEVENT
BEGIN:VEVENT
UID:b9f7059c966eb3c446d7df023dbf18d5
DTSTAMP:20260422T152359Z
SUMMARY:[männliche D-Jugend Runde] CVJM Plochingen  - EJW Münchingen 
URL:https://www.eichenkreuzliga.de/handball/game/id/11597
DTSTART:20210328T150000
DTEND:20210328T160000
LOCATION:Gymnasiumsporthalle\, 73207 Plochingen
END:VEVENT
BEGIN:VEVENT
UID:dd82b87b0fb203d090804ee077dafafa
DTSTAMP:20260422T152359Z
SUMMARY:[männliche D-Jugend Runde] CVJM  Walddorfhäslach  - CVJM Fellbach
  
URL:https://www.eichenkreuzliga.de/handball/game/id/11603
DTSTART:20201212T144000
DTEND:20201212T154000
LOCATION:Ballspielhalle\, 72141 Walddorfhäslach
END:VEVENT
BEGIN:VEVENT
UID:9f054e94e6f268b5da6f02ce56d96408
DTSTAMP:20260422T152359Z
SUMMARY:[männliche D-Jugend Runde] CVJM  Walddorfhäslach  - EK Bernhausen
  1
URL:https://www.eichenkreuzliga.de/handball/game/id/11604
DTSTART:20201212T123000
DTEND:20201212T133000
LOCATION:Ballspielhalle\, 72141 Walddorfhäslach
END:VEVENT
BEGIN:VEVENT
UID:9d325354423ae3637fa6998ba277f8e4
DTSTAMP:20260422T152359Z
SUMMARY:[männliche D-Jugend Runde] CVJM Fellbach  - EK Bernhausen 1
URL:https://www.eichenkreuzliga.de/handball/game/id/11605
DTSTART:20201212T133000
DTEND:20201212T143000
LOCATION:Ballspielhalle\, 72141 Walddorfhäslach
END:VEVENT
BEGIN:VEVENT
UID:55094d12ae40d14e0bc56ee32ed586fc
DTSTAMP:20260422T152359Z
SUMMARY:[männliche D-Jugend Runde] EJW Münchingen  - CVJM  Walddorfhäsla
 ch 
URL:https://www.eichenkreuzliga.de/handball/game/id/11606
DTSTART:20210228T130000
DTEND:20210228T140000
LOCATION:Sporthalle Münchingen\, 70825 Korntal-Münchingen
END:VEVENT
BEGIN:VEVENT
UID:d6239b6b5f690604e9999c6fb5263564
DTSTAMP:20260422T152359Z
SUMMARY:[männliche D-Jugend Runde] EJW Münchingen  - CVJM Fellbach 
URL:https://www.eichenkreuzliga.de/handball/game/id/11607
DTSTART:20210228T161000
DTEND:20210228T171000
LOCATION:Sporthalle Münchingen\, 70825 Korntal-Münchingen
END:VEVENT
BEGIN:VEVENT
UID:01cc30a090fc4284aa9f409fc81088bb
DTSTAMP:20260422T152359Z
SUMMARY:[männliche D-Jugend Runde] CVJM Plochingen  - CVJM  Walddorfhäsla
 ch 
URL:https://www.eichenkreuzliga.de/handball/game/id/11608
DTSTART:20210228T140000
DTEND:20210228T150000
LOCATION:Sporthalle Münchingen\, 70825 Korntal-Münchingen
END:VEVENT
BEGIN:VEVENT
UID:587707cbba356f59ddce1d1768014006
DTSTAMP:20260422T152359Z
SUMMARY:[männliche D-Jugend Runde] CVJM Plochingen  - CVJM Fellbach 
URL:https://www.eichenkreuzliga.de/handball/game/id/11614
DTSTART:20210228T151000
DTEND:20210228T161000
LOCATION:Sporthalle Münchingen\, 70825 Korntal-Münchingen
END:VEVENT
BEGIN:VEVENT
UID:f34356a2d34fb1bd25b1da63674ea73d
DTSTAMP:20260422T152359Z
SUMMARY:[männliche D-Jugend Runde] EK Köngen  - CVJM HB Dußlingen-Gomari
 ngen 1
URL:https://www.eichenkreuzliga.de/handball/game/id/11615
DTSTART:20210424T130000
DTEND:20210424T140000
LOCATION:Burgschulhalle\, 73257 Köngen
END:VEVENT
BEGIN:VEVENT
UID:4420f205155802c5d52ff623e829579e
DTSTAMP:20260422T152359Z
SUMMARY:[männliche D-Jugend Runde] EK Köngen  - CVJM HB Dußlingen-Gomari
 ngen 2 a.K.
URL:https://www.eichenkreuzliga.de/handball/game/id/11616
DTSTART:20210424T160000
DTEND:20210424T170000
LOCATION:Burgschulhalle\, 73257 Köngen
END:VEVENT
BEGIN:VEVENT
UID:6b35884a46e0f5133e0ad4fd218f0044
DTSTAMP:20260422T152359Z
SUMMARY:[männliche D-Jugend Runde] CVJM HB Dußlingen-Gomaringen 1 - CVJM 
 Fellbach 
URL:https://www.eichenkreuzliga.de/handball/game/id/11617
DTSTART:20210424T150000
DTEND:20210424T160000
LOCATION:Burgschulhalle\, 73257 Köngen
END:VEVENT
BEGIN:VEVENT
UID:3e0855a017e3acd09b3a340e14563c99
DTSTAMP:20260422T152359Z
SUMMARY:[männliche D-Jugend Runde] CVJM HB Dußlingen-Gomaringen 2 a.K. - 
 CVJM Fellbach 
URL:https://www.eichenkreuzliga.de/handball/game/id/11618
DTSTART:20210424T140000
DTEND:20210424T150000
LOCATION:Burgschulhalle\, 73257 Köngen
END:VEVENT
BEGIN:VEVENT
UID:0952a64baee6e046493939e229a34592
DTSTAMP:20260422T152359Z
SUMMARY:[männliche D-Jugend Runde] CVJM Möglingen  - CVJM Plochingen 
URL:https://www.eichenkreuzliga.de/handball/game/id/11619
DTSTART:20210424T142000
DTEND:20210424T152000
LOCATION:Stadionhalle\, 71696 Möglingen
END:VEVENT
BEGIN:VEVENT
UID:96d311fee72561a67432bec9993a045f
DTSTAMP:20260422T152359Z
SUMMARY:[männliche D-Jugend Runde] CVJM Möglingen  - EK Bernhausen 1
URL:https://www.eichenkreuzliga.de/handball/game/id/11620
DTSTART:20210424T162000
DTEND:20210424T172000
LOCATION:Stadionhalle\, 71696 Möglingen
END:VEVENT
BEGIN:VEVENT
UID:6fd32f5bcb05def1c7660df18b0cc572
DTSTAMP:20260422T152359Z
SUMMARY:[männliche D-Jugend Runde] EK Bernhausen 1 - CVJM Plochingen 
URL:https://www.eichenkreuzliga.de/handball/game/id/11621
DTSTART:20210424T152000
DTEND:20210424T162000
LOCATION:Stadionhalle\, 71696 Möglingen
END:VEVENT
BEGIN:VEVENT
UID:d302baa7ed463922ddcfa66064020ed5
DTSTAMP:20260422T152359Z
SUMMARY:[männliche D-Jugend Runde] CVJM HB Dußlingen-Gomaringen 1 - CVJM 
 Möglingen 
URL:https://www.eichenkreuzliga.de/handball/game/id/11622
DTSTART:20210228T150000
DTEND:20210228T160000
LOCATION:Hönisch Sporthalle\, 72144 Dusslingen
END:VEVENT
BEGIN:VEVENT
UID:835d39567ae7b15ef6e18696b3677642
DTSTAMP:20260422T152359Z
SUMMARY:[männliche D-Jugend Runde] CVJM HB Dußlingen-Gomaringen 2 a.K. - 
 CVJM Möglingen 
URL:https://www.eichenkreuzliga.de/handball/game/id/11623
DTSTART:20210228T160000
DTEND:20210228T170000
LOCATION:Hönisch Sporthalle\, 72144 Dusslingen
END:VEVENT
BEGIN:VEVENT
UID:53e9961bab31ec1b061a91c8c7e710e9
DTSTAMP:20260422T152359Z
SUMMARY:[männliche D-Jugend Runde] CVJM HB Dußlingen-Gomaringen 1 - EK Be
 rnhausen 1
URL:https://www.eichenkreuzliga.de/handball/game/id/11624
DTSTART:20210228T130000
DTEND:20210228T140000
LOCATION:Hönisch Sporthalle\, 72144 Dusslingen
END:VEVENT
BEGIN:VEVENT
UID:0c2149a8180ffdd472089f322927ab20
DTSTAMP:20260422T152359Z
SUMMARY:[männliche D-Jugend Runde] CVJM HB Dußlingen-Gomaringen 2 a.K. - 
 EK Bernhausen 1
URL:https://www.eichenkreuzliga.de/handball/game/id/11625
DTSTART:20210228T140000
DTEND:20210228T150000
LOCATION:Hönisch Sporthalle\, 72144 Dusslingen
END:VEVENT
BEGIN:VEVENT
UID:b2d28e9933851d3c209e9be57e845015
DTSTAMP:20260422T152359Z
SUMMARY:[männliche D-Jugend Runde] CVJM Möglingen  - CVJM  Walddorfhäsla
 ch 
URL:https://www.eichenkreuzliga.de/handball/game/id/13117
DTSTART:20210418T133000
DTEND:20210418T143000
LOCATION:Zeppelinhalle\, 70734 Fellbach
END:VEVENT
BEGIN:VEVENT
UID:c15c7ddc747cb65c9b0a7dcf1cb303f7
DTSTAMP:20260422T152359Z
SUMMARY:[männliche D-Jugend Runde] CVJM Fellbach  - CVJM Möglingen 
URL:https://www.eichenkreuzliga.de/handball/game/id/13118
DTSTART:20210418T123000
DTEND:20210418T133000
LOCATION:Zeppelinhalle\, 70734 Fellbach
END:VEVENT
BEGIN:VEVENT
UID:afa09a9056a0bca65f00063336e80cb9
DTSTAMP:20260422T152359Z
SUMMARY:[männliche D-Jugend Runde] EK Bernhausen 1 - CVJM  Walddorfhäslac
 h 
URL:https://www.eichenkreuzliga.de/handball/game/id/13119
DTSTART:20210418T143000
DTEND:20210418T153000
LOCATION:Zeppelinhalle\, 70734 Fellbach
END:VEVENT
BEGIN:VEVENT
UID:f378cc2040e4ad1423874c24d8da5fd1
DTSTAMP:20260422T152359Z
SUMMARY:[männliche D-Jugend Runde] CVJM Fellbach  - EK Bernhausen 1
URL:https://www.eichenkreuzliga.de/handball/game/id/13120
DTSTART:20210418T153000
DTEND:20210418T163000
LOCATION:Zeppelinhalle\, 70734 Fellbach
END:VEVENT
END:VCALENDAR
