BEGIN:VCALENDAR
PRODID:-//eluceo/ical//2.0/EN
VERSION:2.0
CALSCALE:GREGORIAN
BEGIN:VEVENT
UID:f9c529c3e989fc48385372da7b71842c
DTSTAMP:20260422T110903Z
SUMMARY:[weibliche D-Jugend Runde] CVJM HB Dußlingen-Gomaringen 1 - CVJM M
 öglingen 
URL:https://www.eichenkreuzliga.de/handball/game/id/11313
DTSTART:20201205T124000
DTEND:20201205T134000
LOCATION:Hönisch Sporthalle\, 72144 Dusslingen
END:VEVENT
BEGIN:VEVENT
UID:52ab2b1dcf77a4925d9dc237c4aca71b
DTSTAMP:20260422T110903Z
SUMMARY:[weibliche D-Jugend Runde] CVJM Kirchentellinsfurt  - CVJM HB Dußl
 ingen-Gomaringen 1
URL:https://www.eichenkreuzliga.de/handball/game/id/11315
DTSTART:20201017T000000
DTEND:20201017T010000
LOCATION:Sporthalle\, 72138 Kirchentellinsfurt
END:VEVENT
BEGIN:VEVENT
UID:e0405c040d04f95333c8868f98d77ce6
DTSTAMP:20260422T110903Z
SUMMARY:[weibliche D-Jugend Runde] CVJM  Walddorfhäslach  - CVJM HB Dußli
 ngen-Gomaringen 1
URL:https://www.eichenkreuzliga.de/handball/game/id/11316
DTSTART:20201114T110000
DTEND:20201114T120000
LOCATION:Ballspielhalle\, 72141 Walddorfhäslach
END:VEVENT
BEGIN:VEVENT
UID:5c80eb5de0a87cac61291f6efa5d806c
DTSTAMP:20260422T110903Z
SUMMARY:[weibliche D-Jugend Runde] CVJM  Walddorfhäslach  - CVJM SG Mössi
 ngen/Belsen 
URL:https://www.eichenkreuzliga.de/handball/game/id/11321
DTSTART:20201011T000000
DTEND:20201011T010000
LOCATION:Ballspielhalle\, 72141 Walddorfhäslach
END:VEVENT
BEGIN:VEVENT
UID:1f8ccf5f6486c80ac7fd59867a9d90fe
DTSTAMP:20260422T110903Z
SUMMARY:[weibliche D-Jugend Runde] EK Bernhausen  - CVJM Kirchentellinsfurt
  
URL:https://www.eichenkreuzliga.de/handball/game/id/11322
DTSTART:20201114T110000
DTEND:20201114T120000
LOCATION:Elisabeth-Selbert-Gymnasium Halle\, 70794 Bernhausen
END:VEVENT
BEGIN:VEVENT
UID:fd99bf4c15eacad1d954dfc2aa1cfd43
DTSTAMP:20260422T110903Z
SUMMARY:[weibliche D-Jugend Runde] CVJM  Walddorfhäslach  - EK Bernhausen 
URL:https://www.eichenkreuzliga.de/handball/game/id/11323
DTSTART:20201212T110000
DTEND:20201212T120000
LOCATION:Ballspielhalle\, 72141 Walddorfhäslach
END:VEVENT
BEGIN:VEVENT
UID:e4f61e95ae8698c50a0d94d3c9a31504
DTSTAMP:20260422T110903Z
SUMMARY:[weibliche D-Jugend Runde] EK Bernhausen  - CVJM HB Dußlingen-Goma
 ringen 1
URL:https://www.eichenkreuzliga.de/handball/game/id/11338
DTSTART:20210123T110000
DTEND:20210123T120000
LOCATION:Elisabeth-Selbert-Gymnasium Halle\, 70794 Bernhausen
END:VEVENT
BEGIN:VEVENT
UID:b5bdc81c44b5dcad7da6e402c1f7db30
DTSTAMP:20260422T110903Z
SUMMARY:[weibliche D-Jugend Runde] CVJM SG Mössingen/Belsen  - EK Bernhaus
 en 
URL:https://www.eichenkreuzliga.de/handball/game/id/11339
DTSTART:20210131T120000
DTEND:20210131T130000
LOCATION:Jahnhalle 2\, 72116 Mössingen
END:VEVENT
BEGIN:VEVENT
UID:a67f3068b19f4a210fdac61f68846b2f
DTSTAMP:20260422T110903Z
SUMMARY:[weibliche D-Jugend Runde] CVJM HB Dußlingen-Gomaringen 1 - CVJM S
 G Mössingen/Belsen 
URL:https://www.eichenkreuzliga.de/handball/game/id/11340
DTSTART:20210306T130000
DTEND:20210306T140000
LOCATION:Hönisch Sporthalle\, 72144 Dusslingen
END:VEVENT
BEGIN:VEVENT
UID:2995a3a233350877d79880ca8a9f8953
DTSTAMP:20260422T110903Z
SUMMARY:[weibliche D-Jugend Runde] CVJM Möglingen  - CVJM  Walddorfhäslac
 h 
URL:https://www.eichenkreuzliga.de/handball/game/id/11350
DTSTART:20210206T110000
DTEND:20210206T120000
LOCATION:Stadionhalle\, 71696 Möglingen
END:VEVENT
BEGIN:VEVENT
UID:4863e4277b14d3c7d4dbbfcc0b978348
DTSTAMP:20260422T110903Z
SUMMARY:[weibliche D-Jugend Runde] CVJM Kirchentellinsfurt  - CVJM  Walddor
 fhäslach 
URL:https://www.eichenkreuzliga.de/handball/game/id/11351
DTSTART:20210117T133000
DTEND:20210117T143000
LOCATION:Sporthalle\, 72138 Kirchentellinsfurt
END:VEVENT
BEGIN:VEVENT
UID:1329c9c23d9e01d899ea9842e951a419
DTSTAMP:20260422T110903Z
SUMMARY:[weibliche D-Jugend Runde] CVJM SG Mössingen/Belsen  - CVJM Kirche
 ntellinsfurt 
URL:https://www.eichenkreuzliga.de/handball/game/id/11352
DTSTART:20201213T130000
DTEND:20201213T140000
LOCATION:Jahnhalle 2\, 72116 Mössingen
END:VEVENT
BEGIN:VEVENT
UID:0d4cc63c2d1b17236d182aa3b9c51e91
DTSTAMP:20260422T110903Z
SUMMARY:[weibliche D-Jugend Runde] CVJM SG Mössingen/Belsen  - CVJM Mögli
 ngen 
URL:https://www.eichenkreuzliga.de/handball/game/id/11355
DTSTART:20201114T130000
DTEND:20201114T140000
LOCATION:Jahnhalle 2\, 72116 Mössingen
END:VEVENT
BEGIN:VEVENT
UID:14968a9d695a98d012a6645064c26ccd
DTSTAMP:20260422T110903Z
SUMMARY:[weibliche D-Jugend Runde] CVJM Kirchentellinsfurt  - CVJM Mögling
 en 
URL:https://www.eichenkreuzliga.de/handball/game/id/11659
DTSTART:20210307T150000
DTEND:20210307T160000
LOCATION:Sporthalle\, 72138 Kirchentellinsfurt
END:VEVENT
BEGIN:VEVENT
UID:9b3cc6d3cd0b61dde89659f319330b47
DTSTAMP:20260422T110903Z
SUMMARY:[weibliche D-Jugend Runde] CVJM Möglingen  - EK Bernhausen 
URL:https://www.eichenkreuzliga.de/handball/game/id/13109
DTSTART:20201107T150000
DTEND:20201107T160000
LOCATION:Stadionhalle\, 71696 Möglingen
END:VEVENT
END:VCALENDAR
