BEGIN:VCALENDAR
PRODID:-//eluceo/ical//2.0/EN
VERSION:2.0
CALSCALE:GREGORIAN
BEGIN:VEVENT
UID:22d23d8b41d8b28f651ee7418830a0e4
DTSTAMP:20260422T153208Z
SUMMARY:[weibliche B-Jugend Finalspiele] EK Testverein  - EK Testverein 
URL:https://www.eichenkreuzliga.de/handball/game/id/11671
DTSTART:20210418T130000
DTEND:20210418T140000
LOCATION:Hönisch Sporthalle\, 72144 Dusslingen
END:VEVENT
BEGIN:VEVENT
UID:a029a4c82350e55dc9ad9ade716b0888
DTSTAMP:20260422T153208Z
SUMMARY:[weibliche B-Jugend Finalspiele] EK Testverein  - EK Testverein 
URL:https://www.eichenkreuzliga.de/handball/game/id/11672
DTSTART:20210418T144500
DTEND:20210418T154500
LOCATION:Hönisch Sporthalle\, 72144 Dusslingen
END:VEVENT
END:VCALENDAR
