BEGIN:VCALENDAR
PRODID:-//eluceo/ical//2.0/EN
VERSION:2.0
CALSCALE:GREGORIAN
BEGIN:VEVENT
UID:641e6572ac14deb65c92e86d7738df80
DTSTAMP:20260422T153131Z
SUMMARY:[Männer Meisterrunde LK4] EK Testverein  - EK Testverein 
URL:https://www.eichenkreuzliga.de/handball/game/id/13172
DTSTART:20210410T153000
DTEND:20210410T163000
LOCATION:Stadionhalle\, 71696 Möglingen
END:VEVENT
BEGIN:VEVENT
UID:bdfe2cc631c7e5e42def0f355fb25b4f
DTSTAMP:20260422T153131Z
SUMMARY:[Männer Meisterrunde LK4] EK Testverein  - EK Testverein 
URL:https://www.eichenkreuzliga.de/handball/game/id/13173
DTSTART:20210410T133000
DTEND:20210410T143000
LOCATION:Stadionhalle\, 71696 Möglingen
END:VEVENT
BEGIN:VEVENT
UID:95297e0fc22a78e2fd4eac130dca11b3
DTSTAMP:20260422T153131Z
SUMMARY:[Männer Meisterrunde LK4] EK Testverein  - EK Testverein 
URL:https://www.eichenkreuzliga.de/handball/game/id/13174
DTSTART:20210418T140000
DTEND:20210418T150000
LOCATION:Jahnhalle 2\, 72116 Mössingen
END:VEVENT
BEGIN:VEVENT
UID:b81a7ba148a76868b1656608f76e5c38
DTSTAMP:20260422T153131Z
SUMMARY:[Männer Meisterrunde LK4] EK Testverein  - EK Testverein 
URL:https://www.eichenkreuzliga.de/handball/game/id/13175
DTSTART:20210418T160000
DTEND:20210418T170000
LOCATION:Jahnhalle 2\, 72116 Mössingen
END:VEVENT
BEGIN:VEVENT
UID:5b464a368990507b7ecfeb36168fcf5d
DTSTAMP:20260422T153131Z
SUMMARY:[Männer Meisterrunde LK4] EK Testverein  - EK Testverein 
URL:https://www.eichenkreuzliga.de/handball/game/id/13176
DTSTART:20210425T150000
DTEND:20210425T160000
LOCATION:Härtensporthalle\, 72127 Kusterdingen
END:VEVENT
BEGIN:VEVENT
UID:5f8eeb8efba4c38f66c7d2699e3e1cbf
DTSTAMP:20260422T153131Z
SUMMARY:[Männer Meisterrunde LK4] EK Testverein  - EK Testverein 
URL:https://www.eichenkreuzliga.de/handball/game/id/13177
DTSTART:20210425T170000
DTEND:20210425T180000
LOCATION:Härtensporthalle\, 72127 Kusterdingen
END:VEVENT
END:VCALENDAR
