BEGIN:VCALENDAR
PRODID:-//eluceo/ical//2.0/EN
VERSION:2.0
CALSCALE:GREGORIAN
BEGIN:VEVENT
UID:9218016a1b498ac550042b3f2d1caeec
DTSTAMP:20260425T163826Z
SUMMARY:[weibliche D-Jugend Finalspieltag] CVJM HB Dußlingen-Gomaringen 1 
 - CVJM Kirchentellinsfurt 
URL:https://www.eichenkreuzliga.de/handball/game/id/15480
DTSTART:20230422T113000
DTEND:20230422T123000
LOCATION:Ballspielhalle\, 72141 Walddorfhäslach
END:VEVENT
BEGIN:VEVENT
UID:5b92b8f4feaa3a77b8b07c4c9224e8c7
DTSTAMP:20260425T163826Z
SUMMARY:[weibliche D-Jugend Finalspieltag] CVJM  Walddorfhäslach  - CVJM S
 G Mössingen/Belsen 
URL:https://www.eichenkreuzliga.de/handball/game/id/15481
DTSTART:20230422T121500
DTEND:20230422T131500
LOCATION:Ballspielhalle\, 72141 Walddorfhäslach
END:VEVENT
BEGIN:VEVENT
UID:6caf31529526fa76e38ac451c2263c37
DTSTAMP:20260425T163826Z
SUMMARY:[weibliche D-Jugend Finalspieltag] CVJM Kirchentellinsfurt  - CVJM 
 SG Mössingen/Belsen 
URL:https://www.eichenkreuzliga.de/handball/game/id/15482
DTSTART:20230422T131500
DTEND:20230422T141500
LOCATION:Ballspielhalle\, 72141 Walddorfhäslach
END:VEVENT
BEGIN:VEVENT
UID:6ecefc4c55d1c8653ce8b271309f6e45
DTSTAMP:20260425T163826Z
SUMMARY:[weibliche D-Jugend Finalspieltag] CVJM HB Dußlingen-Gomaringen 1 
 - CVJM  Walddorfhäslach 
URL:https://www.eichenkreuzliga.de/handball/game/id/15483
DTSTART:20230422T140000
DTEND:20230422T150000
LOCATION:Ballspielhalle\, 72141 Walddorfhäslach
END:VEVENT
END:VCALENDAR
