BEGIN:VCALENDAR
PRODID:-//eluceo/ical//2.0/EN
VERSION:2.0
CALSCALE:GREGORIAN
BEGIN:VEVENT
UID:695b3d34225c3251926a47dc8ab6eba3
DTSTAMP:20260420T212534Z
SUMMARY:[Frauen Landesliga] CVJM  Walddorfhäslach  - CVJM Möglingen 
URL:https://www.eichenkreuzliga.de/handball/game/id/16335
DTSTART:20231121T194500
DTEND:20231121T204500
LOCATION:Ballspielhalle\, 72141 Walddorfhäslach
END:VEVENT
BEGIN:VEVENT
UID:5d03fbb27ccc6c21b9b8cef101561a68
DTSTAMP:20260420T212534Z
SUMMARY:[Frauen Landesliga] CVJM  Walddorfhäslach  - CVJM HB Dußlingen-Go
 maringen 1
URL:https://www.eichenkreuzliga.de/handball/game/id/16336
DTSTART:20231028T140000
DTEND:20231028T150000
LOCATION:Ballspielhalle\, 72141 Walddorfhäslach
END:VEVENT
BEGIN:VEVENT
UID:47d46da7f860851d9edaf27d34704c75
DTSTAMP:20260420T212534Z
SUMMARY:[Frauen Landesliga] CVJM  Walddorfhäslach  - CVJM SG Mössingen/Be
 lsen 
URL:https://www.eichenkreuzliga.de/handball/game/id/16337
DTSTART:20231202T164500
DTEND:20231202T174500
LOCATION:Ballspielhalle\, 72141 Walddorfhäslach
END:VEVENT
BEGIN:VEVENT
UID:9f1302347d3f127cec38e4cbd2daf808
DTSTAMP:20260420T212534Z
SUMMARY:[Frauen Landesliga] CVJM  Walddorfhäslach  - CVJM HB Dußlingen-Go
 maringen 2
URL:https://www.eichenkreuzliga.de/handball/game/id/16338
DTSTART:20240210T154500
DTEND:20240210T164500
LOCATION:Ballspielhalle\, 72141 Walddorfhäslach
END:VEVENT
BEGIN:VEVENT
UID:317e68ffdd38d928319adeb9bce3f6b5
DTSTAMP:20260420T212534Z
SUMMARY:[Frauen Landesliga] CVJM  Walddorfhäslach  - CVJM Hagelloch - Kust
 erdingen
URL:https://www.eichenkreuzliga.de/handball/game/id/16339
DTSTART:20240224T180000
DTEND:20240224T190000
LOCATION:Ballspielhalle\, 72141 Walddorfhäslach
END:VEVENT
BEGIN:VEVENT
UID:f402d72925d58885844fc5a7c25bd31e
DTSTAMP:20260420T212534Z
SUMMARY:[Frauen Landesliga] CVJM  Walddorfhäslach  - CVJM Kirchentellinsfu
 rt 
URL:https://www.eichenkreuzliga.de/handball/game/id/16340
DTSTART:20240414T161500
DTEND:20240414T171500
LOCATION:Ballspielhalle\, 72141 Walddorfhäslach
END:VEVENT
BEGIN:VEVENT
UID:dab96e214ee1469b552f9b7a39b95ef4
DTSTAMP:20260420T212534Z
SUMMARY:[Frauen Landesliga] CVJM  Walddorfhäslach  - EK Bernhausen 
URL:https://www.eichenkreuzliga.de/handball/game/id/16341
DTSTART:20240420T150000
DTEND:20240420T160000
LOCATION:Ballspielhalle\, 72141 Walddorfhäslach
END:VEVENT
BEGIN:VEVENT
UID:c66a3132040dea8c3c7b2a0ab4f0b4d3
DTSTAMP:20260420T212534Z
SUMMARY:[Frauen Landesliga] CVJM Hagelloch - Kusterdingen - CVJM SG Mössin
 gen/Belsen 
URL:https://www.eichenkreuzliga.de/handball/game/id/16342
DTSTART:20231021T150000
DTEND:20231021T160000
LOCATION:Kreissporthalle Tübingen\, 72072 Tübingen
END:VEVENT
BEGIN:VEVENT
UID:f14ce233770a8fc674603cdf2a8ac552
DTSTAMP:20260420T212534Z
SUMMARY:[Frauen Landesliga] CVJM Hagelloch - Kusterdingen - CVJM Möglingen
  
URL:https://www.eichenkreuzliga.de/handball/game/id/16343
DTSTART:20231210T161500
DTEND:20231210T171500
LOCATION:Sporthalle Waldhäuser-Ost\, 72076 Tübingen
END:VEVENT
BEGIN:VEVENT
UID:b1bf35c9eeff43df578d1a470cb246f7
DTSTAMP:20260420T212534Z
SUMMARY:[Frauen Landesliga] CVJM Hagelloch - Kusterdingen - CVJM  Walddorfh
 äslach 
URL:https://www.eichenkreuzliga.de/handball/game/id/16344
DTSTART:20240120T154500
DTEND:20240120T164500
LOCATION:Sporthalle Waldhäuser-Ost\, 72076 Tübingen
END:VEVENT
BEGIN:VEVENT
UID:87cb1095666227f27d6d45bcfb7e2349
DTSTAMP:20260420T212534Z
SUMMARY:[Frauen Landesliga] CVJM Hagelloch - Kusterdingen - CVJM Kirchentel
 linsfurt 
URL:https://www.eichenkreuzliga.de/handball/game/id/16345
DTSTART:20240203T170000
DTEND:20240203T180000
LOCATION:Sporthalle Waldhäuser-Ost\, 72076 Tübingen
END:VEVENT
BEGIN:VEVENT
UID:0ef893aa8c3cce78fd04ae8c37e053e1
DTSTAMP:20260420T212534Z
SUMMARY:[Frauen Landesliga] CVJM Hagelloch - Kusterdingen - CVJM HB Dußlin
 gen-Gomaringen 2
URL:https://www.eichenkreuzliga.de/handball/game/id/16347
DTSTART:20240317T153000
DTEND:20240317T163000
LOCATION:Sporthalle Waldhäuser-Ost\, 72076 Tübingen
END:VEVENT
BEGIN:VEVENT
UID:4d3da7bb271909c13b392d2d851f756b
DTSTAMP:20260420T212534Z
SUMMARY:[Frauen Landesliga] CVJM Hagelloch - Kusterdingen - EK Bernhausen 
URL:https://www.eichenkreuzliga.de/handball/game/id/16348
DTSTART:20240413T160000
DTEND:20240413T170000
LOCATION:Sporthalle Waldhäuser-Ost\, 72076 Tübingen
END:VEVENT
BEGIN:VEVENT
UID:1f95fca9c3738fd6628571892f2baf1e
DTSTAMP:20260420T212534Z
SUMMARY:[Frauen Landesliga] CVJM HB Dußlingen-Gomaringen 1 - CVJM Kirchent
 ellinsfurt 
URL:https://www.eichenkreuzliga.de/handball/game/id/16349
DTSTART:20231022T163000
DTEND:20231022T173000
LOCATION:Hönisch Sporthalle\, 72144 Dusslingen
END:VEVENT
BEGIN:VEVENT
UID:da56c4e2e0230af9da34c62c752e0fbb
DTSTAMP:20260420T212534Z
SUMMARY:[Frauen Landesliga] CVJM HB Dußlingen-Gomaringen 1 - CVJM Hagelloc
 h - Kusterdingen
URL:https://www.eichenkreuzliga.de/handball/game/id/16350
DTSTART:20231203T163000
DTEND:20231203T173000
LOCATION:Hönisch Sporthalle\, 72144 Dusslingen
END:VEVENT
BEGIN:VEVENT
UID:e8ac95e4d3233acde455d4ead6b296e0
DTSTAMP:20260420T212534Z
SUMMARY:[Frauen Landesliga] CVJM HB Dußlingen-Gomaringen 1 - CVJM Mögling
 en 
URL:https://www.eichenkreuzliga.de/handball/game/id/16351
DTSTART:20240120T164500
DTEND:20240120T174500
LOCATION:Hönisch Sporthalle\, 72144 Dusslingen
END:VEVENT
BEGIN:VEVENT
UID:6385507d648e2a0761abcf74253f154d
DTSTAMP:20260420T212534Z
SUMMARY:[Frauen Landesliga] CVJM HB Dußlingen-Gomaringen 1 - EK Bernhausen
  
URL:https://www.eichenkreuzliga.de/handball/game/id/16352
DTSTART:20240203T181500
DTEND:20240203T191500
LOCATION:Hönisch Sporthalle\, 72144 Dusslingen
END:VEVENT
BEGIN:VEVENT
UID:6c7428250ae5d0d22a517e32f3fe38c4
DTSTAMP:20260420T212534Z
SUMMARY:[Frauen Landesliga] CVJM HB Dußlingen-Gomaringen 1 - CVJM  Walddor
 fhäslach 
URL:https://www.eichenkreuzliga.de/handball/game/id/16353
DTSTART:20240316T183000
DTEND:20240316T193000
LOCATION:Hönisch Sporthalle\, 72144 Dusslingen
END:VEVENT
BEGIN:VEVENT
UID:7e3a42180376d161a1380ac64e29f4ae
DTSTAMP:20260420T212534Z
SUMMARY:[Frauen Landesliga] CVJM HB Dußlingen-Gomaringen 1 - CVJM SG Möss
 ingen/Belsen 
URL:https://www.eichenkreuzliga.de/handball/game/id/16354
DTSTART:20240414T160000
DTEND:20240414T170000
LOCATION:Hönisch Sporthalle\, 72144 Dusslingen
END:VEVENT
BEGIN:VEVENT
UID:2a1824b9bf2aa6cc4edbabafd38f0f2f
DTSTAMP:20260420T212534Z
SUMMARY:[Frauen Landesliga] CVJM HB Dußlingen-Gomaringen 2 - CVJM Hagelloc
 h - Kusterdingen
URL:https://www.eichenkreuzliga.de/handball/game/id/16355
DTSTART:20231118T193000
DTEND:20231118T203000
LOCATION:Hönisch Sporthalle\, 72144 Dusslingen
END:VEVENT
BEGIN:VEVENT
UID:51d4ba3461c71f43e6cb945752b6c219
DTSTAMP:20260420T212534Z
SUMMARY:[Frauen Landesliga] CVJM HB Dußlingen-Gomaringen 2 - EK Bernhausen
  
URL:https://www.eichenkreuzliga.de/handball/game/id/16356
DTSTART:20240427T181500
DTEND:20240427T191500
LOCATION:Hönisch Sporthalle\, 72144 Dusslingen
END:VEVENT
BEGIN:VEVENT
UID:6aea4cfe3d94e8fadfa1ea3fdcf2f106
DTSTAMP:20260420T212534Z
SUMMARY:[Frauen Landesliga] CVJM HB Dußlingen-Gomaringen 2 - CVJM Kirchent
 ellinsfurt 
URL:https://www.eichenkreuzliga.de/handball/game/id/16357
DTSTART:20240120T181500
DTEND:20240120T191500
LOCATION:Hönisch Sporthalle\, 72144 Dusslingen
END:VEVENT
BEGIN:VEVENT
UID:4285b806a692efc24e532e2ef9c676ef
DTSTAMP:20260420T212534Z
SUMMARY:[Frauen Landesliga] CVJM HB Dußlingen-Gomaringen 2 - CVJM  Walddor
 fhäslach 
URL:https://www.eichenkreuzliga.de/handball/game/id/16358
DTSTART:20240203T164500
DTEND:20240203T174500
LOCATION:Hönisch Sporthalle\, 72144 Dusslingen
END:VEVENT
BEGIN:VEVENT
UID:de650d524edfbc063ade1d8994c7bbe7
DTSTAMP:20260420T212534Z
SUMMARY:[Frauen Landesliga] CVJM HB Dußlingen-Gomaringen 2 - CVJM SG Möss
 ingen/Belsen 
URL:https://www.eichenkreuzliga.de/handball/game/id/16359
DTSTART:20240310T163000
DTEND:20240310T173000
LOCATION:Hönisch Sporthalle\, 72144 Dusslingen
END:VEVENT
BEGIN:VEVENT
UID:495d88e43b13849082cd348425945e76
DTSTAMP:20260420T212534Z
SUMMARY:[Frauen Landesliga] CVJM HB Dußlingen-Gomaringen 2 - CVJM Mögling
 en 
URL:https://www.eichenkreuzliga.de/handball/game/id/16360
DTSTART:20240414T143000
DTEND:20240414T153000
LOCATION:Hönisch Sporthalle\, 72144 Dusslingen
END:VEVENT
BEGIN:VEVENT
UID:35769f39f18fd2ee748a652e3f024aca
DTSTAMP:20260420T212534Z
SUMMARY:[Frauen Landesliga] CVJM HB Dußlingen-Gomaringen 1 - CVJM HB Dußl
 ingen-Gomaringen 2
URL:https://www.eichenkreuzliga.de/handball/game/id/16361
DTSTART:20240412T191500
DTEND:20240412T201500
LOCATION:Hönisch Sporthalle\, 72144 Dusslingen
END:VEVENT
BEGIN:VEVENT
UID:886c5376b3cb66cbf7d75f9da9e94ad7
DTSTAMP:20260420T212534Z
SUMMARY:[Frauen Landesliga] CVJM Kirchentellinsfurt  - CVJM HB Dußlingen-G
 omaringen 2
URL:https://www.eichenkreuzliga.de/handball/game/id/16362
DTSTART:20231028T181500
DTEND:20231028T191500
LOCATION:Sporthalle\, 72138 Kirchentellinsfurt
END:VEVENT
BEGIN:VEVENT
UID:9fa19e309a67603cd045f32e7b7f6493
DTSTAMP:20260420T212534Z
SUMMARY:[Frauen Landesliga] CVJM Kirchentellinsfurt  - CVJM HB Dußlingen-G
 omaringen 1
URL:https://www.eichenkreuzliga.de/handball/game/id/16363
DTSTART:20231118T161500
DTEND:20231118T171500
LOCATION:Sporthalle\, 72138 Kirchentellinsfurt
END:VEVENT
BEGIN:VEVENT
UID:4466a82502a20ec72745c5aa155163f9
DTSTAMP:20260420T212534Z
SUMMARY:[Frauen Landesliga] CVJM Kirchentellinsfurt  - CVJM  Walddorfhäsla
 ch 
URL:https://www.eichenkreuzliga.de/handball/game/id/16364
DTSTART:20231216T163000
DTEND:20231216T173000
LOCATION:Sporthalle\, 72138 Kirchentellinsfurt
END:VEVENT
BEGIN:VEVENT
UID:45ad25e32b96cc36738f1d5795080817
DTSTAMP:20260420T212534Z
SUMMARY:[Frauen Landesliga] CVJM Kirchentellinsfurt  - CVJM Hagelloch - Kus
 terdingen
URL:https://www.eichenkreuzliga.de/handball/game/id/16365
DTSTART:20240210T164500
DTEND:20240210T174500
LOCATION:Sporthalle\, 72138 Kirchentellinsfurt
END:VEVENT
BEGIN:VEVENT
UID:8680d57771fee763252aa750f4606c21
DTSTAMP:20260420T212534Z
SUMMARY:[Frauen Landesliga] CVJM Kirchentellinsfurt  - CVJM SG Mössingen/B
 elsen 
URL:https://www.eichenkreuzliga.de/handball/game/id/16366
DTSTART:20240224T161500
DTEND:20240224T171500
LOCATION:Sporthalle\, 72138 Kirchentellinsfurt
END:VEVENT
BEGIN:VEVENT
UID:3bc1e538e18de9e746f0769713d95982
DTSTAMP:20260420T212534Z
SUMMARY:[Frauen Landesliga] CVJM Kirchentellinsfurt  - EK Bernhausen 
URL:https://www.eichenkreuzliga.de/handball/game/id/16367
DTSTART:20240316T170000
DTEND:20240316T180000
LOCATION:Sporthalle\, 72138 Kirchentellinsfurt
END:VEVENT
BEGIN:VEVENT
UID:ff62cf4dd6555d80ea3f1929f983a292
DTSTAMP:20260420T212534Z
SUMMARY:[Frauen Landesliga] CVJM Kirchentellinsfurt  - CVJM Möglingen 
URL:https://www.eichenkreuzliga.de/handball/game/id/16368
DTSTART:20240421T170000
DTEND:20240421T180000
LOCATION:Sporthalle\, 72138 Kirchentellinsfurt
END:VEVENT
BEGIN:VEVENT
UID:604dbbd02d85dc8dba5fca1110402c10
DTSTAMP:20260420T212534Z
SUMMARY:[Frauen Landesliga] CVJM Möglingen  - CVJM HB Dußlingen-Gomaringe
 n 2
URL:https://www.eichenkreuzliga.de/handball/game/id/16369
DTSTART:20231104T164500
DTEND:20231104T174500
LOCATION:Stadionhalle\, 71696 Möglingen
END:VEVENT
BEGIN:VEVENT
UID:bfab75975d45060f7926d0b6f0634e74
DTSTAMP:20260420T212534Z
SUMMARY:[Frauen Landesliga] CVJM Möglingen  - CVJM SG Mössingen/Belsen 
URL:https://www.eichenkreuzliga.de/handball/game/id/16370
DTSTART:20231118T180000
DTEND:20231118T190000
LOCATION:Stadionhalle\, 71696 Möglingen
END:VEVENT
BEGIN:VEVENT
UID:92a504e89f1ae98f6b8548b087b02ca4
DTSTAMP:20260420T212534Z
SUMMARY:[Frauen Landesliga] CVJM Möglingen  - CVJM Kirchentellinsfurt 
URL:https://www.eichenkreuzliga.de/handball/game/id/16371
DTSTART:20231202T160000
DTEND:20231202T170000
LOCATION:Stadionhalle\, 71696 Möglingen
END:VEVENT
BEGIN:VEVENT
UID:0885e4240c2625173ad0d1a03bc8d95c
DTSTAMP:20260420T212534Z
SUMMARY:[Frauen Landesliga] CVJM Möglingen  - CVJM Hagelloch - Kusterdinge
 n
URL:https://www.eichenkreuzliga.de/handball/game/id/16372
DTSTART:20240303T150000
DTEND:20240303T160000
LOCATION:Stadionhalle\, 71696 Möglingen
END:VEVENT
BEGIN:VEVENT
UID:986895923ecb5f439799305c9a388c49
DTSTAMP:20260420T212534Z
SUMMARY:[Frauen Landesliga] CVJM Möglingen  - EK Bernhausen 
URL:https://www.eichenkreuzliga.de/handball/game/id/16373
DTSTART:20240218T140000
DTEND:20240218T150000
LOCATION:Stadionhalle\, 71696 Möglingen
END:VEVENT
BEGIN:VEVENT
UID:9239d34e78137a6f20822b7c5c3438eb
DTSTAMP:20260420T212534Z
SUMMARY:[Frauen Landesliga] CVJM Möglingen  - CVJM  Walddorfhäslach 
URL:https://www.eichenkreuzliga.de/handball/game/id/16374
DTSTART:20240309T163000
DTEND:20240309T173000
LOCATION:Stadionhalle\, 71696 Möglingen
END:VEVENT
BEGIN:VEVENT
UID:1ad0991408fd367abdbc7b64da2d6e4a
DTSTAMP:20260420T212534Z
SUMMARY:[Frauen Landesliga] CVJM SG Mössingen/Belsen  - CVJM  Walddorfhäs
 lach 
URL:https://www.eichenkreuzliga.de/handball/game/id/16377
DTSTART:20231112T161500
DTEND:20231112T171500
LOCATION:Jahnhalle 2\, 72116 Mössingen
END:VEVENT
BEGIN:VEVENT
UID:b596b3cd8254ac0ce4e9c830a7da21b3
DTSTAMP:20260420T212534Z
SUMMARY:[Frauen Landesliga] CVJM SG Mössingen/Belsen  - EK Bernhausen 
URL:https://www.eichenkreuzliga.de/handball/game/id/16378
DTSTART:20231125T143000
DTEND:20231125T153000
LOCATION:Jahnhalle 2\, 72116 Mössingen
END:VEVENT
BEGIN:VEVENT
UID:2790158a7e1aa082e555217193bc12c5
DTSTAMP:20260420T212534Z
SUMMARY:[Frauen Landesliga] CVJM SG Mössingen/Belsen  - CVJM Kirchentellin
 sfurt 
URL:https://www.eichenkreuzliga.de/handball/game/id/16379
DTSTART:20231210T173000
DTEND:20231210T183000
LOCATION:Jahnhalle 2\, 72116 Mössingen
END:VEVENT
BEGIN:VEVENT
UID:ef680cab69c7d47a7f82f7210bed5b1d
DTSTAMP:20260420T212534Z
SUMMARY:[Frauen Landesliga] CVJM SG Mössingen/Belsen  - CVJM Hagelloch - K
 usterdingen
URL:https://www.eichenkreuzliga.de/handball/game/id/16380
DTSTART:20240128T160000
DTEND:20240128T170000
LOCATION:Jahnhalle 2\, 72116 Mössingen
END:VEVENT
BEGIN:VEVENT
UID:8cd0924b73782f9461d8559fe70b97aa
DTSTAMP:20260420T212534Z
SUMMARY:[Frauen Landesliga] CVJM SG Mössingen/Belsen  - CVJM Möglingen 
URL:https://www.eichenkreuzliga.de/handball/game/id/16381
DTSTART:20240316T163000
DTEND:20240316T173000
LOCATION:Jahnhalle 2\, 72116 Mössingen
END:VEVENT
BEGIN:VEVENT
UID:d870f030007a0a6233b11f20ef329d02
DTSTAMP:20260420T212534Z
SUMMARY:[Frauen Landesliga] EK Bernhausen  - CVJM Hagelloch - Kusterdingen
URL:https://www.eichenkreuzliga.de/handball/game/id/16382
DTSTART:20231007T174500
DTEND:20231007T184500
LOCATION:Elisabeth-Selbert-Gymnasium Halle\, 70794 Bernhausen
END:VEVENT
BEGIN:VEVENT
UID:9616721bbbb4f090c0e635785f744f61
DTSTAMP:20260420T212534Z
SUMMARY:[Frauen Landesliga] EK Bernhausen  - CVJM  Walddorfhäslach 
URL:https://www.eichenkreuzliga.de/handball/game/id/16384
DTSTART:20231118T160000
DTEND:20231118T170000
LOCATION:Elisabeth-Selbert-Gymnasium Halle\, 70794 Bernhausen
END:VEVENT
BEGIN:VEVENT
UID:4b5f1bfea3cda7ad88b34fbd21995ed6
DTSTAMP:20260420T212534Z
SUMMARY:[Frauen Landesliga] EK Bernhausen  - CVJM HB Dußlingen-Gomaringen 
 1
URL:https://www.eichenkreuzliga.de/handball/game/id/16385
DTSTART:20231216T160000
DTEND:20231216T170000
LOCATION:Elisabeth-Selbert-Gymnasium Halle\, 70794 Bernhausen
END:VEVENT
BEGIN:VEVENT
UID:058de31bc9ab0c72f290f4593fb54e16
DTSTAMP:20260420T212534Z
SUMMARY:[Frauen Landesliga] EK Bernhausen  - CVJM Kirchentellinsfurt 
URL:https://www.eichenkreuzliga.de/handball/game/id/16387
DTSTART:20240309T174500
DTEND:20240309T184500
LOCATION:Elisabeth-Selbert-Gymnasium Halle\, 70794 Bernhausen
END:VEVENT
BEGIN:VEVENT
UID:cd611ee06692340d98c95ced4c5b2f12
DTSTAMP:20260420T212534Z
SUMMARY:[Frauen Landesliga] EK Bernhausen  - CVJM SG Mössingen/Belsen 
URL:https://www.eichenkreuzliga.de/handball/game/id/16388
DTSTART:20240323T160000
DTEND:20240323T170000
LOCATION:Elisabeth-Selbert-Gymnasium Halle\, 70794 Bernhausen
END:VEVENT
BEGIN:VEVENT
UID:ad32bcef9fdc4de52c9258e21839f016
DTSTAMP:20260420T212534Z
SUMMARY:[Frauen Landesliga] CVJM Möglingen  - CVJM HB Dußlingen-Gomaringe
 n 1
URL:https://www.eichenkreuzliga.de/handball/game/id/16389
DTSTART:20240323T180000
DTEND:20240323T190000
LOCATION:Stadionhalle\, 71696 Möglingen
END:VEVENT
BEGIN:VEVENT
UID:bc9c6c2809c591094b3456e91fa24162
DTSTAMP:20260420T212534Z
SUMMARY:[Frauen Landesliga] EK Bernhausen  - CVJM Möglingen 
URL:https://www.eichenkreuzliga.de/handball/game/id/16390
DTSTART:20240224T154500
DTEND:20240224T164500
LOCATION:Elisabeth-Selbert-Gymnasium Halle\, 70794 Bernhausen
END:VEVENT
BEGIN:VEVENT
UID:3603356560381f50fd5000f7c0b3cbfc
DTSTAMP:20260420T212534Z
SUMMARY:[Frauen Landesliga] EK Bernhausen  - CVJM HB Dußlingen-Gomaringen 
 2
URL:https://www.eichenkreuzliga.de/handball/game/id/16392
DTSTART:20231022T150000
DTEND:20231022T160000
LOCATION:Elisabeth-Selbert-Gymnasium Halle\, 70794 Bernhausen
END:VEVENT
BEGIN:VEVENT
UID:87b233463b251331613d32e36e485db8
DTSTAMP:20260420T212534Z
SUMMARY:[Frauen Landesliga] CVJM SG Mössingen/Belsen  - CVJM HB Dußlingen
 -Gomaringen 2
URL:https://www.eichenkreuzliga.de/handball/game/id/16393
DTSTART:20240421T163000
DTEND:20240421T173000
LOCATION:Jahnhalle 2\, 72116 Mössingen
END:VEVENT
BEGIN:VEVENT
UID:60ac2dfde617f726f0a2c99662a560aa
DTSTAMP:20260420T212534Z
SUMMARY:[Frauen Landesliga] CVJM HB Dußlingen-Gomaringen 1 - CVJM Hagelloc
 h - Kusterdingen
URL:https://www.eichenkreuzliga.de/handball/game/id/16394
DTSTART:20240309T181500
DTEND:20240309T191500
LOCATION:Hönisch Sporthalle\, 72144 Dusslingen
END:VEVENT
BEGIN:VEVENT
UID:353b4022e3b213680be6ba72c5aae370
DTSTAMP:20260420T212534Z
SUMMARY:[Frauen Landesliga] CVJM HB Dußlingen-Gomaringen 2 - CVJM HB Dußl
 ingen-Gomaringen 1
URL:https://www.eichenkreuzliga.de/handball/game/id/16396
DTSTART:20240225T180000
DTEND:20240225T190000
LOCATION:Hönisch Sporthalle\, 72144 Dusslingen
END:VEVENT
BEGIN:VEVENT
UID:08c79a784823221d17a075beb9602bf9
DTSTAMP:20260420T212534Z
SUMMARY:[Frauen Landesliga] CVJM SG Mössingen/Belsen  - CVJM HB Dußlingen
 -Gomaringen 1
URL:https://www.eichenkreuzliga.de/handball/game/id/16797
DTSTART:20231011T193000
DTEND:20231011T203000
LOCATION:Jahnhalle 2\, 72116 Mössingen
END:VEVENT
END:VCALENDAR
