BEGIN:VCALENDAR
PRODID:-//eluceo/ical//2.0/EN
VERSION:2.0
CALSCALE:GREGORIAN
BEGIN:VEVENT
UID:fc13c72d245fcaf1a5aca0e789d98470
DTSTAMP:20260420T162758Z
SUMMARY:[Männer Landesliga] CVJM SG Mössingen/Belsen  - CVJM Enzweihingen
  
URL:https://www.eichenkreuzliga.de/handball/game/id/16769
DTSTART:20231007T200000
DTEND:20231007T210000
LOCATION:Jahnhalle 2\, 72116 Mössingen
END:VEVENT
BEGIN:VEVENT
UID:0082119c694bdbe1137e0fb455200d0b
DTSTAMP:20260420T162758Z
SUMMARY:[Männer Landesliga] CVJM Enzweihingen  - CVJM SG Mössingen/Belsen
  
URL:https://www.eichenkreuzliga.de/handball/game/id/16770
DTSTART:20240323T170000
DTEND:20240323T180000
LOCATION:Schulsporthalle\, 71665 Enzweihingen
END:VEVENT
BEGIN:VEVENT
UID:26390eb275a55cac445f6a46f4b845af
DTSTAMP:20260420T162758Z
SUMMARY:[Männer Landesliga] EK Höfingen  - CVJM SG Mössingen/Belsen 
URL:https://www.eichenkreuzliga.de/handball/game/id/16771
DTSTART:20231014T170000
DTEND:20231014T180000
LOCATION:Strohgäuhalle\, 71229 Höfingen
END:VEVENT
BEGIN:VEVENT
UID:664847abe852db1321fddefe412c16dd
DTSTAMP:20260420T162758Z
SUMMARY:[Männer Landesliga] CVJM SG Mössingen/Belsen  - EK Höfingen 
URL:https://www.eichenkreuzliga.de/handball/game/id/16772
DTSTART:20240309T193000
DTEND:20240309T203000
LOCATION:Jahnhalle 2\, 72116 Mössingen
END:VEVENT
BEGIN:VEVENT
UID:2e4b5905c1b044d3c1039debfd6c7d86
DTSTAMP:20260420T162758Z
SUMMARY:[Männer Landesliga] EK Köngen  - CVJM Hagelloch - Kusterdingen 1
URL:https://www.eichenkreuzliga.de/handball/game/id/16773
DTSTART:20231014T193000
DTEND:20231014T203000
LOCATION:Burgschulhalle\, 73257 Köngen
END:VEVENT
BEGIN:VEVENT
UID:432025367d8ec4dd90c0418a872f97d3
DTSTAMP:20260420T162758Z
SUMMARY:[Männer Landesliga] CVJM Enzweihingen  - CVJM HB Dußlingen-Gomari
 ngen 
URL:https://www.eichenkreuzliga.de/handball/game/id/16774
DTSTART:20231014T180000
DTEND:20231014T190000
LOCATION:Schulsporthalle\, 71665 Enzweihingen
END:VEVENT
BEGIN:VEVENT
UID:9200a35004c3f01d6bf4e610a5b36b9e
DTSTAMP:20260420T162758Z
SUMMARY:[Männer Landesliga] CVJM  Walddorfhäslach  - CVJM Kirchentellinsf
 urt 
URL:https://www.eichenkreuzliga.de/handball/game/id/16775
DTSTART:20231015T180000
DTEND:20231015T190000
LOCATION:Ballspielhalle\, 72141 Walddorfhäslach
END:VEVENT
BEGIN:VEVENT
UID:6b37903aecade23e1e0b7cbc63460315
DTSTAMP:20260420T162758Z
SUMMARY:[Männer Landesliga] CVJM Kirchentellinsfurt  - CVJM  Walddorfhäsl
 ach 
URL:https://www.eichenkreuzliga.de/handball/game/id/16776
DTSTART:20240316T190000
DTEND:20240316T200000
LOCATION:Sporthalle\, 72138 Kirchentellinsfurt
END:VEVENT
BEGIN:VEVENT
UID:d71dc0a75fe62d096a6b5c562121e1c3
DTSTAMP:20260420T162758Z
SUMMARY:[Männer Landesliga] CVJM Hagelloch - Kusterdingen 1 - CVJM  Walddo
 rfhäslach 
URL:https://www.eichenkreuzliga.de/handball/game/id/16779
DTSTART:20231021T170000
DTEND:20231021T180000
LOCATION:Kreissporthalle Tübingen\, 72072 Tübingen
END:VEVENT
BEGIN:VEVENT
UID:e601fb5ad8eab1353c631500d96b2f94
DTSTAMP:20260420T162758Z
SUMMARY:[Männer Landesliga] CVJM  Walddorfhäslach  - CVJM Hagelloch - Kus
 terdingen 1
URL:https://www.eichenkreuzliga.de/handball/game/id/16780
DTSTART:20240210T190000
DTEND:20240210T200000
LOCATION:Ballspielhalle\, 72141 Walddorfhäslach
END:VEVENT
BEGIN:VEVENT
UID:a67cee9f82917e085b66f6c18eb0f06a
DTSTAMP:20260420T162758Z
SUMMARY:[Männer Landesliga] CVJM HB Dußlingen-Gomaringen  - EK Köngen 
URL:https://www.eichenkreuzliga.de/handball/game/id/16781
DTSTART:20231022T180000
DTEND:20231022T190000
LOCATION:Hönisch Sporthalle\, 72144 Dusslingen
END:VEVENT
BEGIN:VEVENT
UID:b3d0ff8a21b761fca17ed81b3bf6bbeb
DTSTAMP:20260420T162758Z
SUMMARY:[Männer Landesliga] CVJM SG Mössingen/Belsen  - CVJM Kirchentelli
 nsfurt 
URL:https://www.eichenkreuzliga.de/handball/game/id/16783
DTSTART:20231022T180000
DTEND:20231022T190000
LOCATION:Jahnhalle 2\, 72116 Mössingen
END:VEVENT
BEGIN:VEVENT
UID:4487ed155014f6634a30bdbfc380f171
DTSTAMP:20260420T162758Z
SUMMARY:[Männer Landesliga] CVJM Kirchentellinsfurt  - CVJM SG Mössingen/
 Belsen 
URL:https://www.eichenkreuzliga.de/handball/game/id/16784
DTSTART:20240224T180000
DTEND:20240224T190000
LOCATION:Sporthalle\, 72138 Kirchentellinsfurt
END:VEVENT
BEGIN:VEVENT
UID:cdace11128febd625652024159d6629c
DTSTAMP:20260420T162758Z
SUMMARY:[Männer Landesliga] CVJM Kirchentellinsfurt  - CVJM Hagelloch - Ku
 sterdingen 1
URL:https://www.eichenkreuzliga.de/handball/game/id/16785
DTSTART:20231028T200000
DTEND:20231028T210000
LOCATION:Sporthalle\, 72138 Kirchentellinsfurt
END:VEVENT
BEGIN:VEVENT
UID:bf79591da14dfe622e7092796306117c
DTSTAMP:20260420T162758Z
SUMMARY:[Männer Landesliga] EK Köngen  - EK Höfingen 
URL:https://www.eichenkreuzliga.de/handball/game/id/16787
DTSTART:20231028T190000
DTEND:20231028T200000
LOCATION:Burgschulhalle\, 73257 Köngen
END:VEVENT
BEGIN:VEVENT
UID:6ee548713a5ad4d9434c61c81352a153
DTSTAMP:20260420T162758Z
SUMMARY:[Männer Landesliga] CVJM  Walddorfhäslach  - CVJM Enzweihingen 
URL:https://www.eichenkreuzliga.de/handball/game/id/16789
DTSTART:20231029T180000
DTEND:20231029T190000
LOCATION:Ballspielhalle\, 72141 Walddorfhäslach
END:VEVENT
BEGIN:VEVENT
UID:ddad2379b314779bfbd3e50794555e3f
DTSTAMP:20260420T162758Z
SUMMARY:[Männer Landesliga] CVJM Enzweihingen  - CVJM  Walddorfhäslach 
URL:https://www.eichenkreuzliga.de/handball/game/id/16790
DTSTART:20240127T190000
DTEND:20240127T200000
LOCATION:Schulsporthalle\, 71665 Enzweihingen
END:VEVENT
BEGIN:VEVENT
UID:95f4b1852e93147fe0fd2cc42680aa5b
DTSTAMP:20260420T162758Z
SUMMARY:[Männer Landesliga] CVJM Enzweihingen  - CVJM Hagelloch - Kusterdi
 ngen 1
URL:https://www.eichenkreuzliga.de/handball/game/id/16791
DTSTART:20231111T170000
DTEND:20231111T180000
LOCATION:Schulsporthalle\, 71665 Enzweihingen
END:VEVENT
BEGIN:VEVENT
UID:dd9b1fe6145ecc5d1bc0d3a3c5c5a683
DTSTAMP:20260420T162758Z
SUMMARY:[Männer Landesliga] EK Höfingen  - CVJM  Walddorfhäslach 
URL:https://www.eichenkreuzliga.de/handball/game/id/16793
DTSTART:20231111T170000
DTEND:20231111T180000
LOCATION:Strohgäuhalle\, 71229 Höfingen
END:VEVENT
BEGIN:VEVENT
UID:10fb7ffb76e60040457d623c00761eeb
DTSTAMP:20260420T162758Z
SUMMARY:[Männer Landesliga] CVJM  Walddorfhäslach  - EK Höfingen 
URL:https://www.eichenkreuzliga.de/handball/game/id/16794
DTSTART:20240224T194500
DTEND:20240224T204500
LOCATION:Ballspielhalle\, 72141 Walddorfhäslach
END:VEVENT
BEGIN:VEVENT
UID:dbbc8b89dac42188be44e0115d97b78e
DTSTAMP:20260420T162758Z
SUMMARY:[Männer Landesliga] CVJM HB Dußlingen-Gomaringen  - CVJM SG Möss
 ingen/Belsen 
URL:https://www.eichenkreuzliga.de/handball/game/id/16795
DTSTART:20231119T160000
DTEND:20231119T170000
LOCATION:Hönisch Sporthalle\, 72144 Dusslingen
END:VEVENT
BEGIN:VEVENT
UID:d49f389d8d3cc2105d6b7ea7e8cb5513
DTSTAMP:20260420T162758Z
SUMMARY:[Männer Landesliga] CVJM SG Mössingen/Belsen  - CVJM HB Dußlinge
 n-Gomaringen 
URL:https://www.eichenkreuzliga.de/handball/game/id/16796
DTSTART:20240316T183000
DTEND:20240316T193000
LOCATION:Jahnhalle 2\, 72116 Mössingen
END:VEVENT
BEGIN:VEVENT
UID:5c99f2b7410e8a3c01b05ab70a051660
DTSTAMP:20260420T162758Z
SUMMARY:[Männer Landesliga] EK Köngen  - CVJM  Walddorfhäslach 
URL:https://www.eichenkreuzliga.de/handball/game/id/16798
DTSTART:20231118T180000
DTEND:20231118T190000
LOCATION:Burgschulhalle\, 73257 Köngen
END:VEVENT
BEGIN:VEVENT
UID:f8ae4dae062798402408aec2dbcbe81a
DTSTAMP:20260420T162758Z
SUMMARY:[Männer Landesliga] CVJM  Walddorfhäslach  - EK Köngen 
URL:https://www.eichenkreuzliga.de/handball/game/id/16799
DTSTART:20240309T191500
DTEND:20240309T201500
LOCATION:Ballspielhalle\, 72141 Walddorfhäslach
END:VEVENT
BEGIN:VEVENT
UID:b8291d42ad7404140d9671958424fbb3
DTSTAMP:20260420T162758Z
SUMMARY:[Männer Landesliga] CVJM Hagelloch - Kusterdingen 1 - EK Höfingen
  
URL:https://www.eichenkreuzliga.de/handball/game/id/16800
DTSTART:20231119T180000
DTEND:20231119T190000
LOCATION:Sporthalle Waldhäuser-Ost\, 72076 Tübingen
END:VEVENT
BEGIN:VEVENT
UID:c8bc9c184922043eecac0bddcda000d6
DTSTAMP:20260420T162758Z
SUMMARY:[Männer Landesliga] EK Höfingen  - CVJM Hagelloch - Kusterdingen 
 1
URL:https://www.eichenkreuzliga.de/handball/game/id/16801
DTSTART:20240217T180000
DTEND:20240217T190000
LOCATION:Strohgäuhalle\, 71229 Höfingen
END:VEVENT
BEGIN:VEVENT
UID:b61860743d949671c7cc88a326c5261b
DTSTAMP:20260420T162758Z
SUMMARY:[Männer Landesliga] CVJM Kirchentellinsfurt  - CVJM Enzweihingen 
URL:https://www.eichenkreuzliga.de/handball/game/id/16802
DTSTART:20231119T180000
DTEND:20231119T190000
LOCATION:Sporthalle\, 72138 Kirchentellinsfurt
END:VEVENT
BEGIN:VEVENT
UID:da8a588c82dc5eb7279ec28a34bde965
DTSTAMP:20260420T162758Z
SUMMARY:[Männer Landesliga] CVJM Enzweihingen  - CVJM Kirchentellinsfurt 
URL:https://www.eichenkreuzliga.de/handball/game/id/16803
DTSTART:20240309T180000
DTEND:20240309T190000
LOCATION:Schulsporthalle\, 71665 Enzweihingen
END:VEVENT
BEGIN:VEVENT
UID:c6f66b2c5e0e0c2455489d9391fcc76e
DTSTAMP:20260420T162758Z
SUMMARY:[Männer Landesliga] CVJM SG Mössingen/Belsen  - EK Köngen 
URL:https://www.eichenkreuzliga.de/handball/game/id/16804
DTSTART:20231125T183000
DTEND:20231125T193000
LOCATION:Jahnhalle 2\, 72116 Mössingen
END:VEVENT
BEGIN:VEVENT
UID:24a598ab267bf7c2e1615dfff945b4c6
DTSTAMP:20260420T162758Z
SUMMARY:[Männer Landesliga] EK Köngen  - CVJM SG Mössingen/Belsen 
URL:https://www.eichenkreuzliga.de/handball/game/id/16805
DTSTART:20240413T180000
DTEND:20240413T190000
LOCATION:Burgschulhalle\, 73257 Köngen
END:VEVENT
BEGIN:VEVENT
UID:aee42463950fadeb4fcedabb698e3cce
DTSTAMP:20260420T162758Z
SUMMARY:[Männer Landesliga] CVJM HB Dußlingen-Gomaringen  - EK Höfingen 
URL:https://www.eichenkreuzliga.de/handball/game/id/16807
DTSTART:20231202T171500
DTEND:20231202T181500
LOCATION:Hönisch Sporthalle\, 72144 Dusslingen
END:VEVENT
BEGIN:VEVENT
UID:15e684b7e03459f0b795ad24c56a3d2b
DTSTAMP:20260420T162758Z
SUMMARY:[Männer Landesliga] EK Höfingen  - CVJM HB Dußlingen-Gomaringen 
URL:https://www.eichenkreuzliga.de/handball/game/id/16808
DTSTART:20240302T180000
DTEND:20240302T190000
LOCATION:Strohgäuhalle\, 71229 Höfingen
END:VEVENT
BEGIN:VEVENT
UID:ef4f262744e49d6caa0f44a4b2fa2dad
DTSTAMP:20260420T162758Z
SUMMARY:[Männer Landesliga] CVJM  Walddorfhäslach  - CVJM HB Dußlingen-G
 omaringen 
URL:https://www.eichenkreuzliga.de/handball/game/id/16810
DTSTART:20231210T180000
DTEND:20231210T190000
LOCATION:Ballspielhalle\, 72141 Walddorfhäslach
END:VEVENT
BEGIN:VEVENT
UID:ffb0c5b7ee7beff6b95aa44afd70ed00
DTSTAMP:20260420T162758Z
SUMMARY:[Männer Landesliga] CVJM HB Dußlingen-Gomaringen  - CVJM Enzweihi
 ngen 
URL:https://www.eichenkreuzliga.de/handball/game/id/16811
DTSTART:20240224T184500
DTEND:20240224T194500
LOCATION:Hönisch Sporthalle\, 72144 Dusslingen
END:VEVENT
BEGIN:VEVENT
UID:212286cb201f8eb138e195d6a87ece8b
DTSTAMP:20260420T162758Z
SUMMARY:[Männer Landesliga] EK Köngen  - CVJM HB Dußlingen-Gomaringen 
URL:https://www.eichenkreuzliga.de/handball/game/id/16812
DTSTART:20240420T180000
DTEND:20240420T190000
LOCATION:Burgschulhalle\, 73257 Köngen
END:VEVENT
BEGIN:VEVENT
UID:bb86913ae6b51ed39af295bdd7f0ddd0
DTSTAMP:20260420T162758Z
SUMMARY:[Männer Landesliga] CVJM HB Dußlingen-Gomaringen  - CVJM  Walddor
 fhäslach 
URL:https://www.eichenkreuzliga.de/handball/game/id/16813
DTSTART:20240413T193000
DTEND:20240413T203000
LOCATION:Hönisch Sporthalle\, 72144 Dusslingen
END:VEVENT
BEGIN:VEVENT
UID:bf09817e2c29d8547a6cbfcc1e23c049
DTSTAMP:20260420T162758Z
SUMMARY:[Männer Landesliga] CVJM Hagelloch - Kusterdingen 1 - CVJM SG Mös
 singen/Belsen 
URL:https://www.eichenkreuzliga.de/handball/game/id/16814
DTSTART:20231210T180000
DTEND:20231210T190000
LOCATION:Sporthalle Waldhäuser-Ost\, 72076 Tübingen
END:VEVENT
BEGIN:VEVENT
UID:6d8a999f3368057f0bd1e5637d72de71
DTSTAMP:20260420T162758Z
SUMMARY:[Männer Landesliga] CVJM Hagelloch - Kusterdingen 1 - EK Köngen 
URL:https://www.eichenkreuzliga.de/handball/game/id/16816
DTSTART:20240317T173000
DTEND:20240317T183000
LOCATION:Sporthalle Waldhäuser-Ost\, 72076 Tübingen
END:VEVENT
BEGIN:VEVENT
UID:513e3b4e2478c9ea8e0e45d93e695020
DTSTAMP:20260420T162758Z
SUMMARY:[Männer Landesliga] CVJM SG Mössingen/Belsen  - CVJM  Walddorfhä
 slach 
URL:https://www.eichenkreuzliga.de/handball/game/id/16817
DTSTART:20240120T193000
DTEND:20240120T203000
LOCATION:Jahnhalle 2\, 72116 Mössingen
END:VEVENT
BEGIN:VEVENT
UID:41e04eb6d84fd4400ac257470a43b5d1
DTSTAMP:20260420T162758Z
SUMMARY:[Männer Landesliga] CVJM  Walddorfhäslach  - CVJM SG Mössingen/B
 elsen 
URL:https://www.eichenkreuzliga.de/handball/game/id/16818
DTSTART:20240420T170000
DTEND:20240420T180000
LOCATION:Ballspielhalle\, 72141 Walddorfhäslach
END:VEVENT
BEGIN:VEVENT
UID:64616297f7c1dc2893b5c543f0149198
DTSTAMP:20260420T162758Z
SUMMARY:[Männer Landesliga] CVJM Kirchentellinsfurt  - EK Köngen 
URL:https://www.eichenkreuzliga.de/handball/game/id/16819
DTSTART:20240210T183000
DTEND:20240210T193000
LOCATION:Sporthalle\, 72138 Kirchentellinsfurt
END:VEVENT
BEGIN:VEVENT
UID:98c413ce2436564081ce6ed038b0279f
DTSTAMP:20260420T162758Z
SUMMARY:[Männer Landesliga] CVJM Enzweihingen  - EK Höfingen 
URL:https://www.eichenkreuzliga.de/handball/game/id/16820
DTSTART:20231216T173000
DTEND:20231216T183000
LOCATION:Schulsporthalle\, 71665 Enzweihingen
END:VEVENT
BEGIN:VEVENT
UID:b09a8a7e89f6cf5f9d1a96998bbad335
DTSTAMP:20260420T162758Z
SUMMARY:[Männer Landesliga] EK Höfingen  - CVJM Enzweihingen 
URL:https://www.eichenkreuzliga.de/handball/game/id/16822
DTSTART:20240420T163000
DTEND:20240420T173000
LOCATION:Strohgäuhalle\, 71229 Höfingen
END:VEVENT
BEGIN:VEVENT
UID:7d4ef0a66f0e86e6bbf6cc102e77cee6
DTSTAMP:20260420T162758Z
SUMMARY:[Männer Landesliga] CVJM Enzweihingen  - EK Köngen 
URL:https://www.eichenkreuzliga.de/handball/game/id/16825
DTSTART:20231202T184000
DTEND:20231202T194000
LOCATION:Schulsporthalle\, 71665 Enzweihingen
END:VEVENT
BEGIN:VEVENT
UID:94377fad2b486d6b44fa4206f7aea829
DTSTAMP:20260420T162758Z
SUMMARY:[Männer Landesliga] EK Köngen  - CVJM Enzweihingen 
URL:https://www.eichenkreuzliga.de/handball/game/id/16826
DTSTART:20240302T190000
DTEND:20240302T200000
LOCATION:Burgschulhalle\, 73257 Köngen
END:VEVENT
BEGIN:VEVENT
UID:a9a94960ea55f822d315fe3a0f3ad0bc
DTSTAMP:20260420T162758Z
SUMMARY:[Männer Landesliga] CVJM Hagelloch - Kusterdingen 1 - CVJM HB Duß
 lingen-Gomaringen 
URL:https://www.eichenkreuzliga.de/handball/game/id/16828
DTSTART:20240120T190000
DTEND:20240120T200000
LOCATION:Sporthalle Waldhäuser-Ost\, 72076 Tübingen
END:VEVENT
BEGIN:VEVENT
UID:0538c0673d5943d77ba12f196480759e
DTSTAMP:20260420T162758Z
SUMMARY:[Männer Landesliga] CVJM HB Dußlingen-Gomaringen  - CVJM Hagelloc
 h - Kusterdingen 1
URL:https://www.eichenkreuzliga.de/handball/game/id/16829
DTSTART:20240309T200000
DTEND:20240309T210000
LOCATION:Hönisch Sporthalle\, 72144 Dusslingen
END:VEVENT
BEGIN:VEVENT
UID:35fb4b68d53eb067211979f1bc1350b5
DTSTAMP:20260420T162758Z
SUMMARY:[Männer Landesliga] EK Köngen  - CVJM Kirchentellinsfurt 
URL:https://www.eichenkreuzliga.de/handball/game/id/16830
DTSTART:20240121T173000
DTEND:20240121T183000
LOCATION:Burgschulhalle\, 73257 Köngen
END:VEVENT
BEGIN:VEVENT
UID:6e0d8c99b9a4ef3758d415cedaee8e54
DTSTAMP:20260420T162758Z
SUMMARY:[Männer Landesliga] CVJM Kirchentellinsfurt  - CVJM HB Dußlingen-
 Gomaringen 
URL:https://www.eichenkreuzliga.de/handball/game/id/16831
DTSTART:20231216T180000
DTEND:20231216T190000
LOCATION:Sporthalle\, 72138 Kirchentellinsfurt
END:VEVENT
BEGIN:VEVENT
UID:a31e372a44ed6c5ad3645a5203783843
DTSTAMP:20260420T162758Z
SUMMARY:[Männer Landesliga] CVJM HB Dußlingen-Gomaringen  - CVJM Kirchent
 ellinsfurt 
URL:https://www.eichenkreuzliga.de/handball/game/id/16832
DTSTART:20240427T200000
DTEND:20240427T210000
LOCATION:Hönisch Sporthalle\, 72144 Dusslingen
END:VEVENT
BEGIN:VEVENT
UID:f7125ba3f95fc73f542408119107b490
DTSTAMP:20260420T162758Z
SUMMARY:[Männer Landesliga] EK Höfingen  - CVJM Kirchentellinsfurt 
URL:https://www.eichenkreuzliga.de/handball/game/id/16833
DTSTART:20240113T180000
DTEND:20240113T190000
LOCATION:Strohgäuhalle\, 71229 Höfingen
END:VEVENT
BEGIN:VEVENT
UID:bb9ded3796e770760631560c009f4caf
DTSTAMP:20260420T162758Z
SUMMARY:[Männer Landesliga] CVJM Kirchentellinsfurt  - EK Höfingen 
URL:https://www.eichenkreuzliga.de/handball/game/id/16834
DTSTART:20240414T170000
DTEND:20240414T180000
LOCATION:Sporthalle\, 72138 Kirchentellinsfurt
END:VEVENT
BEGIN:VEVENT
UID:4e94fcf95493b3a892fc7c3ba20d3ef5
DTSTAMP:20260420T162758Z
SUMMARY:[Männer Landesliga] CVJM SG Mössingen/Belsen  - CVJM Hagelloch - 
 Kusterdingen 1
URL:https://www.eichenkreuzliga.de/handball/game/id/16835
DTSTART:20240128T180000
DTEND:20240128T190000
LOCATION:Jahnhalle 2\, 72116 Mössingen
END:VEVENT
BEGIN:VEVENT
UID:b4499b36f4488f7de75b8733609190a3
DTSTAMP:20260420T162758Z
SUMMARY:[Männer Landesliga] CVJM Hagelloch - Kusterdingen 1 - CVJM Enzweih
 ingen 
URL:https://www.eichenkreuzliga.de/handball/game/id/16943
DTSTART:20240413T180000
DTEND:20240413T190000
LOCATION:Sporthalle Waldhäuser-Ost\, 72076 Tübingen
END:VEVENT
BEGIN:VEVENT
UID:0f17d9a10476cfc584e8305890844f8a
DTSTAMP:20260420T162758Z
SUMMARY:[Männer Landesliga] CVJM Hagelloch - Kusterdingen 1 - CVJM Kirchen
 tellinsfurt 
URL:https://www.eichenkreuzliga.de/handball/game/id/16944
DTSTART:20240203T190000
DTEND:20240203T200000
LOCATION:Sporthalle Waldhäuser-Ost\, 72076 Tübingen
END:VEVENT
BEGIN:VEVENT
UID:4fee45bffaae133066e897b2f64eefd5
DTSTAMP:20260420T162758Z
SUMMARY:[Männer Landesliga] EK Höfingen  - EK Köngen 
URL:https://www.eichenkreuzliga.de/handball/game/id/17408
DTSTART:20240323T180000
DTEND:20240323T190000
LOCATION:Strohgäuhalle\, 71229 Höfingen
END:VEVENT
END:VCALENDAR
