BEGIN:VCALENDAR
PRODID:-//eluceo/ical//2.0/EN
VERSION:2.0
CALSCALE:GREGORIAN
BEGIN:VEVENT
UID:f9f2595549d954839764d46c3f71681b
DTSTAMP:20260421T021702Z
SUMMARY:[Männer LK2] CVJM Plochingen  - CVJM Flacht 
URL:https://www.eichenkreuzliga.de/handball/game/id/16836
DTSTART:20231014T180000
DTEND:20231014T190000
LOCATION:Gymnasiumsporthalle\, 73207 Plochingen
END:VEVENT
BEGIN:VEVENT
UID:52f0d9b3a3af85acd12140fff686f724
DTSTAMP:20260421T021702Z
SUMMARY:[Männer LK2] EK Köngen 1b - EK Bernhausen 
URL:https://www.eichenkreuzliga.de/handball/game/id/16838
DTSTART:20231014T173000
DTEND:20231014T183000
LOCATION:Burgschulhalle\, 73257 Köngen
END:VEVENT
BEGIN:VEVENT
UID:602b0c27e25dd4cca878295c70f53970
DTSTAMP:20260421T021702Z
SUMMARY:[Männer LK2] EK Bernhausen  - EK Köngen 1b
URL:https://www.eichenkreuzliga.de/handball/game/id/16839
DTSTART:20240224T190000
DTEND:20240224T200000
LOCATION:Elisabeth-Selbert-Gymnasium Halle\, 70794 Bernhausen
END:VEVENT
BEGIN:VEVENT
UID:2425db59bb8541d5f2c91882f2af0698
DTSTAMP:20260421T021702Z
SUMMARY:[Männer LK2] EJW Münchingen  - CVJM HB Dußlingen-Gomaringen 2
URL:https://www.eichenkreuzliga.de/handball/game/id/16840
DTSTART:20231015T180000
DTEND:20231015T190000
LOCATION:Sporthalle Münchingen\, 70825 Korntal-Münchingen
END:VEVENT
BEGIN:VEVENT
UID:7be48e10e06799979b234e2c726dd52f
DTSTAMP:20260421T021702Z
SUMMARY:[Männer LK2] CVJM HB Dußlingen-Gomaringen 2 - EJW Münchingen 
URL:https://www.eichenkreuzliga.de/handball/game/id/16841
DTSTART:20240309T163000
DTEND:20240309T173000
LOCATION:Hönisch Sporthalle\, 72144 Dusslingen
END:VEVENT
BEGIN:VEVENT
UID:25b154f883024a47cb002f8c618ef0be
DTSTAMP:20260421T021702Z
SUMMARY:[Männer LK2] CVJM Flacht  - CVJM  Walddorfhäslach 2
URL:https://www.eichenkreuzliga.de/handball/game/id/16842
DTSTART:20231021T190000
DTEND:20231021T200000
LOCATION:Sporthalle Flacht\, 71287 Weissach
END:VEVENT
BEGIN:VEVENT
UID:f59abd3347af5f655da78bce52baf8df
DTSTAMP:20260421T021702Z
SUMMARY:[Männer LK2] CVJM  Walddorfhäslach 2 - CVJM Flacht 
URL:https://www.eichenkreuzliga.de/handball/game/id/16843
DTSTART:20240309T173000
DTEND:20240309T183000
LOCATION:Ballspielhalle\, 72141 Walddorfhäslach
END:VEVENT
BEGIN:VEVENT
UID:64d6f314df1b7d466cfd2c1c40974715
DTSTAMP:20260421T021702Z
SUMMARY:[Männer LK2] CVJM Plochingen  - EK Bernhausen 
URL:https://www.eichenkreuzliga.de/handball/game/id/16845
DTSTART:20240302T000000
DTEND:20240302T010000
LOCATION:Gymnasiumsporthalle\, 73207 Plochingen
END:VEVENT
BEGIN:VEVENT
UID:d4621137fcc17db26531753a0533c8b4
DTSTAMP:20260421T021702Z
SUMMARY:[Männer LK2] EJW Münchingen  - EK Köngen 1b
URL:https://www.eichenkreuzliga.de/handball/game/id/16846
DTSTART:20231022T174500
DTEND:20231022T184500
LOCATION:Sporthalle Münchingen\, 70825 Korntal-Münchingen
END:VEVENT
BEGIN:VEVENT
UID:b87bfb3119a4c86a89fb611dd2362290
DTSTAMP:20260421T021702Z
SUMMARY:[Männer LK2] CVJM  Walddorfhäslach 2 - CVJM HB Dußlingen-Gomarin
 gen 2
URL:https://www.eichenkreuzliga.de/handball/game/id/16847
DTSTART:20231028T160000
DTEND:20231028T170000
LOCATION:Ballspielhalle\, 72141 Walddorfhäslach
END:VEVENT
BEGIN:VEVENT
UID:82580ce8e24c538dfa3eaae7fa59e451
DTSTAMP:20260421T021702Z
SUMMARY:[Männer LK2] CVJM HB Dußlingen-Gomaringen 2 - CVJM  Walddorfhäsl
 ach 2
URL:https://www.eichenkreuzliga.de/handball/game/id/16848
DTSTART:20240316T164500
DTEND:20240316T174500
LOCATION:Hönisch Sporthalle\, 72144 Dusslingen
END:VEVENT
BEGIN:VEVENT
UID:7e4053176da03b2bf5bb5db64ec65851
DTSTAMP:20260421T021702Z
SUMMARY:[Männer LK2] EK Köngen 1b - CVJM Plochingen 
URL:https://www.eichenkreuzliga.de/handball/game/id/16849
DTSTART:20231028T170000
DTEND:20231028T180000
LOCATION:Burgschulhalle\, 73257 Köngen
END:VEVENT
BEGIN:VEVENT
UID:a8134be1c43ad941f4657f60f2dc79c3
DTSTAMP:20260421T021702Z
SUMMARY:[Männer LK2] CVJM Plochingen  - EK Köngen 1b
URL:https://www.eichenkreuzliga.de/handball/game/id/16850
DTSTART:20240120T180000
DTEND:20240120T190000
LOCATION:Gymnasiumsporthalle\, 73207 Plochingen
END:VEVENT
BEGIN:VEVENT
UID:bd836ff6e84c014d6bf8042027edf6ef
DTSTAMP:20260421T021702Z
SUMMARY:[Männer LK2] CVJM Flacht  - EJW Münchingen 
URL:https://www.eichenkreuzliga.de/handball/game/id/16851
DTSTART:20231111T190000
DTEND:20231111T200000
LOCATION:Sporthalle Flacht\, 71287 Weissach
END:VEVENT
BEGIN:VEVENT
UID:977bd214d933f6ed5835ffe8ec44d760
DTSTAMP:20260421T021702Z
SUMMARY:[Männer LK2] EJW Münchingen  - CVJM Flacht 
URL:https://www.eichenkreuzliga.de/handball/game/id/16852
DTSTART:20240128T170000
DTEND:20240128T180000
LOCATION:Sporthalle Münchingen\, 70825 Korntal-Münchingen
END:VEVENT
BEGIN:VEVENT
UID:e2b724f6edd34c84649aa1e46184d57f
DTSTAMP:20260421T021702Z
SUMMARY:[Männer LK2] CVJM Plochingen  - CVJM  Walddorfhäslach 2
URL:https://www.eichenkreuzliga.de/handball/game/id/16853
DTSTART:20231118T180000
DTEND:20231118T190000
LOCATION:Gymnasiumsporthalle\, 73207 Plochingen
END:VEVENT
BEGIN:VEVENT
UID:39c41a1ffa5da57d63442e04a9c024ce
DTSTAMP:20260421T021702Z
SUMMARY:[Männer LK2] CVJM  Walddorfhäslach 2 - CVJM Plochingen 
URL:https://www.eichenkreuzliga.de/handball/game/id/16854
DTSTART:20240210T171500
DTEND:20240210T181500
LOCATION:Ballspielhalle\, 72141 Walddorfhäslach
END:VEVENT
BEGIN:VEVENT
UID:1d1aa62545a1c3ce9fdb6bb45c901536
DTSTAMP:20260421T021702Z
SUMMARY:[Männer LK2] CVJM HB Dußlingen-Gomaringen 2 - CVJM Flacht 
URL:https://www.eichenkreuzliga.de/handball/game/id/16855
DTSTART:20231118T174500
DTEND:20231118T184500
LOCATION:Hönisch Sporthalle\, 72144 Dusslingen
END:VEVENT
BEGIN:VEVENT
UID:42d90b29d0e99e0cac455b4f68eb1301
DTSTAMP:20260421T021702Z
SUMMARY:[Männer LK2] CVJM Flacht  - CVJM HB Dußlingen-Gomaringen 2
URL:https://www.eichenkreuzliga.de/handball/game/id/16856
DTSTART:20240210T180000
DTEND:20240210T190000
LOCATION:Sporthalle Flacht\, 71287 Weissach
END:VEVENT
BEGIN:VEVENT
UID:e0640eec2882edff245223a78dfe2b92
DTSTAMP:20260421T021702Z
SUMMARY:[Männer LK2] EK Bernhausen  - CVJM Flacht 
URL:https://www.eichenkreuzliga.de/handball/game/id/16858
DTSTART:20240323T141500
DTEND:20240323T151500
LOCATION:Elisabeth-Selbert-Gymnasium Halle\, 70794 Bernhausen
END:VEVENT
BEGIN:VEVENT
UID:99c6e9e0b4b6594a4908c1c490f5f6fe
DTSTAMP:20260421T021702Z
SUMMARY:[Männer LK2] EJW Münchingen  - EK Bernhausen 
URL:https://www.eichenkreuzliga.de/handball/game/id/16860
DTSTART:20231119T161500
DTEND:20231119T171500
LOCATION:Sporthalle Münchingen\, 70825 Korntal-Münchingen
END:VEVENT
BEGIN:VEVENT
UID:dd87322fe463d9a0624f28a9f84fdcfd
DTSTAMP:20260421T021702Z
SUMMARY:[Männer LK2] EK Bernhausen  - EJW Münchingen 
URL:https://www.eichenkreuzliga.de/handball/game/id/16861
DTSTART:20240413T160000
DTEND:20240413T170000
LOCATION:Elisabeth-Selbert-Gymnasium Halle\, 70794 Bernhausen
END:VEVENT
BEGIN:VEVENT
UID:0a2aa98d7172059af3fc21587064cddd
DTSTAMP:20260421T021702Z
SUMMARY:[Männer LK2] CVJM  Walddorfhäslach 2 - EJW Münchingen 
URL:https://www.eichenkreuzliga.de/handball/game/id/16862
DTSTART:20231202T183000
DTEND:20231202T193000
LOCATION:Ballspielhalle\, 72141 Walddorfhäslach
END:VEVENT
BEGIN:VEVENT
UID:ac6964c08ddb6752adba1af76fae23c1
DTSTAMP:20260421T021702Z
SUMMARY:[Männer LK2] EJW Münchingen  - CVJM  Walddorfhäslach 2
URL:https://www.eichenkreuzliga.de/handball/game/id/16863
DTSTART:20240303T174500
DTEND:20240303T184500
LOCATION:Sporthalle Münchingen\, 70825 Korntal-Münchingen
END:VEVENT
BEGIN:VEVENT
UID:816200375e238afdd9a4199f9271637c
DTSTAMP:20260421T021702Z
SUMMARY:[Männer LK2] EK Köngen 1b - CVJM Flacht 
URL:https://www.eichenkreuzliga.de/handball/game/id/16864
DTSTART:20231202T180000
DTEND:20231202T190000
LOCATION:Burgschulhalle\, 73257 Köngen
END:VEVENT
BEGIN:VEVENT
UID:8182a5e270ed58c854354fdc4175955a
DTSTAMP:20260421T021702Z
SUMMARY:[Männer LK2] CVJM Flacht  - EK Köngen 1b
URL:https://www.eichenkreuzliga.de/handball/game/id/16865
DTSTART:20240316T180000
DTEND:20240316T190000
LOCATION:Sporthalle Flacht\, 71287 Weissach
END:VEVENT
BEGIN:VEVENT
UID:9a86a7c657babc3cc6032d52c4a0c0b4
DTSTAMP:20260421T021702Z
SUMMARY:[Männer LK2] CVJM HB Dußlingen-Gomaringen 2 - CVJM Plochingen 
URL:https://www.eichenkreuzliga.de/handball/game/id/16866
DTSTART:20231202T190000
DTEND:20231202T200000
LOCATION:Hönisch Sporthalle\, 72144 Dusslingen
END:VEVENT
BEGIN:VEVENT
UID:694b2a244f1c9571e35c3f919c765e2f
DTSTAMP:20260421T021702Z
SUMMARY:[Männer LK2] CVJM Plochingen  - CVJM HB Dußlingen-Gomaringen 2
URL:https://www.eichenkreuzliga.de/handball/game/id/16867
DTSTART:20240420T180000
DTEND:20240420T190000
LOCATION:Gymnasiumsporthalle\, 73207 Plochingen
END:VEVENT
BEGIN:VEVENT
UID:c5c764be8e5f53367d0f6318774731f3
DTSTAMP:20260421T021702Z
SUMMARY:[Männer LK2] CVJM  Walddorfhäslach 2 - EK Bernhausen 
URL:https://www.eichenkreuzliga.de/handball/game/id/16868
DTSTART:20231210T161500
DTEND:20231210T171500
LOCATION:Ballspielhalle\, 72141 Walddorfhäslach
END:VEVENT
BEGIN:VEVENT
UID:0b1eeda32c054efc0efac5671b38bee5
DTSTAMP:20260421T021702Z
SUMMARY:[Männer LK2] EK Bernhausen  - CVJM  Walddorfhäslach 2
URL:https://www.eichenkreuzliga.de/handball/game/id/16869
DTSTART:20240420T180000
DTEND:20240420T190000
LOCATION:Elisabeth-Selbert-Gymnasium Halle\, 70794 Bernhausen
END:VEVENT
BEGIN:VEVENT
UID:659f23ded9552b65a5357b58161df6fb
DTSTAMP:20260421T021702Z
SUMMARY:[Männer LK2] CVJM HB Dußlingen-Gomaringen 2 - EK Bernhausen 
URL:https://www.eichenkreuzliga.de/handball/game/id/16870
DTSTART:20231216T180000
DTEND:20231216T190000
LOCATION:Hönisch Sporthalle\, 72144 Dusslingen
END:VEVENT
BEGIN:VEVENT
UID:e7913820148b4b2b907ee74f62a692d2
DTSTAMP:20260421T021702Z
SUMMARY:[Männer LK2] EK Bernhausen  - CVJM HB Dußlingen-Gomaringen 2
URL:https://www.eichenkreuzliga.de/handball/game/id/16871
DTSTART:20240203T200000
DTEND:20240203T210000
LOCATION:Elisabeth-Selbert-Gymnasium Halle\, 70794 Bernhausen
END:VEVENT
BEGIN:VEVENT
UID:37e0020b027018dc752c4c5d4c4c9a2e
DTSTAMP:20260421T021702Z
SUMMARY:[Männer LK2] EK Köngen 1b - CVJM  Walddorfhäslach 2
URL:https://www.eichenkreuzliga.de/handball/game/id/16872
DTSTART:20231216T190000
DTEND:20231216T200000
LOCATION:Burgschulhalle\, 73257 Köngen
END:VEVENT
BEGIN:VEVENT
UID:504e9aa197a929831e0738c78d037cef
DTSTAMP:20260421T021702Z
SUMMARY:[Männer LK2] CVJM  Walddorfhäslach 2 - EK Köngen 1b
URL:https://www.eichenkreuzliga.de/handball/game/id/16873
DTSTART:20240414T180000
DTEND:20240414T190000
LOCATION:Ballspielhalle\, 72141 Walddorfhäslach
END:VEVENT
BEGIN:VEVENT
UID:a3c8daecefdf3ff62a730dfabd7cf846
DTSTAMP:20260421T021702Z
SUMMARY:[Männer LK2] EK Köngen 1b - CVJM HB Dußlingen-Gomaringen 2
URL:https://www.eichenkreuzliga.de/handball/game/id/16874
DTSTART:20240302T170000
DTEND:20240302T180000
LOCATION:Burgschulhalle\, 73257 Köngen
END:VEVENT
BEGIN:VEVENT
UID:01de7027c1ca8093ab4a171289ac9c78
DTSTAMP:20260421T021702Z
SUMMARY:[Männer LK2] CVJM HB Dußlingen-Gomaringen 2 - EK Köngen 1b
URL:https://www.eichenkreuzliga.de/handball/game/id/16875
DTSTART:20240428T170000
DTEND:20240428T180000
LOCATION:Hönisch Sporthalle\, 72144 Dusslingen
END:VEVENT
BEGIN:VEVENT
UID:6b5197f15bd0f35ccf145eef674489c2
DTSTAMP:20260421T021702Z
SUMMARY:[Männer LK2] EJW Münchingen  - CVJM Plochingen 
URL:https://www.eichenkreuzliga.de/handball/game/id/16876
DTSTART:20240317T170000
DTEND:20240317T180000
LOCATION:Sporthalle Münchingen\, 70825 Korntal-Münchingen
END:VEVENT
BEGIN:VEVENT
UID:cadcd48530fef41c7f93359b95a4881f
DTSTAMP:20260421T021702Z
SUMMARY:[Männer LK2] CVJM Plochingen  - EJW Münchingen 
URL:https://www.eichenkreuzliga.de/handball/game/id/16877
DTSTART:20240203T180000
DTEND:20240203T190000
LOCATION:Gymnasiumsporthalle\, 73207 Plochingen
END:VEVENT
BEGIN:VEVENT
UID:3f4a4d740b02fdd025816730c99b52ad
DTSTAMP:20260421T021702Z
SUMMARY:[Männer LK2] EK Köngen 1b - EJW Münchingen 
URL:https://www.eichenkreuzliga.de/handball/game/id/16878
DTSTART:20240323T180000
DTEND:20240323T190000
LOCATION:Burgschulhalle\, 73257 Köngen
END:VEVENT
BEGIN:VEVENT
UID:7285bb83b925ffca92e71b0814f6c79d
DTSTAMP:20260421T021702Z
SUMMARY:[Männer LK2] CVJM Flacht  - EK Bernhausen 
URL:https://www.eichenkreuzliga.de/handball/game/id/17333
DTSTART:20240107T160000
DTEND:20240107T170000
LOCATION:Sporthalle Flacht\, 71287 Weissach
END:VEVENT
BEGIN:VEVENT
UID:3e5b53979d8d677c4b02de2957124be7
DTSTAMP:20260421T021702Z
SUMMARY:[Männer LK2] CVJM Flacht  - CVJM Plochingen 
URL:https://www.eichenkreuzliga.de/handball/game/id/17412
DTSTART:20240330T183000
DTEND:20240330T193000
LOCATION:Sporthalle Flacht\, 71287 Weissach
END:VEVENT
BEGIN:VEVENT
UID:117d48268daa90c5100c8e61d8860fbd
DTSTAMP:20260421T021702Z
SUMMARY:[Männer LK2] EK Bernhausen  - CVJM Plochingen 
URL:https://www.eichenkreuzliga.de/handball/game/id/17413
DTSTART:20240309T153000
DTEND:20240309T163000
LOCATION:Elisabeth-Selbert-Gymnasium Halle\, 70794 Bernhausen
END:VEVENT
END:VCALENDAR
