BEGIN:VCALENDAR
PRODID:-//eluceo/ical//2.0/EN
VERSION:2.0
CALSCALE:GREGORIAN
BEGIN:VEVENT
UID:ec33f4b8cd6e4c624e45e5d0d48d939c
DTSTAMP:20260420T212501Z
SUMMARY:[männliche D-Jugend Runde] CVJM  Walddorfhäslach  - CVJM HB Dußl
 ingen-Gomaringen 1
URL:https://www.eichenkreuzliga.de/handball/game/id/16113
DTSTART:20231015T153000
DTEND:20231015T163000
LOCATION:Ballspielhalle\, 72141 Walddorfhäslach
END:VEVENT
BEGIN:VEVENT
UID:3b7762c8ba483de481bd23011ea1b054
DTSTAMP:20260420T212501Z
SUMMARY:[männliche D-Jugend Runde] CVJM  Walddorfhäslach  - CVJM HB Dußl
 ingen-Gomaringen 2 a.K.
URL:https://www.eichenkreuzliga.de/handball/game/id/16114
DTSTART:20231015T130000
DTEND:20231015T140000
LOCATION:Ballspielhalle\, 72141 Walddorfhäslach
END:VEVENT
BEGIN:VEVENT
UID:d46a788e60f672bf318aeef276ebeca7
DTSTAMP:20260420T212501Z
SUMMARY:[männliche D-Jugend Runde] CVJM  Walddorfhäslach 2 - CVJM HB Duß
 lingen-Gomaringen 1
URL:https://www.eichenkreuzliga.de/handball/game/id/16115
DTSTART:20231015T134500
DTEND:20231015T144500
LOCATION:Ballspielhalle\, 72141 Walddorfhäslach
END:VEVENT
BEGIN:VEVENT
UID:2367350deeea193736c79a8f663e6b67
DTSTAMP:20260420T212501Z
SUMMARY:[männliche D-Jugend Runde] CVJM  Walddorfhäslach 2 - CVJM HB Duß
 lingen-Gomaringen 2 a.K.
URL:https://www.eichenkreuzliga.de/handball/game/id/16116
DTSTART:20231015T144500
DTEND:20231015T154500
LOCATION:Ballspielhalle\, 72141 Walddorfhäslach
END:VEVENT
BEGIN:VEVENT
UID:d194bb36bdb380b027c2a102dbd6503c
DTSTAMP:20260420T212501Z
SUMMARY:[männliche D-Jugend Runde] CVJM Enzweihingen  - CVJM Kusterdingen 
 e.V. 
URL:https://www.eichenkreuzliga.de/handball/game/id/16117
DTSTART:20231015T134500
DTEND:20231015T144500
LOCATION:Zeppelinhalle\, 70734 Fellbach
END:VEVENT
BEGIN:VEVENT
UID:eb3164576bc6e1f2bce9da843a5fdc5c
DTSTAMP:20260420T212501Z
SUMMARY:[männliche D-Jugend Runde] CVJM Enzweihingen  - CVJM Plochingen 
URL:https://www.eichenkreuzliga.de/handball/game/id/16118
DTSTART:20231015T144500
DTEND:20231015T154500
LOCATION:Zeppelinhalle\, 70734 Fellbach
END:VEVENT
BEGIN:VEVENT
UID:ddb3ac11cadf2257a49d9dc45e20f185
DTSTAMP:20260420T212501Z
SUMMARY:[männliche D-Jugend Runde] CVJM Fellbach  - CVJM Kusterdingen e.V.
  
URL:https://www.eichenkreuzliga.de/handball/game/id/16119
DTSTART:20231015T153000
DTEND:20231015T163000
LOCATION:Zeppelinhalle\, 70734 Fellbach
END:VEVENT
BEGIN:VEVENT
UID:59c176795229919e3131951f7c9fa2a9
DTSTAMP:20260420T212501Z
SUMMARY:[männliche D-Jugend Runde] CVJM Fellbach  - CVJM Plochingen 
URL:https://www.eichenkreuzliga.de/handball/game/id/16120
DTSTART:20231015T130000
DTEND:20231015T140000
LOCATION:Zeppelinhalle\, 70734 Fellbach
END:VEVENT
BEGIN:VEVENT
UID:76a734135094738ab343268b238dfa56
DTSTAMP:20260420T212501Z
SUMMARY:[männliche D-Jugend Runde] EJW Münchingen  - EK Bernhausen 1
URL:https://www.eichenkreuzliga.de/handball/game/id/16121
DTSTART:20231015T171500
DTEND:20231015T181500
LOCATION:Sporthalle Münchingen\, 70825 Korntal-Münchingen
END:VEVENT
BEGIN:VEVENT
UID:18b5f5495b8273f22cf117758e69f15a
DTSTAMP:20260420T212501Z
SUMMARY:[männliche D-Jugend Runde] EK Bernhausen 1 - EK Höfingen außer K
 onkurrenz
URL:https://www.eichenkreuzliga.de/handball/game/id/16122
DTSTART:20231015T153000
DTEND:20231015T163000
LOCATION:Sporthalle Münchingen\, 70825 Korntal-Münchingen
END:VEVENT
BEGIN:VEVENT
UID:6965bb90e5c5f4147b11b9c2465e6b8f
DTSTAMP:20260420T212501Z
SUMMARY:[männliche D-Jugend Runde] EJW Münchingen  - EK Höfingen außer 
 Konkurrenz
URL:https://www.eichenkreuzliga.de/handball/game/id/16123
DTSTART:20231015T130000
DTEND:20231015T140000
LOCATION:Sporthalle Münchingen\, 70825 Korntal-Münchingen
END:VEVENT
BEGIN:VEVENT
UID:d52a75cb5198f712056153b44b59921a
DTSTAMP:20260420T212501Z
SUMMARY:[männliche D-Jugend Runde] EK Höfingen außer Konkurrenz - EK Kö
 ngen 
URL:https://www.eichenkreuzliga.de/handball/game/id/16124
DTSTART:20231015T163000
DTEND:20231015T173000
LOCATION:Sporthalle Münchingen\, 70825 Korntal-Münchingen
END:VEVENT
BEGIN:VEVENT
UID:19db136abc327ca2c53bc31b7e1e11c0
DTSTAMP:20260420T212501Z
SUMMARY:[männliche D-Jugend Runde] EK Bernhausen 1 - EK Köngen 
URL:https://www.eichenkreuzliga.de/handball/game/id/16125
DTSTART:20231015T134500
DTEND:20231015T144500
LOCATION:Sporthalle Münchingen\, 70825 Korntal-Münchingen
END:VEVENT
BEGIN:VEVENT
UID:fd327bd2b46d91b19268e95ddcbe8634
DTSTAMP:20260420T212501Z
SUMMARY:[männliche D-Jugend Runde] EJW Münchingen  - EK Köngen 
URL:https://www.eichenkreuzliga.de/handball/game/id/16126
DTSTART:20231015T144500
DTEND:20231015T154500
LOCATION:Sporthalle Münchingen\, 70825 Korntal-Münchingen
END:VEVENT
BEGIN:VEVENT
UID:0da77b9a63129071529e2e4c64051ba0
DTSTAMP:20260420T212501Z
SUMMARY:[männliche D-Jugend Runde] CVJM HB Dußlingen-Gomaringen 2 a.K. - 
 EK Höfingen außer Konkurrenz
URL:https://www.eichenkreuzliga.de/handball/game/id/16133
DTSTART:20231118T000000
DTEND:20231118T010000
LOCATION:Hönisch Sporthalle\, 72144 Dusslingen
END:VEVENT
BEGIN:VEVENT
UID:c9732aa1e115e6eb0e01fbea8134308a
DTSTAMP:20260420T212501Z
SUMMARY:[männliche D-Jugend Runde] CVJM HB Dußlingen-Gomaringen 1 - EK K
 öngen 
URL:https://www.eichenkreuzliga.de/handball/game/id/16134
DTSTART:20231118T141000
DTEND:20231118T151000
LOCATION:Hönisch Sporthalle\, 72144 Dusslingen
END:VEVENT
BEGIN:VEVENT
UID:bc6d186c2d4c583721679495e9370632
DTSTAMP:20260420T212501Z
SUMMARY:[männliche D-Jugend Runde] CVJM HB Dußlingen-Gomaringen 2 a.K. - 
 EK Köngen 
URL:https://www.eichenkreuzliga.de/handball/game/id/16135
DTSTART:20231118T131000
DTEND:20231118T141000
LOCATION:Hönisch Sporthalle\, 72144 Dusslingen
END:VEVENT
BEGIN:VEVENT
UID:c6d9e2f43772c1e06d4affdafc01c98d
DTSTAMP:20260420T212501Z
SUMMARY:[männliche D-Jugend Runde] CVJM HB Dußlingen-Gomaringen 2 a.K. - 
 CVJM HB Dußlingen-Gomaringen 1
URL:https://www.eichenkreuzliga.de/handball/game/id/16136
DTSTART:20231118T150000
DTEND:20231118T160000
LOCATION:Hönisch Sporthalle\, 72144 Dusslingen
END:VEVENT
BEGIN:VEVENT
UID:2ca44e27c4fd896326d1652f607bae02
DTSTAMP:20260420T212501Z
SUMMARY:[männliche D-Jugend Runde] CVJM HB Dußlingen-Gomaringen 1 - EK H
 öfingen außer Konkurrenz
URL:https://www.eichenkreuzliga.de/handball/game/id/16137
DTSTART:20231118T000000
DTEND:20231118T010000
LOCATION:Hönisch Sporthalle\, 72144 Dusslingen
END:VEVENT
BEGIN:VEVENT
UID:a59fe366f120c98c9cd27607507c4278
DTSTAMP:20260420T212501Z
SUMMARY:[männliche D-Jugend Runde] CVJM Plochingen  - CVJM  Walddorfhäsla
 ch 
URL:https://www.eichenkreuzliga.de/handball/game/id/16138
DTSTART:20231118T153000
DTEND:20231118T163000
LOCATION:Gymnasiumsporthalle\, 73207 Plochingen
END:VEVENT
BEGIN:VEVENT
UID:821228d6fe3cbdfde44e33208da664bb
DTSTAMP:20260420T212501Z
SUMMARY:[männliche D-Jugend Runde] CVJM Plochingen  - CVJM  Walddorfhäsla
 ch 2
URL:https://www.eichenkreuzliga.de/handball/game/id/16139
DTSTART:20231118T130000
DTEND:20231118T140000
LOCATION:Gymnasiumsporthalle\, 73207 Plochingen
END:VEVENT
BEGIN:VEVENT
UID:3a42cece6eb8e24b917f29f28a62ce47
DTSTAMP:20260420T212501Z
SUMMARY:[männliche D-Jugend Runde] CVJM  Walddorfhäslach  - CVJM Kusterdi
 ngen e.V. 
URL:https://www.eichenkreuzliga.de/handball/game/id/16140
DTSTART:20231118T134500
DTEND:20231118T144500
LOCATION:Gymnasiumsporthalle\, 73207 Plochingen
END:VEVENT
BEGIN:VEVENT
UID:429dce2998f79e00c989278d48ab3d2d
DTSTAMP:20260420T212501Z
SUMMARY:[männliche D-Jugend Runde] CVJM  Walddorfhäslach 2 - CVJM Kusterd
 ingen e.V. 
URL:https://www.eichenkreuzliga.de/handball/game/id/16141
DTSTART:20231118T144500
DTEND:20231118T154500
LOCATION:Gymnasiumsporthalle\, 73207 Plochingen
END:VEVENT
BEGIN:VEVENT
UID:21c6732da15cdb326a2cb3b9439fac5e
DTSTAMP:20260420T212501Z
SUMMARY:[männliche D-Jugend Runde] EK Bernhausen 1 - CVJM Enzweihingen 
URL:https://www.eichenkreuzliga.de/handball/game/id/16142
DTSTART:20231118T143000
DTEND:20231118T153000
LOCATION:Elisabeth-Selbert-Gymnasium Halle\, 70794 Bernhausen
END:VEVENT
BEGIN:VEVENT
UID:c87401bce75824437fd0202848975778
DTSTAMP:20260420T212501Z
SUMMARY:[männliche D-Jugend Runde] EK Bernhausen 1 - CVJM Fellbach 
URL:https://www.eichenkreuzliga.de/handball/game/id/16143
DTSTART:20231118T120000
DTEND:20231118T130000
LOCATION:Elisabeth-Selbert-Gymnasium Halle\, 70794 Bernhausen
END:VEVENT
BEGIN:VEVENT
UID:be580ef569de8c69095891ada5598fd7
DTSTAMP:20260420T212501Z
SUMMARY:[männliche D-Jugend Runde] CVJM Enzweihingen  - EJW Münchingen 
URL:https://www.eichenkreuzliga.de/handball/game/id/16144
DTSTART:20231118T124500
DTEND:20231118T134500
LOCATION:Elisabeth-Selbert-Gymnasium Halle\, 70794 Bernhausen
END:VEVENT
BEGIN:VEVENT
UID:20f103d8a12ecd57cd64adc545ba781e
DTSTAMP:20260420T212501Z
SUMMARY:[männliche D-Jugend Runde] CVJM Fellbach  - EJW Münchingen 
URL:https://www.eichenkreuzliga.de/handball/game/id/16145
DTSTART:20231118T134500
DTEND:20231118T144500
LOCATION:Elisabeth-Selbert-Gymnasium Halle\, 70794 Bernhausen
END:VEVENT
BEGIN:VEVENT
UID:4203147d2295258d18bf928faf1e8b15
DTSTAMP:20260420T212501Z
SUMMARY:[männliche D-Jugend Runde] CVJM Enzweihingen  - CVJM HB Dußlingen
 -Gomaringen 1
URL:https://www.eichenkreuzliga.de/handball/game/id/16146
DTSTART:20231202T130000
DTEND:20231202T140000
LOCATION:Schulsporthalle\, 71665 Enzweihingen
END:VEVENT
BEGIN:VEVENT
UID:a3cb3ccf1b81191bd8c7c4ec4ea9817f
DTSTAMP:20260420T212501Z
SUMMARY:[männliche D-Jugend Runde] CVJM Enzweihingen  - CVJM HB Dußlingen
 -Gomaringen 2 a.K.
URL:https://www.eichenkreuzliga.de/handball/game/id/16147
DTSTART:20231202T153000
DTEND:20231202T163000
LOCATION:Schulsporthalle\, 71665 Enzweihingen
END:VEVENT
BEGIN:VEVENT
UID:50d1eb0a4957213b197a4bb5df4d6c9d
DTSTAMP:20260420T212501Z
SUMMARY:[männliche D-Jugend Runde] CVJM Fellbach  - CVJM HB Dußlingen-Gom
 aringen 1
URL:https://www.eichenkreuzliga.de/handball/game/id/16148
DTSTART:20231202T144500
DTEND:20231202T154500
LOCATION:Schulsporthalle\, 71665 Enzweihingen
END:VEVENT
BEGIN:VEVENT
UID:abae030e311613515e228245c766d028
DTSTAMP:20260420T212501Z
SUMMARY:[männliche D-Jugend Runde] CVJM Fellbach  - CVJM HB Dußlingen-Gom
 aringen 2 a.K.
URL:https://www.eichenkreuzliga.de/handball/game/id/16149
DTSTART:20231202T134500
DTEND:20231202T144500
LOCATION:Schulsporthalle\, 71665 Enzweihingen
END:VEVENT
BEGIN:VEVENT
UID:be12bf431ecb0f1fa7569f3dc8666db3
DTSTAMP:20260420T212501Z
SUMMARY:[männliche D-Jugend Runde] CVJM Kusterdingen e.V.  - EJW Münching
 en 
URL:https://www.eichenkreuzliga.de/handball/game/id/16150
DTSTART:20231202T153000
DTEND:20231202T163000
LOCATION:Härtensporthalle\, 72127 Kusterdingen
END:VEVENT
BEGIN:VEVENT
UID:bbcdb88858aebe4f5c06e31b5ea370e8
DTSTAMP:20260420T212501Z
SUMMARY:[männliche D-Jugend Runde] CVJM Kusterdingen e.V.  - EK Bernhausen
  1
URL:https://www.eichenkreuzliga.de/handball/game/id/16151
DTSTART:20231202T130000
DTEND:20231202T140000
LOCATION:Härtensporthalle\, 72127 Kusterdingen
END:VEVENT
BEGIN:VEVENT
UID:8f3ee2d04f367caef6ac9dbbb258efd6
DTSTAMP:20260420T212501Z
SUMMARY:[männliche D-Jugend Runde] CVJM Plochingen  - EJW Münchingen 
URL:https://www.eichenkreuzliga.de/handball/game/id/16152
DTSTART:20231202T134500
DTEND:20231202T144500
LOCATION:Härtensporthalle\, 72127 Kusterdingen
END:VEVENT
BEGIN:VEVENT
UID:7999480218a544b6fb2db18d0187b3b0
DTSTAMP:20260420T212501Z
SUMMARY:[männliche D-Jugend Runde] EK Höfingen außer Konkurrenz - CVJM  
 Walddorfhäslach 
URL:https://www.eichenkreuzliga.de/handball/game/id/16154
DTSTART:20231202T130000
DTEND:20231202T140000
LOCATION:Strohgäuhalle\, 71229 Höfingen
END:VEVENT
BEGIN:VEVENT
UID:735d9c89009a4cb99a38a0b1988bfca3
DTSTAMP:20260420T212501Z
SUMMARY:[männliche D-Jugend Runde] CVJM  Walddorfhäslach  - EK Köngen 
URL:https://www.eichenkreuzliga.de/handball/game/id/16155
DTSTART:20231202T144500
DTEND:20231202T154500
LOCATION:Strohgäuhalle\, 71229 Höfingen
END:VEVENT
BEGIN:VEVENT
UID:b59dd54adaa84ed9f5d08323f086ee1d
DTSTAMP:20260420T212501Z
SUMMARY:[männliche D-Jugend Runde] EK Höfingen außer Konkurrenz - CVJM  
 Walddorfhäslach 2
URL:https://www.eichenkreuzliga.de/handball/game/id/16156
DTSTART:20231202T153000
DTEND:20231202T163000
LOCATION:Strohgäuhalle\, 71229 Höfingen
END:VEVENT
BEGIN:VEVENT
UID:36f2f807dfb7fbba619706776afe0dbe
DTSTAMP:20260420T212501Z
SUMMARY:[männliche D-Jugend Runde] CVJM  Walddorfhäslach 2 - EK Köngen 
URL:https://www.eichenkreuzliga.de/handball/game/id/16157
DTSTART:20231202T134500
DTEND:20231202T144500
LOCATION:Strohgäuhalle\, 71229 Höfingen
END:VEVENT
BEGIN:VEVENT
UID:a080122d5e2bbad40cada281f5d66d73
DTSTAMP:20260420T212501Z
SUMMARY:[männliche D-Jugend Runde] CVJM  Walddorfhäslach  - CVJM  Walddor
 fhäslach 2
URL:https://www.eichenkreuzliga.de/handball/game/id/16158
DTSTART:20231202T163000
DTEND:20231202T173000
LOCATION:Strohgäuhalle\, 71229 Höfingen
END:VEVENT
BEGIN:VEVENT
UID:e2f419ac88788f44655d325487efcfc2
DTSTAMP:20260420T212501Z
SUMMARY:[männliche D-Jugend Runde] CVJM Fellbach  - CVJM  Walddorfhäslach
  
URL:https://www.eichenkreuzliga.de/handball/game/id/16159
DTSTART:20240204T153000
DTEND:20240204T163000
LOCATION:Zeppelinhalle\, 70734 Fellbach
END:VEVENT
BEGIN:VEVENT
UID:115c09713b06475f34fa3cfb4f8b52dc
DTSTAMP:20260420T212501Z
SUMMARY:[männliche D-Jugend Runde] CVJM Fellbach  - CVJM  Walddorfhäslach
  2
URL:https://www.eichenkreuzliga.de/handball/game/id/16160
DTSTART:20240204T130000
DTEND:20240204T140000
LOCATION:Zeppelinhalle\, 70734 Fellbach
END:VEVENT
BEGIN:VEVENT
UID:53c37d90b386ef0401606ac573d500e8
DTSTAMP:20260420T212501Z
SUMMARY:[männliche D-Jugend Runde] CVJM  Walddorfhäslach  - CVJM Enzweihi
 ngen 
URL:https://www.eichenkreuzliga.de/handball/game/id/16161
DTSTART:20240204T134500
DTEND:20240204T144500
LOCATION:Zeppelinhalle\, 70734 Fellbach
END:VEVENT
BEGIN:VEVENT
UID:6c711acb06995d5d7e48695099e8937f
DTSTAMP:20260420T212501Z
SUMMARY:[männliche D-Jugend Runde] CVJM  Walddorfhäslach 2 - CVJM Enzweih
 ingen 
URL:https://www.eichenkreuzliga.de/handball/game/id/16162
DTSTART:20240204T144500
DTEND:20240204T154500
LOCATION:Zeppelinhalle\, 70734 Fellbach
END:VEVENT
BEGIN:VEVENT
UID:02517b31d64f7cc8e569deed5cd2c541
DTSTAMP:20260420T212501Z
SUMMARY:[männliche D-Jugend Runde] CVJM HB Dußlingen-Gomaringen 1 - EJW M
 ünchingen 
URL:https://www.eichenkreuzliga.de/handball/game/id/16163
DTSTART:20240204T134500
DTEND:20240204T144500
LOCATION:Hönisch Sporthalle\, 72144 Dusslingen
END:VEVENT
BEGIN:VEVENT
UID:1998fa70e0f587c2c5843affbbca2e78
DTSTAMP:20260420T212501Z
SUMMARY:[männliche D-Jugend Runde] CVJM HB Dußlingen-Gomaringen 1 - EK Be
 rnhausen 1
URL:https://www.eichenkreuzliga.de/handball/game/id/16164
DTSTART:20240204T144500
DTEND:20240204T154500
LOCATION:Hönisch Sporthalle\, 72144 Dusslingen
END:VEVENT
BEGIN:VEVENT
UID:c848facfc726d8f0809dae367d3cf030
DTSTAMP:20260420T212501Z
SUMMARY:[männliche D-Jugend Runde] CVJM HB Dußlingen-Gomaringen 2 a.K. - 
 EJW Münchingen 
URL:https://www.eichenkreuzliga.de/handball/game/id/16165
DTSTART:20240204T153000
DTEND:20240204T163000
LOCATION:Hönisch Sporthalle\, 72144 Dusslingen
END:VEVENT
BEGIN:VEVENT
UID:b907af28132c12ea7904984b447da668
DTSTAMP:20260420T212501Z
SUMMARY:[männliche D-Jugend Runde] CVJM HB Dußlingen-Gomaringen 2 a.K. - 
 EK Bernhausen 1
URL:https://www.eichenkreuzliga.de/handball/game/id/16166
DTSTART:20240204T130000
DTEND:20240204T140000
LOCATION:Hönisch Sporthalle\, 72144 Dusslingen
END:VEVENT
BEGIN:VEVENT
UID:87d1d2f667dbccfcf59c558f2b73e5e3
DTSTAMP:20260420T212501Z
SUMMARY:[männliche D-Jugend Runde] EK Köngen  - CVJM Kusterdingen e.V. 
URL:https://www.eichenkreuzliga.de/handball/game/id/16167
DTSTART:20240204T144500
DTEND:20240204T154500
LOCATION:Burgschulhalle\, 73257 Köngen
END:VEVENT
BEGIN:VEVENT
UID:7c5c5d73a62e0edb4be266a7504e5046
DTSTAMP:20260420T212501Z
SUMMARY:[männliche D-Jugend Runde] CVJM Plochingen  - EK Höfingen außer 
 Konkurrenz
URL:https://www.eichenkreuzliga.de/handball/game/id/16168
DTSTART:20240204T000000
DTEND:20240204T010000
LOCATION:Burgschulhalle\, 73257 Köngen
END:VEVENT
BEGIN:VEVENT
UID:bfd3b86ae85de6c0358523dcba31fd9f
DTSTAMP:20260420T212501Z
SUMMARY:[männliche D-Jugend Runde] EK Köngen  - CVJM Plochingen 
URL:https://www.eichenkreuzliga.de/handball/game/id/16169
DTSTART:20240204T130000
DTEND:20240204T140000
LOCATION:Burgschulhalle\, 73257 Köngen
END:VEVENT
BEGIN:VEVENT
UID:c74d4f921e0568622fbaa8908ac3d7d4
DTSTAMP:20260420T212501Z
SUMMARY:[männliche D-Jugend Runde] CVJM Kusterdingen e.V.  - CVJM Ploching
 en 
URL:https://www.eichenkreuzliga.de/handball/game/id/16170
DTSTART:20240204T134500
DTEND:20240204T144500
LOCATION:Burgschulhalle\, 73257 Köngen
END:VEVENT
BEGIN:VEVENT
UID:3d4d9f878a54dbff76d1e20d0f5dccf8
DTSTAMP:20260420T212501Z
SUMMARY:[männliche D-Jugend Runde] CVJM  Walddorfhäslach  - EJW Münching
 en 
URL:https://www.eichenkreuzliga.de/handball/game/id/16171
DTSTART:20240225T130000
DTEND:20240225T140000
LOCATION:Ballspielhalle\, 72141 Walddorfhäslach
END:VEVENT
BEGIN:VEVENT
UID:21f03656f4d631afb3775ee05985fcde
DTSTAMP:20260420T212501Z
SUMMARY:[männliche D-Jugend Runde] CVJM  Walddorfhäslach 2 - EJW Münchin
 gen 
URL:https://www.eichenkreuzliga.de/handball/game/id/16172
DTSTART:20240225T144500
DTEND:20240225T154500
LOCATION:Ballspielhalle\, 72141 Walddorfhäslach
END:VEVENT
BEGIN:VEVENT
UID:170d195563509f13b2e055063af9ce68
DTSTAMP:20260420T212501Z
SUMMARY:[männliche D-Jugend Runde] CVJM  Walddorfhäslach  - EK Bernhausen
  1
URL:https://www.eichenkreuzliga.de/handball/game/id/16173
DTSTART:20240225T153000
DTEND:20240225T163000
LOCATION:Ballspielhalle\, 72141 Walddorfhäslach
END:VEVENT
BEGIN:VEVENT
UID:180ec43267ba41e04a6c8cf66af0ae75
DTSTAMP:20260420T212501Z
SUMMARY:[männliche D-Jugend Runde] CVJM  Walddorfhäslach 2 - EK Bernhause
 n 1
URL:https://www.eichenkreuzliga.de/handball/game/id/16174
DTSTART:20240225T134500
DTEND:20240225T144500
LOCATION:Ballspielhalle\, 72141 Walddorfhäslach
END:VEVENT
BEGIN:VEVENT
UID:fb5ca6f75cdbe66f24de187994476b90
DTSTAMP:20260420T212501Z
SUMMARY:[männliche D-Jugend Runde] CVJM HB Dußlingen-Gomaringen 1 - CVJM 
 Kusterdingen e.V. 
URL:https://www.eichenkreuzliga.de/handball/game/id/16175
DTSTART:20240302T144500
DTEND:20240302T154500
LOCATION:Gymnasiumsporthalle\, 73207 Plochingen
END:VEVENT
BEGIN:VEVENT
UID:fd741a4087aa59d3a92802037fa7b83a
DTSTAMP:20260420T212501Z
SUMMARY:[männliche D-Jugend Runde] CVJM Plochingen  - CVJM HB Dußlingen-G
 omaringen 1
URL:https://www.eichenkreuzliga.de/handball/game/id/16176
DTSTART:20240302T130000
DTEND:20240302T140000
LOCATION:Gymnasiumsporthalle\, 73207 Plochingen
END:VEVENT
BEGIN:VEVENT
UID:89d9c7441441af1b9b62006dfd0a4a05
DTSTAMP:20260420T212501Z
SUMMARY:[männliche D-Jugend Runde] CVJM HB Dußlingen-Gomaringen 2 a.K. - 
 CVJM Kusterdingen e.V. 
URL:https://www.eichenkreuzliga.de/handball/game/id/16177
DTSTART:20240302T134500
DTEND:20240302T144500
LOCATION:Gymnasiumsporthalle\, 73207 Plochingen
END:VEVENT
BEGIN:VEVENT
UID:b25c4e2ebd5a0268de6f122d43b19f9b
DTSTAMP:20260420T212501Z
SUMMARY:[männliche D-Jugend Runde] CVJM Plochingen  - CVJM HB Dußlingen-G
 omaringen 2 a.K.
URL:https://www.eichenkreuzliga.de/handball/game/id/16178
DTSTART:20240302T153000
DTEND:20240302T163000
LOCATION:Gymnasiumsporthalle\, 73207 Plochingen
END:VEVENT
BEGIN:VEVENT
UID:376a594d6d10844ffcc473c7f9ecf8e9
DTSTAMP:20260420T212501Z
SUMMARY:[männliche D-Jugend Runde] EK Höfingen außer Konkurrenz - CVJM E
 nzweihingen 
URL:https://www.eichenkreuzliga.de/handball/game/id/16179
DTSTART:20240303T000000
DTEND:20240303T010000
LOCATION:Zeppelinhalle\, 70734 Fellbach
END:VEVENT
BEGIN:VEVENT
UID:4903793040c6bbe646c82300558a7446
DTSTAMP:20260420T212501Z
SUMMARY:[männliche D-Jugend Runde] CVJM Enzweihingen  - EK Köngen 
URL:https://www.eichenkreuzliga.de/handball/game/id/16180
DTSTART:20240303T135000
DTEND:20240303T145000
LOCATION:Zeppelinhalle\, 70734 Fellbach
END:VEVENT
BEGIN:VEVENT
UID:6be4275e59fdf4506e490e8753335714
DTSTAMP:20260420T212501Z
SUMMARY:[männliche D-Jugend Runde] EK Höfingen außer Konkurrenz - CVJM F
 ellbach 
URL:https://www.eichenkreuzliga.de/handball/game/id/16181
DTSTART:20240303T000000
DTEND:20240303T010000
LOCATION:Zeppelinhalle\, 70734 Fellbach
END:VEVENT
BEGIN:VEVENT
UID:23add8525ab4353e60d4f36691bea2b7
DTSTAMP:20260420T212501Z
SUMMARY:[männliche D-Jugend Runde] CVJM Fellbach  - EK Köngen 
URL:https://www.eichenkreuzliga.de/handball/game/id/16182
DTSTART:20240303T130000
DTEND:20240303T140000
LOCATION:Zeppelinhalle\, 70734 Fellbach
END:VEVENT
BEGIN:VEVENT
UID:140c0e0182c2c1fabbf32570bdacc69d
DTSTAMP:20260420T212501Z
SUMMARY:[männliche D-Jugend Runde] CVJM Enzweihingen  - CVJM Fellbach 
URL:https://www.eichenkreuzliga.de/handball/game/id/16183
DTSTART:20240303T144500
DTEND:20240303T154500
LOCATION:Zeppelinhalle\, 70734 Fellbach
END:VEVENT
BEGIN:VEVENT
UID:929a86aecf841a37e3aa768b6db15012
DTSTAMP:20260420T212501Z
SUMMARY:[männliche D-Jugend Runde] CVJM Kusterdingen e.V.  - EK Höfingen 
 außer Konkurrenz
URL:https://www.eichenkreuzliga.de/handball/game/id/16184
DTSTART:20240204T000000
DTEND:20240204T010000
LOCATION:Burgschulhalle\, 73257 Köngen
END:VEVENT
BEGIN:VEVENT
UID:203ca0eeb59262d0e1d1eae62310faec
DTSTAMP:20260420T212501Z
SUMMARY:[männliche D-Jugend Runde] CVJM Plochingen  - EK Bernhausen 1
URL:https://www.eichenkreuzliga.de/handball/game/id/16294
DTSTART:20231202T144500
DTEND:20231202T154500
LOCATION:Härtensporthalle\, 72127 Kusterdingen
END:VEVENT
END:VCALENDAR
