BEGIN:VCALENDAR
PRODID:-//eluceo/ical//2.0/EN
VERSION:2.0
CALSCALE:GREGORIAN
BEGIN:VEVENT
UID:04cc701b87476f636f745f9d6f77a58f
DTSTAMP:20260420T212507Z
SUMMARY:[männliche E-Jugend Runde] CVJM Kusterdingen e.V.  - CVJM HB Dußl
 ingen-Gomaringen 1
URL:https://www.eichenkreuzliga.de/handball/game/id/16189
DTSTART:20231014T151000
DTEND:20231014T161000
LOCATION:Härtensporthalle\, 72127 Kusterdingen
END:VEVENT
BEGIN:VEVENT
UID:4223b93a21f005e75513e3e6ccf0c415
DTSTAMP:20260420T212507Z
SUMMARY:[männliche E-Jugend Runde] CVJM Hülben  - CVJM Kirchentellinsfurt
  
URL:https://www.eichenkreuzliga.de/handball/game/id/16190
DTSTART:20231014T143000
DTEND:20231014T153000
LOCATION:Härtensporthalle\, 72127 Kusterdingen
END:VEVENT
BEGIN:VEVENT
UID:4d13fbf8bd54663fa96839438f6e6a18
DTSTAMP:20260420T212507Z
SUMMARY:[männliche E-Jugend Runde] CVJM HB Dußlingen-Gomaringen 1 - CVJM 
 Hülben 
URL:https://www.eichenkreuzliga.de/handball/game/id/16191
DTSTART:20231014T134000
DTEND:20231014T144000
LOCATION:Härtensporthalle\, 72127 Kusterdingen
END:VEVENT
BEGIN:VEVENT
UID:42c0f8620ced12670833adf05543611a
DTSTAMP:20260420T212507Z
SUMMARY:[männliche E-Jugend Runde] CVJM Kusterdingen e.V.  - CVJM Kirchent
 ellinsfurt 
URL:https://www.eichenkreuzliga.de/handball/game/id/16192
DTSTART:20231014T130000
DTEND:20231014T140000
LOCATION:Härtensporthalle\, 72127 Kusterdingen
END:VEVENT
BEGIN:VEVENT
UID:761661643bdbf809612c11899d82eb02
DTSTAMP:20260420T212507Z
SUMMARY:[männliche E-Jugend Runde] EK Köngen  - EJW Münchingen 
URL:https://www.eichenkreuzliga.de/handball/game/id/16193
DTSTART:20231014T120000
DTEND:20231014T130000
LOCATION:Burgschulhalle\, 73257 Köngen
END:VEVENT
BEGIN:VEVENT
UID:bbbe8e3796c85f423e22e8c517461f88
DTSTAMP:20260420T212507Z
SUMMARY:[männliche E-Jugend Runde] CVJM Hagelloch - Kusterdingen 1 - CVJM 
 Möglingen 
URL:https://www.eichenkreuzliga.de/handball/game/id/16194
DTSTART:20231014T124000
DTEND:20231014T134000
LOCATION:Burgschulhalle\, 73257 Köngen
END:VEVENT
BEGIN:VEVENT
UID:34788554a57bdb5159979f86a33e8927
DTSTAMP:20260420T212507Z
SUMMARY:[männliche E-Jugend Runde] CVJM Möglingen  - EJW Münchingen 
URL:https://www.eichenkreuzliga.de/handball/game/id/16195
DTSTART:20231014T133000
DTEND:20231014T143000
LOCATION:Burgschulhalle\, 73257 Köngen
END:VEVENT
BEGIN:VEVENT
UID:7f601fc214f0b7bfec0dc91df7414e4d
DTSTAMP:20260420T212507Z
SUMMARY:[männliche E-Jugend Runde] EK Köngen  - CVJM Hagelloch - Kusterdi
 ngen 1
URL:https://www.eichenkreuzliga.de/handball/game/id/16196
DTSTART:20231014T141000
DTEND:20231014T151000
LOCATION:Burgschulhalle\, 73257 Köngen
END:VEVENT
BEGIN:VEVENT
UID:b7214df0e47b4c7bcc4c8e83324c15b1
DTSTAMP:20260420T212507Z
SUMMARY:[männliche E-Jugend Runde] EK Höfingen  - CVJM  Walddorfhäslach 
URL:https://www.eichenkreuzliga.de/handball/game/id/16197
DTSTART:20231014T130000
DTEND:20231014T140000
LOCATION:Strohgäuhalle\, 71229 Höfingen
END:VEVENT
BEGIN:VEVENT
UID:e44a4c72f13c2d9fa8f3053d2948bbf6
DTSTAMP:20260420T212507Z
SUMMARY:[männliche E-Jugend Runde] EK Höfingen  - CVJM  Walddorfhäslach 
 2
URL:https://www.eichenkreuzliga.de/handball/game/id/16198
DTSTART:20231014T151000
DTEND:20231014T161000
LOCATION:Strohgäuhalle\, 71229 Höfingen
END:VEVENT
BEGIN:VEVENT
UID:4b2804a31ec7ca3e3b2cf6c6ed305fd0
DTSTAMP:20260420T212507Z
SUMMARY:[männliche E-Jugend Runde] CVJM  Walddorfhäslach  - CVJM SG Möss
 ingen/Belsen a.K.
URL:https://www.eichenkreuzliga.de/handball/game/id/16199
DTSTART:20231014T143000
DTEND:20231014T153000
LOCATION:Strohgäuhalle\, 71229 Höfingen
END:VEVENT
BEGIN:VEVENT
UID:a41b8fba3ebecf30e2d4a6074f2cea72
DTSTAMP:20260420T212507Z
SUMMARY:[männliche E-Jugend Runde] CVJM  Walddorfhäslach 2 - CVJM SG Mös
 singen/Belsen a.K.
URL:https://www.eichenkreuzliga.de/handball/game/id/16200
DTSTART:20231014T134000
DTEND:20231014T144000
LOCATION:Strohgäuhalle\, 71229 Höfingen
END:VEVENT
BEGIN:VEVENT
UID:0a9264d3c825612e02731efa2461bcbd
DTSTAMP:20260420T212507Z
SUMMARY:[männliche E-Jugend Runde] CVJM Enzweihingen D1 - CVJM Kusterdinge
 n e.V. 
URL:https://www.eichenkreuzliga.de/handball/game/id/16201
DTSTART:20231112T130000
DTEND:20231112T140000
LOCATION:Schulsporthalle\, 71665 Enzweihingen
END:VEVENT
BEGIN:VEVENT
UID:56624cf85975201b9a20b7ec31be082f
DTSTAMP:20260420T212507Z
SUMMARY:[männliche E-Jugend Runde] CVJM Hülben  - EK Bernhausen 1
URL:https://www.eichenkreuzliga.de/handball/game/id/16202
DTSTART:20231112T134000
DTEND:20231112T144000
LOCATION:Schulsporthalle\, 71665 Enzweihingen
END:VEVENT
BEGIN:VEVENT
UID:789753db7cf40be530b1df7a450ecf03
DTSTAMP:20260420T212507Z
SUMMARY:[männliche E-Jugend Runde] CVJM Kusterdingen e.V.  - EK Bernhausen
  1
URL:https://www.eichenkreuzliga.de/handball/game/id/16203
DTSTART:20231112T143000
DTEND:20231112T153000
LOCATION:Schulsporthalle\, 71665 Enzweihingen
END:VEVENT
BEGIN:VEVENT
UID:daef29c8876e70133c445637f4b8fea5
DTSTAMP:20260420T212507Z
SUMMARY:[männliche E-Jugend Runde] CVJM Enzweihingen D1 - CVJM Hülben 
URL:https://www.eichenkreuzliga.de/handball/game/id/16204
DTSTART:20231112T151000
DTEND:20231112T161000
LOCATION:Schulsporthalle\, 71665 Enzweihingen
END:VEVENT
BEGIN:VEVENT
UID:ceedfb065bc40a2aee3e2e526d45a064
DTSTAMP:20260420T212507Z
SUMMARY:[männliche E-Jugend Runde] CVJM HB Dußlingen-Gomaringen 1 - EK H
 öfingen 
URL:https://www.eichenkreuzliga.de/handball/game/id/16205
DTSTART:20231112T134000
DTEND:20231112T144000
LOCATION:Jahnhalle 2\, 72116 Mössingen
END:VEVENT
BEGIN:VEVENT
UID:7f0cd2d51ef5cbe91aa184c2838961e6
DTSTAMP:20260420T212507Z
SUMMARY:[männliche E-Jugend Runde] CVJM SG Mössingen/Belsen a.K. - CVJM K
 irchentellinsfurt 
URL:https://www.eichenkreuzliga.de/handball/game/id/16206
DTSTART:20231112T130000
DTEND:20231112T140000
LOCATION:Jahnhalle 2\, 72116 Mössingen
END:VEVENT
BEGIN:VEVENT
UID:bf050eadeb9b849d609760184ba6a3aa
DTSTAMP:20260420T212507Z
SUMMARY:[männliche E-Jugend Runde] CVJM SG Mössingen/Belsen a.K. - CVJM H
 B Dußlingen-Gomaringen 1
URL:https://www.eichenkreuzliga.de/handball/game/id/16207
DTSTART:20231112T151000
DTEND:20231112T161000
LOCATION:Jahnhalle 2\, 72116 Mössingen
END:VEVENT
BEGIN:VEVENT
UID:9747e650fef9f8b5a82371f681aaa333
DTSTAMP:20260420T212507Z
SUMMARY:[männliche E-Jugend Runde] CVJM Kirchentellinsfurt  - EK Höfingen
  
URL:https://www.eichenkreuzliga.de/handball/game/id/16208
DTSTART:20231112T143000
DTEND:20231112T153000
LOCATION:Jahnhalle 2\, 72116 Mössingen
END:VEVENT
BEGIN:VEVENT
UID:c0499961d7db79edd210ebe7f9433d62
DTSTAMP:20260420T212507Z
SUMMARY:[männliche E-Jugend Runde] EK Köngen  - CVJM  Walddorfhäslach 
URL:https://www.eichenkreuzliga.de/handball/game/id/16210
DTSTART:20231119T130000
DTEND:20231119T140000
LOCATION:Burgschulhalle\, 73257 Köngen
END:VEVENT
BEGIN:VEVENT
UID:bf2d1f80fe332801a77ebe0c8eab5540
DTSTAMP:20260420T212507Z
SUMMARY:[männliche E-Jugend Runde] EK Köngen  - CVJM  Walddorfhäslach 2
URL:https://www.eichenkreuzliga.de/handball/game/id/16211
DTSTART:20231119T151000
DTEND:20231119T161000
LOCATION:Burgschulhalle\, 73257 Köngen
END:VEVENT
BEGIN:VEVENT
UID:ff441d6aee0a3f13356dc372729c85d2
DTSTAMP:20260420T212507Z
SUMMARY:[männliche E-Jugend Runde] CVJM  Walddorfhäslach  - CVJM Mögling
 en 
URL:https://www.eichenkreuzliga.de/handball/game/id/16212
DTSTART:20231119T143000
DTEND:20231119T153000
LOCATION:Burgschulhalle\, 73257 Köngen
END:VEVENT
BEGIN:VEVENT
UID:3f7c5bcf01e771fece08375d59bfc2ba
DTSTAMP:20260420T212507Z
SUMMARY:[männliche E-Jugend Runde] CVJM  Walddorfhäslach 2 - CVJM Möglin
 gen 
URL:https://www.eichenkreuzliga.de/handball/game/id/16213
DTSTART:20231119T134000
DTEND:20231119T144000
LOCATION:Burgschulhalle\, 73257 Köngen
END:VEVENT
BEGIN:VEVENT
UID:fde7df2b64de0427dcee0e09a655694b
DTSTAMP:20260420T212507Z
SUMMARY:[männliche E-Jugend Runde] CVJM Kirchentellinsfurt  - CVJM Hagello
 ch - Kusterdingen 1
URL:https://www.eichenkreuzliga.de/handball/game/id/16214
DTSTART:20231216T130000
DTEND:20231216T140000
LOCATION:Sporthalle\, 72138 Kirchentellinsfurt
END:VEVENT
BEGIN:VEVENT
UID:81c675f2e9c85da9937402f4350734a6
DTSTAMP:20260420T212507Z
SUMMARY:[männliche E-Jugend Runde] CVJM HB Dußlingen-Gomaringen 1 - EJW M
 ünchingen 
URL:https://www.eichenkreuzliga.de/handball/game/id/16215
DTSTART:20231216T134000
DTEND:20231216T144000
LOCATION:Sporthalle\, 72138 Kirchentellinsfurt
END:VEVENT
BEGIN:VEVENT
UID:40b3de2387c973b7c2f040eaf95873e8
DTSTAMP:20260420T212507Z
SUMMARY:[männliche E-Jugend Runde] CVJM Kirchentellinsfurt  - EJW Münchin
 gen 
URL:https://www.eichenkreuzliga.de/handball/game/id/16216
DTSTART:20231216T155000
DTEND:20231216T165000
LOCATION:Sporthalle\, 72138 Kirchentellinsfurt
END:VEVENT
BEGIN:VEVENT
UID:8d47e3ddda7815962ec126b9041c46d5
DTSTAMP:20260420T212507Z
SUMMARY:[männliche E-Jugend Runde] CVJM Hagelloch - Kusterdingen 1 - EJW M
 ünchingen 
URL:https://www.eichenkreuzliga.de/handball/game/id/16217
DTSTART:20231216T143000
DTEND:20231216T153000
LOCATION:Sporthalle\, 72138 Kirchentellinsfurt
END:VEVENT
BEGIN:VEVENT
UID:fac724a694ae1404d6aa9a3d1ed828ac
DTSTAMP:20260420T212507Z
SUMMARY:[männliche E-Jugend Runde] CVJM Kusterdingen e.V.  - EK Köngen 
URL:https://www.eichenkreuzliga.de/handball/game/id/16218
DTSTART:20231216T133000
DTEND:20231216T143000
LOCATION:Stadionhalle\, 71696 Möglingen
END:VEVENT
BEGIN:VEVENT
UID:775b23a871189dee6d696f915ce69d3c
DTSTAMP:20260420T212507Z
SUMMARY:[männliche E-Jugend Runde] CVJM Möglingen  - CVJM Kusterdingen e.
 V. 
URL:https://www.eichenkreuzliga.de/handball/game/id/16220
DTSTART:20231216T120000
DTEND:20231216T130000
LOCATION:Stadionhalle\, 71696 Möglingen
END:VEVENT
BEGIN:VEVENT
UID:7186f84ecbdcb3e465035c787a76c1ab
DTSTAMP:20260420T212507Z
SUMMARY:[männliche E-Jugend Runde] CVJM Möglingen  - EK Köngen 
URL:https://www.eichenkreuzliga.de/handball/game/id/16221
DTSTART:20231216T124000
DTEND:20231216T134000
LOCATION:Stadionhalle\, 71696 Möglingen
END:VEVENT
BEGIN:VEVENT
UID:de03300b88db2bb5db60e9cf9558b851
DTSTAMP:20260420T212507Z
SUMMARY:[männliche E-Jugend Runde] CVJM Enzweihingen D1 - EK Höfingen 
URL:https://www.eichenkreuzliga.de/handball/game/id/16222
DTSTART:20231216T113000
DTEND:20231216T123000
LOCATION:Elisabeth-Selbert-Gymnasium Halle\, 70794 Bernhausen
END:VEVENT
BEGIN:VEVENT
UID:37daac93ef71e2245ac6c0803b5cd5fd
DTSTAMP:20260420T212507Z
SUMMARY:[männliche E-Jugend Runde] EK Bernhausen 1 - CVJM SG Mössingen/Be
 lsen a.K.
URL:https://www.eichenkreuzliga.de/handball/game/id/16223
DTSTART:20231216T105000
DTEND:20231216T115000
LOCATION:Elisabeth-Selbert-Gymnasium Halle\, 70794 Bernhausen
END:VEVENT
BEGIN:VEVENT
UID:4ae2cdc7aa2b57d1dff92bd44eed710d
DTSTAMP:20260420T212507Z
SUMMARY:[männliche E-Jugend Runde] CVJM Enzweihingen D1 - CVJM SG Mössing
 en/Belsen a.K.
URL:https://www.eichenkreuzliga.de/handball/game/id/16225
DTSTART:20231216T121500
DTEND:20231216T131500
LOCATION:Elisabeth-Selbert-Gymnasium Halle\, 70794 Bernhausen
END:VEVENT
BEGIN:VEVENT
UID:5cc77a9f3164b2b012a9df4786d6772d
DTSTAMP:20260420T212507Z
SUMMARY:[männliche E-Jugend Runde] EK Bernhausen 1 - CVJM Enzweihingen D1
URL:https://www.eichenkreuzliga.de/handball/game/id/16226
DTSTART:20231216T134000
DTEND:20231216T144000
LOCATION:Elisabeth-Selbert-Gymnasium Halle\, 70794 Bernhausen
END:VEVENT
BEGIN:VEVENT
UID:9300c56121982d677d54447ddf61df0c
DTSTAMP:20260420T212507Z
SUMMARY:[männliche E-Jugend Runde] EK Bernhausen 1 - EK Höfingen 
URL:https://www.eichenkreuzliga.de/handball/game/id/16227
DTSTART:20231216T125500
DTEND:20231216T135500
LOCATION:Elisabeth-Selbert-Gymnasium Halle\, 70794 Bernhausen
END:VEVENT
BEGIN:VEVENT
UID:11c04c19dc9f83f35e669270f7e4ec37
DTSTAMP:20260420T212507Z
SUMMARY:[männliche E-Jugend Runde] CVJM HB Dußlingen-Gomaringen 1 - CVJM 
  Walddorfhäslach 
URL:https://www.eichenkreuzliga.de/handball/game/id/16228
DTSTART:20240121T155000
DTEND:20240121T165000
LOCATION:Hönisch Sporthalle\, 72144 Dusslingen
END:VEVENT
BEGIN:VEVENT
UID:989384d66cd376d31fb7bae87402ee6f
DTSTAMP:20260420T212507Z
SUMMARY:[männliche E-Jugend Runde] CVJM  Walddorfhäslach 2 - CVJM Kirchen
 tellinsfurt 
URL:https://www.eichenkreuzliga.de/handball/game/id/16230
DTSTART:20240121T151000
DTEND:20240121T161000
LOCATION:Hönisch Sporthalle\, 72144 Dusslingen
END:VEVENT
BEGIN:VEVENT
UID:5bcf3b029a286a8c41e877d142740406
DTSTAMP:20260420T212507Z
SUMMARY:[männliche E-Jugend Runde] CVJM HB Dußlingen-Gomaringen 1 - CVJM 
  Walddorfhäslach 2
URL:https://www.eichenkreuzliga.de/handball/game/id/16231
DTSTART:20240121T134000
DTEND:20240121T144000
LOCATION:Hönisch Sporthalle\, 72144 Dusslingen
END:VEVENT
BEGIN:VEVENT
UID:4f3e0dddfc8c1198d551dc4f80089b96
DTSTAMP:20260420T212507Z
SUMMARY:[männliche E-Jugend Runde] CVJM  Walddorfhäslach  - CVJM Kirchent
 ellinsfurt 
URL:https://www.eichenkreuzliga.de/handball/game/id/16232
DTSTART:20240121T130000
DTEND:20240121T140000
LOCATION:Hönisch Sporthalle\, 72144 Dusslingen
END:VEVENT
BEGIN:VEVENT
UID:faf820cfb9c7bac4af62471b755da882
DTSTAMP:20260420T212507Z
SUMMARY:[männliche E-Jugend Runde] CVJM HB Dußlingen-Gomaringen 1 - CVJM 
 Kirchentellinsfurt 
URL:https://www.eichenkreuzliga.de/handball/game/id/16233
DTSTART:20240121T143000
DTEND:20240121T153000
LOCATION:Hönisch Sporthalle\, 72144 Dusslingen
END:VEVENT
BEGIN:VEVENT
UID:329152828ff03b2ea493d912a82cdc2f
DTSTAMP:20260420T212507Z
SUMMARY:[männliche E-Jugend Runde] EJW Münchingen  - CVJM SG Mössingen/B
 elsen a.K.
URL:https://www.eichenkreuzliga.de/handball/game/id/16234
DTSTART:20240121T151000
DTEND:20240121T161000
LOCATION:Sporthalle Münchingen\, 70825 Korntal-Münchingen
END:VEVENT
BEGIN:VEVENT
UID:560c993c56319a7958ac821077613731
DTSTAMP:20260420T212507Z
SUMMARY:[männliche E-Jugend Runde] EJW Münchingen  - EK Höfingen 
URL:https://www.eichenkreuzliga.de/handball/game/id/16235
DTSTART:20240121T130000
DTEND:20240121T140000
LOCATION:Sporthalle Münchingen\, 70825 Korntal-Münchingen
END:VEVENT
BEGIN:VEVENT
UID:e117f268a93e0d4c279f7b950814c6d5
DTSTAMP:20260420T212507Z
SUMMARY:[männliche E-Jugend Runde] CVJM Hagelloch - Kusterdingen 1 - CVJM 
 SG Mössingen/Belsen a.K.
URL:https://www.eichenkreuzliga.de/handball/game/id/16236
DTSTART:20240121T134000
DTEND:20240121T144000
LOCATION:Sporthalle Münchingen\, 70825 Korntal-Münchingen
END:VEVENT
BEGIN:VEVENT
UID:99253dec79a5611009cdc4ce1a733703
DTSTAMP:20260420T212507Z
SUMMARY:[männliche E-Jugend Runde] CVJM Hagelloch - Kusterdingen 1 - EK H
 öfingen 
URL:https://www.eichenkreuzliga.de/handball/game/id/16237
DTSTART:20240121T143000
DTEND:20240121T153000
LOCATION:Sporthalle Münchingen\, 70825 Korntal-Münchingen
END:VEVENT
BEGIN:VEVENT
UID:6acb9dd8655a22f7adb6526e00b34ed6
DTSTAMP:20260420T212507Z
SUMMARY:[männliche E-Jugend Runde] EK Köngen  - EK Bernhausen 1
URL:https://www.eichenkreuzliga.de/handball/game/id/16238
DTSTART:20240121T130000
DTEND:20240121T140000
LOCATION:Burgschulhalle\, 73257 Köngen
END:VEVENT
BEGIN:VEVENT
UID:207008cd2227b52c33323e8f7ec18f50
DTSTAMP:20260420T212507Z
SUMMARY:[männliche E-Jugend Runde] EK Köngen  - CVJM Enzweihingen D1
URL:https://www.eichenkreuzliga.de/handball/game/id/16239
DTSTART:20240121T151000
DTEND:20240121T161000
LOCATION:Burgschulhalle\, 73257 Köngen
END:VEVENT
BEGIN:VEVENT
UID:2beb08ccf6d3c1622bed4fd4985077a0
DTSTAMP:20260420T212507Z
SUMMARY:[männliche E-Jugend Runde] CVJM Möglingen  - EK Bernhausen 1
URL:https://www.eichenkreuzliga.de/handball/game/id/16240
DTSTART:20240121T143000
DTEND:20240121T153000
LOCATION:Burgschulhalle\, 73257 Köngen
END:VEVENT
BEGIN:VEVENT
UID:9b763220e2d1807e7ecdf92f5d01ba8d
DTSTAMP:20260420T212507Z
SUMMARY:[männliche E-Jugend Runde] CVJM Enzweihingen D1 - CVJM Möglingen 
URL:https://www.eichenkreuzliga.de/handball/game/id/16241
DTSTART:20240121T134000
DTEND:20240121T144000
LOCATION:Burgschulhalle\, 73257 Köngen
END:VEVENT
BEGIN:VEVENT
UID:c7faaeeb6220b4a88fe3630bc5b5a380
DTSTAMP:20260420T212507Z
SUMMARY:[männliche E-Jugend Runde] CVJM Hagelloch - Kusterdingen 1 - CVJM 
 Hülben 
URL:https://www.eichenkreuzliga.de/handball/game/id/16242
DTSTART:20240203T134000
DTEND:20240203T144000
LOCATION:Sporthalle Waldhäuser-Ost\, 72076 Tübingen
END:VEVENT
BEGIN:VEVENT
UID:fc88685a544afcfb50a962f3d4946ba9
DTSTAMP:20260420T212507Z
SUMMARY:[männliche E-Jugend Runde] CVJM Kusterdingen e.V.  - EJW Münching
 en 
URL:https://www.eichenkreuzliga.de/handball/game/id/16243
DTSTART:20240203T152000
DTEND:20240203T162000
LOCATION:Sporthalle Waldhäuser-Ost\, 72076 Tübingen
END:VEVENT
BEGIN:VEVENT
UID:fd59191394c9fc537ab58b2196bc9b12
DTSTAMP:20260420T212507Z
SUMMARY:[männliche E-Jugend Runde] CVJM Hülben  - EJW Münchingen 
URL:https://www.eichenkreuzliga.de/handball/game/id/16245
DTSTART:20240203T160000
DTEND:20240203T170000
LOCATION:Sporthalle Waldhäuser-Ost\, 72076 Tübingen
END:VEVENT
BEGIN:VEVENT
UID:9f07fdb28fdfccd45a658d671da01e20
DTSTAMP:20260420T212507Z
SUMMARY:[männliche E-Jugend Runde] CVJM Hagelloch - Kusterdingen 1 - CVJM 
 Kusterdingen e.V. 
URL:https://www.eichenkreuzliga.de/handball/game/id/16246
DTSTART:20240203T130000
DTEND:20240203T140000
LOCATION:Sporthalle Waldhäuser-Ost\, 72076 Tübingen
END:VEVENT
BEGIN:VEVENT
UID:a0e7750e7c55e0216d927318719ec5b0
DTSTAMP:20260420T212507Z
SUMMARY:[männliche E-Jugend Runde] CVJM Hülben  - CVJM Kusterdingen e.V. 
URL:https://www.eichenkreuzliga.de/handball/game/id/16247
DTSTART:20240203T143000
DTEND:20240203T153000
LOCATION:Sporthalle Waldhäuser-Ost\, 72076 Tübingen
END:VEVENT
BEGIN:VEVENT
UID:c8b53b2c6132bc59a59a8e01e4946a32
DTSTAMP:20260420T212507Z
SUMMARY:[männliche E-Jugend Runde] EK Höfingen  - EK Köngen 
URL:https://www.eichenkreuzliga.de/handball/game/id/16248
DTSTART:20240302T151000
DTEND:20240302T161000
LOCATION:Strohgäuhalle\, 71229 Höfingen
END:VEVENT
BEGIN:VEVENT
UID:7269ed4336dc45771fcf5fc5775cea05
DTSTAMP:20260420T212507Z
SUMMARY:[männliche E-Jugend Runde] CVJM SG Mössingen/Belsen a.K. - CVJM M
 öglingen 
URL:https://www.eichenkreuzliga.de/handball/game/id/16249
DTSTART:20240302T143000
DTEND:20240302T153000
LOCATION:Strohgäuhalle\, 71229 Höfingen
END:VEVENT
BEGIN:VEVENT
UID:f80b83de3c0e05ab18b9181bf79d2fc4
DTSTAMP:20260420T212507Z
SUMMARY:[männliche E-Jugend Runde] CVJM SG Mössingen/Belsen a.K. - EK Kö
 ngen 
URL:https://www.eichenkreuzliga.de/handball/game/id/16250
DTSTART:20240302T130000
DTEND:20240302T140000
LOCATION:Strohgäuhalle\, 71229 Höfingen
END:VEVENT
BEGIN:VEVENT
UID:a1f83821e80258a176f07e085f978d3e
DTSTAMP:20260420T212507Z
SUMMARY:[männliche E-Jugend Runde] CVJM Möglingen  - EK Höfingen 
URL:https://www.eichenkreuzliga.de/handball/game/id/16251
DTSTART:20240302T134000
DTEND:20240302T144000
LOCATION:Strohgäuhalle\, 71229 Höfingen
END:VEVENT
BEGIN:VEVENT
UID:82ce525f42f2114f0e2d8ed13aeed74f
DTSTAMP:20260420T212507Z
SUMMARY:[männliche E-Jugend Runde] CVJM SG Mössingen/Belsen a.K. - EK Hö
 fingen 
URL:https://www.eichenkreuzliga.de/handball/game/id/16252
DTSTART:20240302T160000
DTEND:20240302T170000
LOCATION:Strohgäuhalle\, 71229 Höfingen
END:VEVENT
BEGIN:VEVENT
UID:a81ebf63f29318fabf9a8f2fa31acb6d
DTSTAMP:20260420T212507Z
SUMMARY:[männliche E-Jugend Runde] EK Bernhausen 1 - CVJM  Walddorfhäslac
 h 
URL:https://www.eichenkreuzliga.de/handball/game/id/16253
DTSTART:20240203T140000
DTEND:20240203T150000
LOCATION:Elisabeth-Selbert-Gymnasium Halle\, 70794 Bernhausen
END:VEVENT
BEGIN:VEVENT
UID:e10c233f2cdaca4bac027747bb500945
DTSTAMP:20260420T212507Z
SUMMARY:[männliche E-Jugend Runde] EK Bernhausen 1 - CVJM  Walddorfhäslac
 h 2
URL:https://www.eichenkreuzliga.de/handball/game/id/16254
DTSTART:20240203T110000
DTEND:20240203T120000
LOCATION:Elisabeth-Selbert-Gymnasium Halle\, 70794 Bernhausen
END:VEVENT
BEGIN:VEVENT
UID:62ad439fc9c5f0a231e462dcddba505e
DTSTAMP:20260420T212507Z
SUMMARY:[männliche E-Jugend Runde] CVJM  Walddorfhäslach 2 - CVJM Enzweih
 ingen D1
URL:https://www.eichenkreuzliga.de/handball/game/id/16255
DTSTART:20240203T123000
DTEND:20240203T133000
LOCATION:Elisabeth-Selbert-Gymnasium Halle\, 70794 Bernhausen
END:VEVENT
BEGIN:VEVENT
UID:355be0532f9447f27a15153177e1b607
DTSTAMP:20260420T212507Z
SUMMARY:[männliche E-Jugend Runde] CVJM  Walddorfhäslach  - CVJM  Walddor
 fhäslach 2
URL:https://www.eichenkreuzliga.de/handball/game/id/16256
DTSTART:20240203T131000
DTEND:20240203T141000
LOCATION:Elisabeth-Selbert-Gymnasium Halle\, 70794 Bernhausen
END:VEVENT
BEGIN:VEVENT
UID:36546f196fc3b92e5e3049fa6976e6fd
DTSTAMP:20260420T212507Z
SUMMARY:[männliche E-Jugend Runde] CVJM  Walddorfhäslach  - EJW Münching
 en 
URL:https://www.eichenkreuzliga.de/handball/game/id/16257
DTSTART:20240224T141000
DTEND:20240224T151000
LOCATION:Ballspielhalle\, 72141 Walddorfhäslach
END:VEVENT
BEGIN:VEVENT
UID:654ee398ec6afb1e5be5a90e4e3add6c
DTSTAMP:20260420T212507Z
SUMMARY:[männliche E-Jugend Runde] CVJM  Walddorfhäslach 2 - EJW Münchin
 gen 
URL:https://www.eichenkreuzliga.de/handball/game/id/16258
DTSTART:20240224T124000
DTEND:20240224T134000
LOCATION:Ballspielhalle\, 72141 Walddorfhäslach
END:VEVENT
BEGIN:VEVENT
UID:a6f0da8498f246e0f5cbe38b24cd959f
DTSTAMP:20260420T212507Z
SUMMARY:[männliche E-Jugend Runde] CVJM  Walddorfhäslach  - CVJM Hagelloc
 h - Kusterdingen 1
URL:https://www.eichenkreuzliga.de/handball/game/id/16259
DTSTART:20240224T120000
DTEND:20240224T130000
LOCATION:Ballspielhalle\, 72141 Walddorfhäslach
END:VEVENT
BEGIN:VEVENT
UID:0e3d7ade2b945b74b21ba6adf1386f21
DTSTAMP:20260420T212507Z
SUMMARY:[männliche E-Jugend Runde] CVJM  Walddorfhäslach 2 - CVJM Hagello
 ch - Kusterdingen 1
URL:https://www.eichenkreuzliga.de/handball/game/id/16260
DTSTART:20240224T133000
DTEND:20240224T143000
LOCATION:Ballspielhalle\, 72141 Walddorfhäslach
END:VEVENT
BEGIN:VEVENT
UID:f353ee75b5d611bf3ece874fdf538487
DTSTAMP:20260420T212507Z
SUMMARY:[männliche E-Jugend Runde] CVJM HB Dußlingen-Gomaringen 1 - CVJM 
 Enzweihingen D1
URL:https://www.eichenkreuzliga.de/handball/game/id/16261
DTSTART:20240224T164500
DTEND:20240224T174500
LOCATION:Hönisch Sporthalle\, 72144 Dusslingen
END:VEVENT
BEGIN:VEVENT
UID:8025a9896d9109cf8ce6ba3a1802a4f6
DTSTAMP:20260420T212507Z
SUMMARY:[männliche E-Jugend Runde] CVJM HB Dußlingen-Gomaringen 1 - EK Be
 rnhausen 1
URL:https://www.eichenkreuzliga.de/handball/game/id/16262
DTSTART:20240224T142500
DTEND:20240224T152500
LOCATION:Hönisch Sporthalle\, 72144 Dusslingen
END:VEVENT
BEGIN:VEVENT
UID:4a00e82c31a653c9c63e6e6dcef77d81
DTSTAMP:20260420T212507Z
SUMMARY:[männliche E-Jugend Runde] CVJM Kirchentellinsfurt  - EK Bernhause
 n 1
URL:https://www.eichenkreuzliga.de/handball/game/id/16263
DTSTART:20240224T160000
DTEND:20240224T170000
LOCATION:Hönisch Sporthalle\, 72144 Dusslingen
END:VEVENT
BEGIN:VEVENT
UID:4c9f39201ba682c5f5396b1454b09726
DTSTAMP:20260420T212507Z
SUMMARY:[männliche E-Jugend Runde] CVJM Enzweihingen D1 - CVJM Kirchentell
 insfurt 
URL:https://www.eichenkreuzliga.de/handball/game/id/16264
DTSTART:20240224T151000
DTEND:20240224T161000
LOCATION:Hönisch Sporthalle\, 72144 Dusslingen
END:VEVENT
BEGIN:VEVENT
UID:ff6fc2b6049edba63c7205c83d0d5361
DTSTAMP:20260420T212507Z
SUMMARY:[männliche E-Jugend Runde] CVJM Hülben  - CVJM SG Mössingen/Bels
 en a.K.
URL:https://www.eichenkreuzliga.de/handball/game/id/16265
DTSTART:20240224T130000
DTEND:20240224T140000
LOCATION:Falkensteinhalle\, 72582 Grabenstetten
END:VEVENT
BEGIN:VEVENT
UID:55874040b6049049a5b8331c7e1c05e4
DTSTAMP:20260420T212507Z
SUMMARY:[männliche E-Jugend Runde] CVJM Hülben  - EK Höfingen 
URL:https://www.eichenkreuzliga.de/handball/game/id/16266
DTSTART:20240224T151000
DTEND:20240224T161000
LOCATION:Falkensteinhalle\, 72582 Grabenstetten
END:VEVENT
BEGIN:VEVENT
UID:b442145e257ca2bcf94a55896aed82f8
DTSTAMP:20260420T212507Z
SUMMARY:[männliche E-Jugend Runde] CVJM Kusterdingen e.V.  - EK Höfingen 
URL:https://www.eichenkreuzliga.de/handball/game/id/16267
DTSTART:20240224T134000
DTEND:20240224T144000
LOCATION:Falkensteinhalle\, 72582 Grabenstetten
END:VEVENT
BEGIN:VEVENT
UID:af926819563b023c055e1f3a83a365bb
DTSTAMP:20260420T212507Z
SUMMARY:[männliche E-Jugend Runde] CVJM  Walddorfhäslach  - CVJM Kusterdi
 ngen e.V. 
URL:https://www.eichenkreuzliga.de/handball/game/id/16269
DTSTART:20240309T130000
DTEND:20240309T140000
LOCATION:Ballspielhalle\, 72141 Walddorfhäslach
END:VEVENT
BEGIN:VEVENT
UID:ed9db0fc3b7d08394e4d9a6a55e96be3
DTSTAMP:20260420T212507Z
SUMMARY:[männliche E-Jugend Runde] CVJM  Walddorfhäslach 2 - CVJM Kusterd
 ingen e.V. 
URL:https://www.eichenkreuzliga.de/handball/game/id/16270
DTSTART:20240309T135000
DTEND:20240309T145000
LOCATION:Ballspielhalle\, 72141 Walddorfhäslach
END:VEVENT
BEGIN:VEVENT
UID:d2a15c490edff0e9143194c897756a82
DTSTAMP:20260420T212507Z
SUMMARY:[männliche E-Jugend Runde] CVJM  Walddorfhäslach  - CVJM Hülben 
URL:https://www.eichenkreuzliga.de/handball/game/id/16271
DTSTART:20240309T000000
DTEND:20240309T010000
LOCATION:Ballspielhalle\, 72141 Walddorfhäslach
END:VEVENT
BEGIN:VEVENT
UID:03c426ae83d24885698e18113e9435e0
DTSTAMP:20260420T212507Z
SUMMARY:[männliche E-Jugend Runde] CVJM  Walddorfhäslach 2 - CVJM Hülben
  
URL:https://www.eichenkreuzliga.de/handball/game/id/16272
DTSTART:20240309T000000
DTEND:20240309T010000
LOCATION:Ballspielhalle\, 72141 Walddorfhäslach
END:VEVENT
BEGIN:VEVENT
UID:fe1eba875b3f046390f2bd076d83ca5e
DTSTAMP:20260420T212507Z
SUMMARY:[männliche E-Jugend Runde] CVJM Enzweihingen D1 - CVJM Hagelloch -
  Kusterdingen 1
URL:https://www.eichenkreuzliga.de/handball/game/id/16273
DTSTART:20240309T151000
DTEND:20240309T161000
LOCATION:Schulsporthalle\, 71665 Enzweihingen
END:VEVENT
BEGIN:VEVENT
UID:62b272d447acabda6051b19957bfe8da
DTSTAMP:20260420T212507Z
SUMMARY:[männliche E-Jugend Runde] CVJM Enzweihingen D1 - EJW Münchingen 
URL:https://www.eichenkreuzliga.de/handball/game/id/16274
DTSTART:20240309T130000
DTEND:20240309T140000
LOCATION:Schulsporthalle\, 71665 Enzweihingen
END:VEVENT
BEGIN:VEVENT
UID:a35e935977c0a504f27119491efa9158
DTSTAMP:20260420T212507Z
SUMMARY:[männliche E-Jugend Runde] EJW Münchingen  - EK Bernhausen 1
URL:https://www.eichenkreuzliga.de/handball/game/id/16275
DTSTART:20240309T143000
DTEND:20240309T153000
LOCATION:Schulsporthalle\, 71665 Enzweihingen
END:VEVENT
BEGIN:VEVENT
UID:012e5fe41060145dfe949ef6e4e1d38b
DTSTAMP:20260420T212507Z
SUMMARY:[männliche E-Jugend Runde] CVJM Hagelloch - Kusterdingen 1 - EK Be
 rnhausen 1
URL:https://www.eichenkreuzliga.de/handball/game/id/16276
DTSTART:20240309T134000
DTEND:20240309T144000
LOCATION:Schulsporthalle\, 71665 Enzweihingen
END:VEVENT
BEGIN:VEVENT
UID:908c8700fd551a884e5654aff4e1f303
DTSTAMP:20260420T212507Z
SUMMARY:[männliche E-Jugend Runde] CVJM Möglingen  - CVJM Kirchentellinsf
 urt 
URL:https://www.eichenkreuzliga.de/handball/game/id/16277
DTSTART:20240309T110000
DTEND:20240309T120000
LOCATION:Stadionhalle\, 71696 Möglingen
END:VEVENT
BEGIN:VEVENT
UID:ca67e2c38410fc74a73caa8ba39e2298
DTSTAMP:20260420T212507Z
SUMMARY:[männliche E-Jugend Runde] CVJM Möglingen  - CVJM HB Dußlingen-G
 omaringen 1
URL:https://www.eichenkreuzliga.de/handball/game/id/16278
DTSTART:20240309T131000
DTEND:20240309T141000
LOCATION:Stadionhalle\, 71696 Möglingen
END:VEVENT
BEGIN:VEVENT
UID:bb4371f93a822417635412b6beb485bb
DTSTAMP:20260420T212507Z
SUMMARY:[männliche E-Jugend Runde] CVJM HB Dußlingen-Gomaringen 1 - EK K
 öngen 
URL:https://www.eichenkreuzliga.de/handball/game/id/16279
DTSTART:20240309T114000
DTEND:20240309T124000
LOCATION:Stadionhalle\, 71696 Möglingen
END:VEVENT
BEGIN:VEVENT
UID:59ec614d497dd8a3e36f7e9f29b5cbe0
DTSTAMP:20260420T212507Z
SUMMARY:[männliche E-Jugend Runde] CVJM Kirchentellinsfurt  - EK Köngen 
URL:https://www.eichenkreuzliga.de/handball/game/id/16280
DTSTART:20240309T123000
DTEND:20240309T133000
LOCATION:Stadionhalle\, 71696 Möglingen
END:VEVENT
BEGIN:VEVENT
UID:251f63e5279c784ed4889f85c6caad94
DTSTAMP:20260420T212507Z
SUMMARY:[männliche E-Jugend Runde] CVJM Hagelloch - Kusterdingen 1 - CVJM 
 HB Dußlingen-Gomaringen 1
URL:https://www.eichenkreuzliga.de/handball/game/id/16283
DTSTART:20231216T151000
DTEND:20231216T161000
LOCATION:Sporthalle\, 72138 Kirchentellinsfurt
END:VEVENT
BEGIN:VEVENT
UID:9d4bda6919a2162e5f6d704a723277a3
DTSTAMP:20260420T212507Z
SUMMARY:[männliche E-Jugend Runde] CVJM Hülben  - EK Köngen 
URL:https://www.eichenkreuzliga.de/handball/game/id/16284
DTSTART:20231216T000000
DTEND:20231216T010000
LOCATION:Stadionhalle\, 71696 Möglingen
END:VEVENT
BEGIN:VEVENT
UID:67352b43c6d2d5b02e528531fbe4a4f2
DTSTAMP:20260420T212507Z
SUMMARY:[männliche E-Jugend Runde] CVJM Möglingen  - CVJM Hülben 
URL:https://www.eichenkreuzliga.de/handball/game/id/16285
DTSTART:20231216T000000
DTEND:20231216T010000
LOCATION:Stadionhalle\, 71696 Möglingen
END:VEVENT
BEGIN:VEVENT
UID:0b6ce296bbb8b3dec007bf8ecf389696
DTSTAMP:20260420T212507Z
SUMMARY:[männliche E-Jugend Runde] CVJM  Walddorfhäslach  - CVJM Enzweihi
 ngen D1
URL:https://www.eichenkreuzliga.de/handball/game/id/16317
DTSTART:20240203T114000
DTEND:20240203T124000
LOCATION:Elisabeth-Selbert-Gymnasium Halle\, 70794 Bernhausen
END:VEVENT
BEGIN:VEVENT
UID:794ffb22b10c027dfb19152e8f8010fd
DTSTAMP:20260420T212507Z
SUMMARY:[männliche E-Jugend Runde] CVJM Kusterdingen e.V.  - CVJM SG Möss
 ingen/Belsen a.K.
URL:https://www.eichenkreuzliga.de/handball/game/id/16321
DTSTART:20240224T143000
DTEND:20240224T153000
LOCATION:Falkensteinhalle\, 72582 Grabenstetten
END:VEVENT
END:VCALENDAR
