BEGIN:VCALENDAR
PRODID:-//eluceo/ical//2.0/EN
VERSION:2.0
CALSCALE:GREGORIAN
BEGIN:VEVENT
UID:1ee7b727f167d496d72b1e44bc50fc82
DTSTAMP:20260424T160002Z
SUMMARY:[Herren LK1] CVJM Holzgerlingen  - CSV Kirchheim 
URL:https://www.eichenkreuzliga.de/fussball/game/id/16397
DTSTART:20230924T173000
DTEND:20230924T183000
LOCATION:\,  
END:VEVENT
BEGIN:VEVENT
UID:80eaa999b968ac32182092e2e5a6e400
DTSTAMP:20260424T160002Z
SUMMARY:[Herren LK1] CVJM Großbottwar  - SG Filder 
URL:https://www.eichenkreuzliga.de/fussball/game/id/16408
DTSTART:20230924T173000
DTEND:20230924T183000
LOCATION:\,  
END:VEVENT
BEGIN:VEVENT
UID:c160781914e529812d377137637ecedd
DTSTAMP:20260424T160002Z
SUMMARY:[Herren LK1] CVJM Weissach  - Kickers Plieningen 
URL:https://www.eichenkreuzliga.de/fussball/game/id/16409
DTSTART:20230923T170000
DTEND:20230923T180000
LOCATION:\,  
END:VEVENT
BEGIN:VEVENT
UID:641168639f5c8f77c570c92c7f291805
DTSTAMP:20260424T160002Z
SUMMARY:[Herren LK1] CSV Kirchheim  - CVJM Dettingen/Erms 
URL:https://www.eichenkreuzliga.de/fussball/game/id/16411
DTSTART:20231119T170000
DTEND:20231119T180000
LOCATION:\,  
END:VEVENT
BEGIN:VEVENT
UID:8e3f57f61c69e391f8439fa7f4359d57
DTSTAMP:20260424T160002Z
SUMMARY:[Herren LK1] Kickers Plieningen  - CVJM Großbottwar 
URL:https://www.eichenkreuzliga.de/fussball/game/id/16413
DTSTART:20240310T180000
DTEND:20240310T190000
LOCATION:\,  
END:VEVENT
BEGIN:VEVENT
UID:d353c5f8a2f1c3f81cc90d7ac3129dc8
DTSTAMP:20260424T160002Z
SUMMARY:[Herren LK1] EJ Malmsheim  - CVJM Weissach 
URL:https://www.eichenkreuzliga.de/fussball/game/id/16414
DTSTART:20231001T170000
DTEND:20231001T180000
LOCATION:\,  
END:VEVENT
BEGIN:VEVENT
UID:bacd6747f0deaa39e869a06f1e01540c
DTSTAMP:20260424T160002Z
SUMMARY:[Herren LK1] CVJM Dettingen/Erms  - SG Filder 
URL:https://www.eichenkreuzliga.de/fussball/game/id/16415
DTSTART:20231125T170000
DTEND:20231125T180000
LOCATION:\,  
END:VEVENT
BEGIN:VEVENT
UID:89c06585fb5a3f6471fcd44252a35f60
DTSTAMP:20260424T160002Z
SUMMARY:[Herren LK1] CVJM Holzgerlingen  - Kickers Plieningen 
URL:https://www.eichenkreuzliga.de/fussball/game/id/16416
DTSTART:20231126T160000
DTEND:20231126T170000
LOCATION:\,  
END:VEVENT
BEGIN:VEVENT
UID:be92ea11ee2eeb6b967b49b9057ad1ed
DTSTAMP:20260424T160002Z
SUMMARY:[Herren LK1] CVJM Großbottwar  - EJ Malmsheim 
URL:https://www.eichenkreuzliga.de/fussball/game/id/16417
DTSTART:20231008T173000
DTEND:20231008T183000
LOCATION:\,  
END:VEVENT
BEGIN:VEVENT
UID:456dc5568127cfc3c6c250df406dd408
DTSTAMP:20260424T160002Z
SUMMARY:[Herren LK1] CVJM Weissach  - CSV Kirchheim 
URL:https://www.eichenkreuzliga.de/fussball/game/id/16418
DTSTART:20231007T170000
DTEND:20231007T180000
LOCATION:\,  
END:VEVENT
BEGIN:VEVENT
UID:ae167039c47307753dd78baffffcb52e
DTSTAMP:20260424T160002Z
SUMMARY:[Herren LK1] SG Filder  - CVJM Weissach 
URL:https://www.eichenkreuzliga.de/fussball/game/id/16419
DTSTART:20231014T184500
DTEND:20231014T194500
LOCATION:\,  
END:VEVENT
BEGIN:VEVENT
UID:40949761f70679a75796ad9a46da4552
DTSTAMP:20260424T160002Z
SUMMARY:[Herren LK1] EJ Malmsheim  - CVJM Holzgerlingen 
URL:https://www.eichenkreuzliga.de/fussball/game/id/16420
DTSTART:20231014T170000
DTEND:20231014T180000
LOCATION:\,  
END:VEVENT
BEGIN:VEVENT
UID:dbdfd194df66d4c27876ca163b0f05bd
DTSTAMP:20260424T160002Z
SUMMARY:[Herren LK1] CSV Kirchheim  - CVJM Großbottwar 
URL:https://www.eichenkreuzliga.de/fussball/game/id/16421
DTSTART:20231015T180000
DTEND:20231015T190000
LOCATION:\,  
END:VEVENT
BEGIN:VEVENT
UID:03320cce2ebb4694c888d1cadc9fe8c8
DTSTAMP:20260424T160002Z
SUMMARY:[Herren LK1] Kickers Plieningen  - CVJM Dettingen/Erms 
URL:https://www.eichenkreuzliga.de/fussball/game/id/16422
DTSTART:20231015T150000
DTEND:20231015T160000
LOCATION:\,  
END:VEVENT
BEGIN:VEVENT
UID:86c6bb409641b582b2fe9f4f3a15b198
DTSTAMP:20260424T160002Z
SUMMARY:[Herren LK1] CVJM Weissach  - CVJM Dettingen/Erms 
URL:https://www.eichenkreuzliga.de/fussball/game/id/16424
DTSTART:20231021T173000
DTEND:20231021T183000
LOCATION:\,  
END:VEVENT
BEGIN:VEVENT
UID:590d97ac1f074dfa005f008d70b0993e
DTSTAMP:20260424T160002Z
SUMMARY:[Herren LK1] CSV Kirchheim  - SG Filder 
URL:https://www.eichenkreuzliga.de/fussball/game/id/16426
DTSTART:20231022T180000
DTEND:20231022T190000
LOCATION:\,  
END:VEVENT
BEGIN:VEVENT
UID:90a1a2c9a64ac163abd13ad031badc58
DTSTAMP:20260424T160002Z
SUMMARY:[Herren LK1] EJ Malmsheim  - Kickers Plieningen 
URL:https://www.eichenkreuzliga.de/fussball/game/id/16427
DTSTART:20231022T150000
DTEND:20231022T160000
LOCATION:\,  
END:VEVENT
BEGIN:VEVENT
UID:0183659678a917ecef531639d7ab572b
DTSTAMP:20260424T160002Z
SUMMARY:[Herren LK1] CVJM Holzgerlingen  - CVJM Dettingen/Erms 
URL:https://www.eichenkreuzliga.de/fussball/game/id/16428
DTSTART:20240407T160000
DTEND:20240407T170000
LOCATION:\,  
END:VEVENT
BEGIN:VEVENT
UID:7e9145b82675f37fb90bea4021061c70
DTSTAMP:20260424T160002Z
SUMMARY:[Herren LK1] CVJM Großbottwar  - CVJM Weissach 
URL:https://www.eichenkreuzliga.de/fussball/game/id/16429
DTSTART:20231029T173000
DTEND:20231029T183000
LOCATION:\,  
END:VEVENT
BEGIN:VEVENT
UID:41fb22d355b4c7a97b85b47c4c0970d6
DTSTAMP:20260424T160002Z
SUMMARY:[Herren LK1] CSV Kirchheim  - EJ Malmsheim 
URL:https://www.eichenkreuzliga.de/fussball/game/id/16430
DTSTART:20231029T180000
DTEND:20231029T190000
LOCATION:\,  
END:VEVENT
BEGIN:VEVENT
UID:8e9640afa1561f37760c722024b8e926
DTSTAMP:20260424T160002Z
SUMMARY:[Herren LK1] SG Filder  - Kickers Plieningen 
URL:https://www.eichenkreuzliga.de/fussball/game/id/16432
DTSTART:20231029T160000
DTEND:20231029T170000
LOCATION:\,  
END:VEVENT
BEGIN:VEVENT
UID:c33f2a367858f217627559103d3335e9
DTSTAMP:20260424T160002Z
SUMMARY:[Herren LK1] CVJM Holzgerlingen  - CVJM Weissach 
URL:https://www.eichenkreuzliga.de/fussball/game/id/16433
DTSTART:20231105T163000
DTEND:20231105T173000
LOCATION:\,  
END:VEVENT
BEGIN:VEVENT
UID:48cbaa11f876454632c210d07e616ecd
DTSTAMP:20260424T160002Z
SUMMARY:[Herren LK1] CVJM Dettingen/Erms  - CVJM Großbottwar 
URL:https://www.eichenkreuzliga.de/fussball/game/id/16434
DTSTART:20231104T170000
DTEND:20231104T180000
LOCATION:\,  
END:VEVENT
BEGIN:VEVENT
UID:a5cfcfeb0e129028e68252974ceb6add
DTSTAMP:20260424T160002Z
SUMMARY:[Herren LK1] Kickers Plieningen  - CSV Kirchheim 
URL:https://www.eichenkreuzliga.de/fussball/game/id/16435
DTSTART:20231105T180000
DTEND:20231105T190000
LOCATION:\,  
END:VEVENT
BEGIN:VEVENT
UID:19282feddcdbb3b82d6f6573e959af5b
DTSTAMP:20260424T160002Z
SUMMARY:[Herren LK1] EJ Malmsheim  - SG Filder 
URL:https://www.eichenkreuzliga.de/fussball/game/id/16436
DTSTART:20231105T160000
DTEND:20231105T170000
LOCATION:\,  
END:VEVENT
BEGIN:VEVENT
UID:109be32d4817686e9060a5bbc2cc4a98
DTSTAMP:20260424T160002Z
SUMMARY:[Herren LK1] CVJM Großbottwar  - CVJM Holzgerlingen 
URL:https://www.eichenkreuzliga.de/fussball/game/id/16937
DTSTART:20231022T173000
DTEND:20231022T183000
LOCATION:\,  
END:VEVENT
BEGIN:VEVENT
UID:94665a20b34a2a17f47b7223bbc7866f
DTSTAMP:20260424T160002Z
SUMMARY:[Herren LK1] SG Filder  - CVJM Holzgerlingen 
URL:https://www.eichenkreuzliga.de/fussball/game/id/16942
DTSTART:20231001T150000
DTEND:20231001T160000
LOCATION:\,  
END:VEVENT
BEGIN:VEVENT
UID:80c95d39f9865fdacd0e7fa408ece32d
DTSTAMP:20260424T160002Z
SUMMARY:[Herren LK1] CVJM Dettingen/Erms  - EJ Malmsheim 
URL:https://www.eichenkreuzliga.de/fussball/game/id/17253
DTSTART:20240508T190000
DTEND:20240508T200000
LOCATION:\,  
END:VEVENT
BEGIN:VEVENT
UID:d66e1af71304d756b8b3476ca6b9f5a0
DTSTAMP:20260424T160002Z
SUMMARY:[Herren LK1] CSV Kirchheim  - CVJM Holzgerlingen 
URL:https://www.eichenkreuzliga.de/fussball/game/id/17379
DTSTART:20240512T183000
DTEND:20240512T193000
LOCATION:\,  
END:VEVENT
BEGIN:VEVENT
UID:643c54583d5abf1449e29b743612d7b0
DTSTAMP:20260424T160002Z
SUMMARY:[Herren LK1] SG Filder  - CVJM Großbottwar 
URL:https://www.eichenkreuzliga.de/fussball/game/id/17380
DTSTART:20240414T173000
DTEND:20240414T183000
LOCATION:\,  
END:VEVENT
BEGIN:VEVENT
UID:0fc1e6f756a300b36d4fa4fd7417b980
DTSTAMP:20260424T160002Z
SUMMARY:[Herren LK1] Kickers Plieningen  - CVJM Weissach 
URL:https://www.eichenkreuzliga.de/fussball/game/id/17381
DTSTART:20240414T180000
DTEND:20240414T190000
LOCATION:\,  
END:VEVENT
BEGIN:VEVENT
UID:307a9f3fb5b547eb63a1aa89e1cb051f
DTSTAMP:20260424T160002Z
SUMMARY:[Herren LK1] EJ Malmsheim  - CVJM Dettingen/Erms 
URL:https://www.eichenkreuzliga.de/fussball/game/id/17382
DTSTART:20240414T160000
DTEND:20240414T170000
LOCATION:\,  
END:VEVENT
BEGIN:VEVENT
UID:ae9c79a0d27659d3fc7720b2f34f4714
DTSTAMP:20260424T160002Z
SUMMARY:[Herren LK1] CVJM Dettingen/Erms  - CSV Kirchheim 
URL:https://www.eichenkreuzliga.de/fussball/game/id/17383
DTSTART:20240420T170000
DTEND:20240420T180000
LOCATION:\,  
END:VEVENT
BEGIN:VEVENT
UID:53e4266307756b94ee3d5306eafcaf79
DTSTAMP:20260424T160002Z
SUMMARY:[Herren LK1] CVJM Holzgerlingen  - SG Filder 
URL:https://www.eichenkreuzliga.de/fussball/game/id/17384
DTSTART:20240324T170000
DTEND:20240324T180000
LOCATION:\,  
END:VEVENT
BEGIN:VEVENT
UID:18eb65cfb980abf104b65d02a978068d
DTSTAMP:20260424T160002Z
SUMMARY:[Herren LK1] CVJM Großbottwar  - Kickers Plieningen 
URL:https://www.eichenkreuzliga.de/fussball/game/id/17385
DTSTART:20240421T173000
DTEND:20240421T183000
LOCATION:\,  
END:VEVENT
BEGIN:VEVENT
UID:dd5707bab62094f2decf92ec9a277831
DTSTAMP:20260424T160002Z
SUMMARY:[Herren LK1] CVJM Weissach  - EJ Malmsheim 
URL:https://www.eichenkreuzliga.de/fussball/game/id/17386
DTSTART:20240420T163000
DTEND:20240420T173000
LOCATION:\,  
END:VEVENT
BEGIN:VEVENT
UID:ab97b51a94773b549eb013fbfea60e41
DTSTAMP:20260424T160002Z
SUMMARY:[Herren LK1] SG Filder  - CVJM Dettingen/Erms 
URL:https://www.eichenkreuzliga.de/fussball/game/id/17387
DTSTART:20240428T173000
DTEND:20240428T183000
LOCATION:\,  
END:VEVENT
BEGIN:VEVENT
UID:527fcf2f2db2f2c62897697dc8c7d0a3
DTSTAMP:20260424T160002Z
SUMMARY:[Herren LK1] Kickers Plieningen  - CVJM Holzgerlingen 
URL:https://www.eichenkreuzliga.de/fussball/game/id/17388
DTSTART:20240515T193000
DTEND:20240515T203000
LOCATION:\,  
END:VEVENT
BEGIN:VEVENT
UID:8e839b35d056e9287f686eec36059a09
DTSTAMP:20260424T160002Z
SUMMARY:[Herren LK1] EJ Malmsheim  - CVJM Großbottwar 
URL:https://www.eichenkreuzliga.de/fussball/game/id/17389
DTSTART:20240428T170000
DTEND:20240428T180000
LOCATION:\,  
END:VEVENT
BEGIN:VEVENT
UID:c53a8609cf863ff92cc0123e5f57f70f
DTSTAMP:20260424T160002Z
SUMMARY:[Herren LK1] CSV Kirchheim  - CVJM Weissach 
URL:https://www.eichenkreuzliga.de/fussball/game/id/17390
DTSTART:20240428T173000
DTEND:20240428T183000
LOCATION:\,  
END:VEVENT
BEGIN:VEVENT
UID:9737e986fb762ee07ba8c835cd1dff44
DTSTAMP:20260424T160002Z
SUMMARY:[Herren LK1] CVJM Weissach  - SG Filder 
URL:https://www.eichenkreuzliga.de/fussball/game/id/17391
DTSTART:20240623T180000
DTEND:20240623T190000
LOCATION:\,  
END:VEVENT
BEGIN:VEVENT
UID:98298d659ebcf9637614ee4928c67de7
DTSTAMP:20260424T160002Z
SUMMARY:[Herren LK1] CVJM Dettingen/Erms  - Kickers Plieningen 
URL:https://www.eichenkreuzliga.de/fussball/game/id/17392
DTSTART:20240503T190000
DTEND:20240503T200000
LOCATION:\,  
END:VEVENT
BEGIN:VEVENT
UID:96d16fb46a916b39e30461ae80be0488
DTSTAMP:20260424T160002Z
SUMMARY:[Herren LK1] CVJM Holzgerlingen  - EJ Malmsheim 
URL:https://www.eichenkreuzliga.de/fussball/game/id/17393
DTSTART:20240505T170000
DTEND:20240505T180000
LOCATION:\,  
END:VEVENT
BEGIN:VEVENT
UID:f7bd4d6eef392d3c4f464e8405874b2c
DTSTAMP:20260424T160002Z
SUMMARY:[Herren LK1] CVJM Großbottwar  - CSV Kirchheim 
URL:https://www.eichenkreuzliga.de/fussball/game/id/17394
DTSTART:20240505T173000
DTEND:20240505T183000
LOCATION:\,  
END:VEVENT
BEGIN:VEVENT
UID:7ce8158df11242c9577deecf4224d221
DTSTAMP:20260424T160002Z
SUMMARY:[Herren LK1] CVJM Holzgerlingen  - CVJM Großbottwar 
URL:https://www.eichenkreuzliga.de/fussball/game/id/17395
DTSTART:20240526T170000
DTEND:20240526T180000
LOCATION:\,  
END:VEVENT
BEGIN:VEVENT
UID:043e388044dfc8586fbae4f6895885d1
DTSTAMP:20260424T160002Z
SUMMARY:[Herren LK1] CVJM Dettingen/Erms  - CVJM Weissach 
URL:https://www.eichenkreuzliga.de/fussball/game/id/17396
DTSTART:20240525T170000
DTEND:20240525T180000
LOCATION:\,  
END:VEVENT
BEGIN:VEVENT
UID:4d48d06d070f5a7a1d9b3d02399aab53
DTSTAMP:20260424T160002Z
SUMMARY:[Herren LK1] SG Filder  - CSV Kirchheim 
URL:https://www.eichenkreuzliga.de/fussball/game/id/17397
DTSTART:20240526T173000
DTEND:20240526T183000
LOCATION:\,  
END:VEVENT
BEGIN:VEVENT
UID:491bbaeb905f91911a1bef020b8a8ce2
DTSTAMP:20260424T160002Z
SUMMARY:[Herren LK1] Kickers Plieningen  - EJ Malmsheim 
URL:https://www.eichenkreuzliga.de/fussball/game/id/17398
DTSTART:20240526T180000
DTEND:20240526T190000
LOCATION:\,  
END:VEVENT
BEGIN:VEVENT
UID:ded384c1d7746294131929589ef08735
DTSTAMP:20260424T160002Z
SUMMARY:[Herren LK1] CVJM Weissach  - CVJM Großbottwar 
URL:https://www.eichenkreuzliga.de/fussball/game/id/17400
DTSTART:20240602T150000
DTEND:20240602T160000
LOCATION:\,  
END:VEVENT
BEGIN:VEVENT
UID:8b62d40bd65810d9a348b77cad9d36c5
DTSTAMP:20260424T160002Z
SUMMARY:[Herren LK1] EJ Malmsheim  - CSV Kirchheim 
URL:https://www.eichenkreuzliga.de/fussball/game/id/17401
DTSTART:20240602T153000
DTEND:20240602T163000
LOCATION:\,  
END:VEVENT
BEGIN:VEVENT
UID:7631b3c9c154008de3742b61a57d508a
DTSTAMP:20260424T160002Z
SUMMARY:[Herren LK1] Kickers Plieningen  - SG Filder 
URL:https://www.eichenkreuzliga.de/fussball/game/id/17402
DTSTART:20240602T170000
DTEND:20240602T180000
LOCATION:\,  
END:VEVENT
BEGIN:VEVENT
UID:db79fbf1538079cf5080e2742382682b
DTSTAMP:20260424T160002Z
SUMMARY:[Herren LK1] CVJM Weissach  - CVJM Holzgerlingen 
URL:https://www.eichenkreuzliga.de/fussball/game/id/17403
DTSTART:20240609T180000
DTEND:20240609T190000
LOCATION:\,  
END:VEVENT
BEGIN:VEVENT
UID:a79a1f84b654044efb0ba2481ea34c3c
DTSTAMP:20260424T160002Z
SUMMARY:[Herren LK1] CVJM Großbottwar  - CVJM Dettingen/Erms 
URL:https://www.eichenkreuzliga.de/fussball/game/id/17404
DTSTART:20240609T180000
DTEND:20240609T190000
LOCATION:\,  
END:VEVENT
BEGIN:VEVENT
UID:60d8344e6621530461254c444afbdd9b
DTSTAMP:20260424T160002Z
SUMMARY:[Herren LK1] CSV Kirchheim  - Kickers Plieningen 
URL:https://www.eichenkreuzliga.de/fussball/game/id/17405
DTSTART:20240609T173000
DTEND:20240609T183000
LOCATION:\,  
END:VEVENT
BEGIN:VEVENT
UID:07d333feabb9fecd524b4075e23f340c
DTSTAMP:20260424T160002Z
SUMMARY:[Herren LK1] SG Filder  - EJ Malmsheim 
URL:https://www.eichenkreuzliga.de/fussball/game/id/17406
DTSTART:20240616T150000
DTEND:20240616T160000
LOCATION:\,  
END:VEVENT
BEGIN:VEVENT
UID:45828f98bfd4b8b031e04c420ab652eb
DTSTAMP:20260424T160002Z
SUMMARY:[Herren LK1] CVJM Dettingen/Erms  - CVJM Holzgerlingen 
URL:https://www.eichenkreuzliga.de/fussball/game/id/17407
DTSTART:20240626T193000
DTEND:20240626T203000
LOCATION:\,  
END:VEVENT
END:VCALENDAR
