BEGIN:VCALENDAR
PRODID:-//eluceo/ical//2.0/EN
VERSION:2.0
CALSCALE:GREGORIAN
BEGIN:VEVENT
UID:48e9812d38ed76e7b6a6fb179fdb7ddb
DTSTAMP:20260423T155007Z
SUMMARY:[Herren LK3] EK Dettingen/Teck  - CVJM Heidenheim 
URL:https://www.eichenkreuzliga.de/fussball/game/id/19717
DTSTART:20260308T160000
DTEND:20260308T170000
LOCATION:\,  
END:VEVENT
BEGIN:VEVENT
UID:a5676e7bff5646c77953f4481d6721ce
DTSTAMP:20260423T155007Z
SUMMARY:[Herren LK3] CVJM Renningen  - CSK Weinstadt 2
URL:https://www.eichenkreuzliga.de/fussball/game/id/19718
DTSTART:20250920T000000
DTEND:20250920T010000
LOCATION:\,  
END:VEVENT
BEGIN:VEVENT
UID:3b8a7611edd2820bf218c6cab792437c
DTSTAMP:20260423T155007Z
SUMMARY:[Herren LK3] EK Wolfschlugen  - Christusbund Friolzheim 
URL:https://www.eichenkreuzliga.de/fussball/game/id/19719
DTSTART:20250921T150000
DTEND:20250921T160000
LOCATION:\,  
END:VEVENT
BEGIN:VEVENT
UID:11474949890266c40c0204e549f04295
DTSTAMP:20260423T155007Z
SUMMARY:[Herren LK3] CVJM Heidenheim  - CVJM Renningen 
URL:https://www.eichenkreuzliga.de/fussball/game/id/19720
DTSTART:20250928T170000
DTEND:20250928T180000
LOCATION:\,  
END:VEVENT
BEGIN:VEVENT
UID:3e3cc951448431501f9f6d2147fe7761
DTSTAMP:20260423T155007Z
SUMMARY:[Herren LK3] Christusbund Friolzheim  - EK Dettingen/Teck 
URL:https://www.eichenkreuzliga.de/fussball/game/id/19721
DTSTART:20250928T180000
DTEND:20250928T190000
LOCATION:\,  
END:VEVENT
BEGIN:VEVENT
UID:2c2bfbe2d9e4ab51c2a4aaced52d320f
DTSTAMP:20260423T155007Z
SUMMARY:[Herren LK3] CSK Weinstadt 2 - EK Wolfschlugen 
URL:https://www.eichenkreuzliga.de/fussball/game/id/19722
DTSTART:20251102T150000
DTEND:20251102T160000
LOCATION:\,  
END:VEVENT
BEGIN:VEVENT
UID:9cdbdafb872866ffde6ef9df045372c3
DTSTAMP:20260423T155007Z
SUMMARY:[Herren LK3] EK Dettingen/Teck  - CSK Weinstadt 2
URL:https://www.eichenkreuzliga.de/fussball/game/id/19723
DTSTART:20251123T150000
DTEND:20251123T160000
LOCATION:\,  
END:VEVENT
BEGIN:VEVENT
UID:c412b0dc4dbe5a9975733a953bc07f20
DTSTAMP:20260423T155007Z
SUMMARY:[Herren LK3] CVJM Renningen  - EK Wolfschlugen 
URL:https://www.eichenkreuzliga.de/fussball/game/id/19724
DTSTART:20251116T170000
DTEND:20251116T180000
LOCATION:\,  
END:VEVENT
BEGIN:VEVENT
UID:83eed4a0f79eba66d1a4b17dac742bd2
DTSTAMP:20260423T155007Z
SUMMARY:[Herren LK3] CVJM Heidenheim  - Christusbund Friolzheim 
URL:https://www.eichenkreuzliga.de/fussball/game/id/19725
DTSTART:20251026T153000
DTEND:20251026T163000
LOCATION:\,  
END:VEVENT
BEGIN:VEVENT
UID:6147dffab2503723de90622f20401015
DTSTAMP:20260423T155007Z
SUMMARY:[Herren LK3] EK Wolfschlugen  - EK Dettingen/Teck 
URL:https://www.eichenkreuzliga.de/fussball/game/id/19726
DTSTART:20251012T150000
DTEND:20251012T160000
LOCATION:\,  
END:VEVENT
BEGIN:VEVENT
UID:bd46385e41bd041c70973ee02ecb14f6
DTSTAMP:20260423T155007Z
SUMMARY:[Herren LK3] Christusbund Friolzheim  - CVJM Renningen 
URL:https://www.eichenkreuzliga.de/fussball/game/id/19727
DTSTART:20251012T180000
DTEND:20251012T190000
LOCATION:\,  
END:VEVENT
BEGIN:VEVENT
UID:650bb5d9684fe1ac2277bc47b1912230
DTSTAMP:20260423T155007Z
SUMMARY:[Herren LK3] CSK Weinstadt 2 - CVJM Heidenheim 
URL:https://www.eichenkreuzliga.de/fussball/game/id/19728
DTSTART:20250914T153000
DTEND:20250914T163000
LOCATION:\,  
END:VEVENT
BEGIN:VEVENT
UID:de40b6c41f26c5f5bb83a5e5cef0d412
DTSTAMP:20260423T155007Z
SUMMARY:[Herren LK3] EK Dettingen/Teck  - CVJM Renningen 
URL:https://www.eichenkreuzliga.de/fussball/game/id/19729
DTSTART:20251207T170000
DTEND:20251207T180000
LOCATION:\,  
END:VEVENT
BEGIN:VEVENT
UID:a34d4917bee3a2a87ac717a8abdf160f
DTSTAMP:20260423T155007Z
SUMMARY:[Herren LK3] EK Wolfschlugen  - CVJM Heidenheim 
URL:https://www.eichenkreuzliga.de/fussball/game/id/19730
DTSTART:20251123T143000
DTEND:20251123T153000
LOCATION:\,  
END:VEVENT
BEGIN:VEVENT
UID:a778cb74565b3c23dadaa42b0af3600f
DTSTAMP:20260423T155007Z
SUMMARY:[Herren LK3] Christusbund Friolzheim  - CSK Weinstadt 2
URL:https://www.eichenkreuzliga.de/fussball/game/id/19731
DTSTART:20251019T180000
DTEND:20251019T190000
LOCATION:\,  
END:VEVENT
BEGIN:VEVENT
UID:34a2043ebf98c05483cd4e126e88c876
DTSTAMP:20260423T155007Z
SUMMARY:[Herren LK3] CVJM Heidenheim  - EK Dettingen/Teck 
URL:https://www.eichenkreuzliga.de/fussball/game/id/19836
DTSTART:20260531T160000
DTEND:20260531T170000
LOCATION:\,  
END:VEVENT
BEGIN:VEVENT
UID:b8f132b5e5a2f14ad4d243f6bb806355
DTSTAMP:20260423T155007Z
SUMMARY:[Herren LK3] CSK Weinstadt 2 - CVJM Renningen 
URL:https://www.eichenkreuzliga.de/fussball/game/id/19837
DTSTART:20260329T163000
DTEND:20260329T173000
LOCATION:\,  
END:VEVENT
BEGIN:VEVENT
UID:1527539981c017acd256246b28c7efd1
DTSTAMP:20260423T155007Z
SUMMARY:[Herren LK3] Christusbund Friolzheim  - EK Wolfschlugen 
URL:https://www.eichenkreuzliga.de/fussball/game/id/19838
DTSTART:20260329T150000
DTEND:20260329T160000
LOCATION:\,  
END:VEVENT
BEGIN:VEVENT
UID:4f60af37801a9e68a499e75682f844dd
DTSTAMP:20260423T155007Z
SUMMARY:[Herren LK3] CVJM Renningen  - CVJM Heidenheim 
URL:https://www.eichenkreuzliga.de/fussball/game/id/19839
DTSTART:20260412T160000
DTEND:20260412T170000
LOCATION:\,  
END:VEVENT
BEGIN:VEVENT
UID:de282c03dc7b302262cac759e17c8122
DTSTAMP:20260423T155007Z
SUMMARY:[Herren LK3] EK Dettingen/Teck  - Christusbund Friolzheim 
URL:https://www.eichenkreuzliga.de/fussball/game/id/19840
DTSTART:20260412T160000
DTEND:20260412T170000
LOCATION:\,  
END:VEVENT
BEGIN:VEVENT
UID:8a74a3e9ad94599d1baec898fcce17d0
DTSTAMP:20260423T155007Z
SUMMARY:[Herren LK3] EK Wolfschlugen  - CSK Weinstadt 2
URL:https://www.eichenkreuzliga.de/fussball/game/id/19841
DTSTART:20260607T140000
DTEND:20260607T150000
LOCATION:\,  
END:VEVENT
BEGIN:VEVENT
UID:116f082705bff3979e994f4dd623d9ef
DTSTAMP:20260423T155007Z
SUMMARY:[Herren LK3] CSK Weinstadt 2 - EK Dettingen/Teck 
URL:https://www.eichenkreuzliga.de/fussball/game/id/19842
DTSTART:20260418T000000
DTEND:20260418T010000
LOCATION:\,  
END:VEVENT
BEGIN:VEVENT
UID:311bd1a5f9e371ea0d8880f12b291f8f
DTSTAMP:20260423T155007Z
SUMMARY:[Herren LK3] EK Wolfschlugen  - CVJM Renningen 
URL:https://www.eichenkreuzliga.de/fussball/game/id/19843
DTSTART:20260322T170000
DTEND:20260322T180000
LOCATION:\,  
END:VEVENT
BEGIN:VEVENT
UID:fe92ee207492523898d50ac119365553
DTSTAMP:20260423T155007Z
SUMMARY:[Herren LK3] Christusbund Friolzheim  - CVJM Heidenheim 
URL:https://www.eichenkreuzliga.de/fussball/game/id/19844
DTSTART:20260419T150000
DTEND:20260419T160000
LOCATION:\,  
END:VEVENT
BEGIN:VEVENT
UID:32e2536102e9f4e0d391193074da5f94
DTSTAMP:20260423T155007Z
SUMMARY:[Herren LK3] EK Dettingen/Teck  - EK Wolfschlugen 
URL:https://www.eichenkreuzliga.de/fussball/game/id/19845
DTSTART:20260426T160000
DTEND:20260426T170000
LOCATION:\,  
END:VEVENT
BEGIN:VEVENT
UID:811235dfa393b15d5bffb9682e85e010
DTSTAMP:20260423T155007Z
SUMMARY:[Herren LK3] CVJM Renningen  - Christusbund Friolzheim 
URL:https://www.eichenkreuzliga.de/fussball/game/id/19846
DTSTART:20260426T170000
DTEND:20260426T180000
LOCATION:\,  
END:VEVENT
BEGIN:VEVENT
UID:48181dcff1f2ed510916e31ca097c998
DTSTAMP:20260423T155007Z
SUMMARY:[Herren LK3] CVJM Heidenheim  - CSK Weinstadt 2
URL:https://www.eichenkreuzliga.de/fussball/game/id/19847
DTSTART:20260517T150000
DTEND:20260517T160000
LOCATION:\,  
END:VEVENT
BEGIN:VEVENT
UID:c9ca4abaf0196b47334db806b34a4879
DTSTAMP:20260423T155007Z
SUMMARY:[Herren LK3] CVJM Renningen  - EK Dettingen/Teck 
URL:https://www.eichenkreuzliga.de/fussball/game/id/19848
DTSTART:20260517T170000
DTEND:20260517T180000
LOCATION:\,  
END:VEVENT
BEGIN:VEVENT
UID:6ab4598d0dc5ca1a71e9d627d246117d
DTSTAMP:20260423T155007Z
SUMMARY:[Herren LK3] CVJM Heidenheim  - EK Wolfschlugen 
URL:https://www.eichenkreuzliga.de/fussball/game/id/19849
DTSTART:20260503T150000
DTEND:20260503T160000
LOCATION:\,  
END:VEVENT
BEGIN:VEVENT
UID:d6e91f9c2e52c81f9873697634830eae
DTSTAMP:20260423T155007Z
SUMMARY:[Herren LK3] CSK Weinstadt 2 - Christusbund Friolzheim 
URL:https://www.eichenkreuzliga.de/fussball/game/id/19850
DTSTART:20260621T173000
DTEND:20260621T183000
LOCATION:\,  
END:VEVENT
END:VCALENDAR
