BEGIN:VCALENDAR
PRODID:-//eluceo/ical//2.0/EN
VERSION:2.0
CALSCALE:GREGORIAN
BEGIN:VEVENT
UID:c2bd5e2f9bc74c5d3da0dfc707977e9d
DTSTAMP:20260422T113532Z
SUMMARY:[männliche D-Jugend Runde] CVJM Hagelloch  - CVJM Enzweihingen 
URL:https://www.eichenkreuzliga.de/handball/game/id/10213
DTSTART:20200119T144000
DTEND:20200119T154000
LOCATION:Sporthalle Waldhäuser-Ost\, 72076 Tübingen
END:VEVENT
END:VCALENDAR
