BEGIN:VCALENDAR
PRODID:-//eluceo/ical//2.0/EN
VERSION:2.0
CALSCALE:GREGORIAN
BEGIN:VEVENT
UID:2b1e4fe903a0df80e8f42ad55d4b1e20
DTSTAMP:20260422T071035Z
SUMMARY:[männliche D-Jugend Runde] EJW Münchingen  - CVJM Enzweihingen 
URL:https://www.eichenkreuzliga.de/handball/game/id/10218
DTSTART:20200216T130000
DTEND:20200216T140000
LOCATION:Sporthalle Münchingen\, 70825 Korntal-Münchingen
END:VEVENT
END:VCALENDAR
