BEGIN:VCALENDAR
PRODID:-//eluceo/ical//2.0/EN
VERSION:2.0
CALSCALE:GREGORIAN
BEGIN:VEVENT
UID:3a968afa91bb85b5b3855c3963b32a67
DTSTAMP:20260422T071035Z
SUMMARY:[männliche D-Jugend Runde] EJW Münchingen  - CVJM Hagelloch 
URL:https://www.eichenkreuzliga.de/handball/game/id/10221
DTSTART:20200216T144000
DTEND:20200216T154000
LOCATION:Sporthalle Münchingen\, 70825 Korntal-Münchingen
END:VEVENT
END:VCALENDAR
