BEGIN:VCALENDAR
PRODID:-//eluceo/ical//2.0/EN
VERSION:2.0
CALSCALE:GREGORIAN
BEGIN:VEVENT
UID:6645559e81d92cbe2b6230c1ec00104f
DTSTAMP:20260422T100414Z
SUMMARY:[männliche C-Jugend Runde] EK Höfingen  - CVJM Enzweihingen 
URL:https://www.eichenkreuzliga.de/handball/game/id/10389
DTSTART:20200307T140000
DTEND:20200307T150000
LOCATION:Strohgäuhalle\, 71229 Höfingen
END:VEVENT
END:VCALENDAR
