BEGIN:VCALENDAR
PRODID:-//eluceo/ical//2.0/EN
VERSION:2.0
CALSCALE:GREGORIAN
BEGIN:VEVENT
UID:2d41f2204f1eaa1a7b58ef22ceb8d9b4
DTSTAMP:20260422T071031Z
SUMMARY:[männliche C-Jugend Runde] CVJM SG Mössingen/Belsen  - EJW Münch
 ingen 
URL:https://www.eichenkreuzliga.de/handball/game/id/10400
DTSTART:20191201T133000
DTEND:20191201T143000
LOCATION:Jahnhalle 2\, 72116 Mössingen
END:VEVENT
END:VCALENDAR
