BEGIN:VCALENDAR
PRODID:-//eluceo/ical//2.0/EN
VERSION:2.0
CALSCALE:GREGORIAN
BEGIN:VEVENT
UID:5ed117f905d7649f3acf9baae46246ba
DTSTAMP:20260422T113448Z
SUMMARY:[männliche C-Jugend Runde] CVJM Hagelloch  - EJW Münchingen 
URL:https://www.eichenkreuzliga.de/handball/game/id/10401
DTSTART:20200119T170000
DTEND:20200119T180000
LOCATION:Sporthalle Waldhäuser-Ost\, 72076 Tübingen
END:VEVENT
END:VCALENDAR
