BEGIN:VCALENDAR
PRODID:-//eluceo/ical//2.0/EN
VERSION:2.0
CALSCALE:GREGORIAN
BEGIN:VEVENT
UID:42725da2e81c06f15ca7c23e324d3624
DTSTAMP:20260422T071019Z
SUMMARY:[männliche C-Jugend Runde] CVJM HB Dußlingen-Gomaringen 1 - CVJM 
 SG Mössingen/Belsen 
URL:https://www.eichenkreuzliga.de/handball/game/id/10404
DTSTART:20191019T121500
DTEND:20191019T131500
LOCATION:Hönisch Sporthalle\, 72144 Dusslingen
END:VEVENT
END:VCALENDAR
