BEGIN:VCALENDAR
PRODID:-//eluceo/ical//2.0/EN
VERSION:2.0
CALSCALE:GREGORIAN
BEGIN:VEVENT
UID:199825f4d2080bfdc322a3982e84925b
DTSTAMP:20260422T071036Z
SUMMARY:[männliche C-Jugend Runde] CVJM Hagelloch  - CVJM SG Mössingen/Be
 lsen 
URL:https://www.eichenkreuzliga.de/handball/game/id/10405
DTSTART:20200307T150000
DTEND:20200307T160000
LOCATION:Sporthalle Waldhäuser-Ost\, 72076 Tübingen
END:VEVENT
END:VCALENDAR
