BEGIN:VCALENDAR
PRODID:-//eluceo/ical//2.0/EN
VERSION:2.0
CALSCALE:GREGORIAN
BEGIN:VEVENT
UID:5088355eac993c2534a353d5f5236cfa
DTSTAMP:20260422T071035Z
SUMMARY:[männliche C-Jugend Runde] CVJM Hagelloch  - CVJM HB Dußlingen-Go
 maringen 1
URL:https://www.eichenkreuzliga.de/handball/game/id/10410
DTSTART:20191109T130000
DTEND:20191109T140000
LOCATION:Sporthalle Waldhäuser-Ost\, 72076 Tübingen
END:VEVENT
END:VCALENDAR
