BEGIN:VCALENDAR
PRODID:-//eluceo/ical//2.0/EN
VERSION:2.0
CALSCALE:GREGORIAN
BEGIN:VEVENT
UID:652bbb5539b2497f2fbaf818a3dc52cd
DTSTAMP:20260422T055235Z
SUMMARY:[Männer LK 2] EK Köngen 1b - CVJM Hagelloch - Kusterdingen 1
URL:https://www.eichenkreuzliga.de/handball/game/id/10591
DTSTART:20200215T180000
DTEND:20200215T190000
LOCATION:Burgschulhalle\, 73257 Köngen
END:VEVENT
END:VCALENDAR
