BEGIN:VCALENDAR
PRODID:-//eluceo/ical//2.0/EN
VERSION:2.0
CALSCALE:GREGORIAN
BEGIN:VEVENT
UID:e992a9e69fd16081cf35d1a75d522316
DTSTAMP:20260422T100450Z
SUMMARY:[weibliche B-Jugend Runde] CVJM Hülben  - CVJM HB Dußlingen-Gomar
 ingen 
URL:https://www.eichenkreuzliga.de/handball/game/id/10636
DTSTART:20200328T154000
DTEND:20200328T164000
LOCATION:Sporthalle Waldhäuser-Ost\, 72076 Tübingen
END:VEVENT
END:VCALENDAR
