BEGIN:VCALENDAR
PRODID:-//eluceo/ical//2.0/EN
VERSION:2.0
CALSCALE:GREGORIAN
BEGIN:VEVENT
UID:d3d471609ce2adc4aafd30e29aacb149
DTSTAMP:20260422T100254Z
SUMMARY:[weibliche B-Jugend Runde] CVJM Hülben  - CVJM SG Mössingen/Belse
 n 
URL:https://www.eichenkreuzliga.de/handball/game/id/10639
DTSTART:20191116T140000
DTEND:20191116T150000
LOCATION:Falkensteinhalle\, 72582 Grabenstetten
END:VEVENT
END:VCALENDAR
