BEGIN:VCALENDAR
PRODID:-//eluceo/ical//2.0/EN
VERSION:2.0
CALSCALE:GREGORIAN
BEGIN:VEVENT
UID:d2087b44d48f4f6bdcc94925751b3a0b
DTSTAMP:20260422T083530Z
SUMMARY:[weibliche B-Jugend Runde] CVJM Hülben  - CVJM HB Dußlingen-Gomar
 ingen 
URL:https://www.eichenkreuzliga.de/handball/game/id/10641
DTSTART:20200125T150000
DTEND:20200125T160000
LOCATION:Falkensteinhalle\, 72582 Grabenstetten
END:VEVENT
END:VCALENDAR
