BEGIN:VCALENDAR
PRODID:-//eluceo/ical//2.0/EN
VERSION:2.0
CALSCALE:GREGORIAN
BEGIN:VEVENT
UID:3a9e335560482733b5bc8e0508fe6fe7
DTSTAMP:20260422T071035Z
SUMMARY:[weibliche B-Jugend Runde] CVJM Hülben  - CVJM Hagelloch 
URL:https://www.eichenkreuzliga.de/handball/game/id/10642
DTSTART:20200322T160000
DTEND:20200322T170000
LOCATION:Falkensteinhalle\, 72582 Grabenstetten
END:VEVENT
END:VCALENDAR
