BEGIN:VCALENDAR
PRODID:-//eluceo/ical//2.0/EN
VERSION:2.0
CALSCALE:GREGORIAN
BEGIN:VEVENT
UID:f7a4b5cac540b9e54d87614ddd470160
DTSTAMP:20260422T100259Z
SUMMARY:[weibliche B-Jugend Runde] CVJM Hagelloch  - EK Bernhausen 
URL:https://www.eichenkreuzliga.de/handball/game/id/10644
DTSTART:20200328T142000
DTEND:20200328T152000
LOCATION:Sporthalle Waldhäuser-Ost\, 72076 Tübingen
END:VEVENT
END:VCALENDAR
