BEGIN:VCALENDAR
PRODID:-//eluceo/ical//2.0/EN
VERSION:2.0
CALSCALE:GREGORIAN
BEGIN:VEVENT
UID:4db1e80c1ce569cb43c2908f587f2721
DTSTAMP:20260422T100329Z
SUMMARY:[weibliche B-Jugend Runde] CVJM Hagelloch  - CVJM HB Dußlingen-Gom
 aringen 
URL:https://www.eichenkreuzliga.de/handball/game/id/10645
DTSTART:20200308T162000
DTEND:20200308T172000
LOCATION:Hönisch Sporthalle\, 72144 Dusslingen
END:VEVENT
END:VCALENDAR
