BEGIN:VCALENDAR
PRODID:-//eluceo/ical//2.0/EN
VERSION:2.0
CALSCALE:GREGORIAN
BEGIN:VEVENT
UID:f1465c69241b0a9f8a39fb37f98177ce
DTSTAMP:20260422T125721Z
SUMMARY:[weibliche B-Jugend Runde] CVJM SG Mössingen/Belsen  - CVJM Hagell
 och 
URL:https://www.eichenkreuzliga.de/handball/game/id/10649
DTSTART:20191013T163000
DTEND:20191013T173000
LOCATION:Jahnhalle 2\, 72116 Mössingen
END:VEVENT
END:VCALENDAR
