BEGIN:VCALENDAR
PRODID:-//eluceo/ical//2.0/EN
VERSION:2.0
CALSCALE:GREGORIAN
BEGIN:VEVENT
UID:2df8e14c4a957bc4f4cd64e5026de9b2
DTSTAMP:20260422T071030Z
SUMMARY:[weibliche B-Jugend Runde] CVJM HB Dußlingen-Gomaringen  - CVJM Ha
 gelloch 
URL:https://www.eichenkreuzliga.de/handball/game/id/10665
DTSTART:20200118T161500
DTEND:20200118T171500
LOCATION:Hönisch Sporthalle\, 72144 Dusslingen
END:VEVENT
END:VCALENDAR
