BEGIN:VCALENDAR
PRODID:-//eluceo/ical//2.0/EN
VERSION:2.0
CALSCALE:GREGORIAN
BEGIN:VEVENT
UID:1b668150338f0caa139c6a6ed56810ff
DTSTAMP:20260422T113453Z
SUMMARY:[männliche D-Jugend Finalspiele] CVJM  Walddorfhäslach  - CVJM En
 zweihingen 
URL:https://www.eichenkreuzliga.de/handball/game/id/10907
DTSTART:20200315T130000
DTEND:20200315T140000
LOCATION:Sporthalle\, 72138 Kirchentellinsfurt
END:VEVENT
END:VCALENDAR
