BEGIN:VCALENDAR
PRODID:-//eluceo/ical//2.0/EN
VERSION:2.0
CALSCALE:GREGORIAN
BEGIN:VEVENT
UID:299798bfb560164e8b5358ef3f3ac41e
DTSTAMP:20260422T100324Z
SUMMARY:[männliche D-Jugend Finalspiele] CVJM Fellbach  - EK Bernhausen 1
URL:https://www.eichenkreuzliga.de/handball/game/id/10908
DTSTART:20200315T140000
DTEND:20200315T150000
LOCATION:Sporthalle\, 72138 Kirchentellinsfurt
END:VEVENT
END:VCALENDAR
