BEGIN:VCALENDAR
PRODID:-//eluceo/ical//2.0/EN
VERSION:2.0
CALSCALE:GREGORIAN
BEGIN:VEVENT
UID:b1aebab1b8841e9fa7bf285d0b67fcb7
DTSTAMP:20260422T083605Z
SUMMARY:[männliche D-Jugend Finalspiele] EK Testverein  - EK Testverein 
URL:https://www.eichenkreuzliga.de/handball/game/id/10910
DTSTART:20200315T160000
DTEND:20200315T170000
LOCATION:Sporthalle\, 72138 Kirchentellinsfurt
END:VEVENT
END:VCALENDAR
