BEGIN:VCALENDAR
PRODID:-//eluceo/ical//2.0/EN
VERSION:2.0
CALSCALE:GREGORIAN
BEGIN:VEVENT
UID:e2c0526a0c5bd5c1cee9bb58a0daaf0e
DTSTAMP:20260422T043928Z
SUMMARY:[weibliche B-Jugend Runde] EK Bernhausen  - CVJM SG Mössingen/Bels
 en 
URL:https://www.eichenkreuzliga.de/handball/game/id/10917
DTSTART:20200119T153000
DTEND:20200119T163000
LOCATION:Elisabeth-Selbert-Gymnasium Halle\, 70794 Bernhausen
END:VEVENT
END:VCALENDAR
