BEGIN:VCALENDAR
PRODID:-//eluceo/ical//2.0/EN
VERSION:2.0
CALSCALE:GREGORIAN
BEGIN:VEVENT
UID:ec89b6a0cb7713c71558f08c3d61c92d
DTSTAMP:20260422T071020Z
SUMMARY:[weibliche B-Jugend Runde] CVJM SG Mössingen/Belsen  - CVJM Hülbe
 n 
URL:https://www.eichenkreuzliga.de/handball/game/id/11059
DTSTART:20191123T143000
DTEND:20191123T153000
LOCATION:Jahnhalle 2\, 72116 Mössingen
END:VEVENT
END:VCALENDAR
