BEGIN:VCALENDAR
PRODID:-//eluceo/ical//2.0/EN
VERSION:2.0
CALSCALE:GREGORIAN
BEGIN:VEVENT
UID:1c74aeee0eeb8ed8307f6dcef549793e
DTSTAMP:20260422T122406Z
SUMMARY:[weibliche D-Jugend Runde] EK Bernhausen  - CVJM Kirchentellinsfurt
  
URL:https://www.eichenkreuzliga.de/handball/game/id/11322
DTSTART:20201114T110000
DTEND:20201114T120000
LOCATION:Elisabeth-Selbert-Gymnasium Halle\, 70794 Bernhausen
END:VEVENT
END:VCALENDAR
